{"text_format":"1","workbook":"xlsx","n_sheets":6,"sheets":["INSTRUCTIVO","SOLICITUD-DATOS SOC","SOCIOS","NO SOCIOS","I M P R I M I R","BD-RP"],"not_rendered":{"charts":0,"images":0,"macros":1,"external_links":0,"defined_names":1,"comments":0,"pivot_tables":0},"unopened":[],"bounds":{"document_bytes":16777216,"sheet_cells":100000,"rows_first":2000,"rows_last":500,"rows_between":2000,"halvings":0,"cell_chars":16384,"cell_head_chars":4096},"cells_cut":0,"cells_raw":0,"read":"whole","date_system":"1900"}

{"sheet":"INSTRUCTIVO","index":0,"n_rows":7,"n_cols":2,"rows_kept":7,"cut":false,"hidden":false,"merged":[[0,0,0,7],[4,1,4,7],[3,1,3,7],[6,1,6,7],[5,1,5,7],[2,1,2,7]]}
["INSTRUCCIONES DE LLENADO -POR FAVOR SEGUIR EL ORDEN-"]
[]
[1,"GUARDAR ARCHIVO:  ELEGIR LA OPCIÓN \"GUARDAR COMO\" PONER NOMBRE DE LA SOCIEDAD Y ELEGIR COMO TIPO: \"ARCHIVO EXCEL HABILITADO PARA MACRO\"."]
[{"$f":"+A3+1","v":2},"POSICIONARSE EN SOLAPA \"SOLICITUD-DATOS SOC\", Y COMPLETAR DATOS."]
[{"$f":"+A4+1","v":3},"POSICIONARSE EN SOLAPA \"SOCIOS\", Y COMPLETAR DATOS SEGÚN SEA SOCIOS HUMANO/S O PERSONA/S. JURÍDICA."]
[4,"POSICIONARSE EN SOLAPA \"NO SOCIOS\". Para el caso que exista miembros de los órganos de representación, administración y/o fiscalización que NO sean SOCIOS."]
[5,"POSICIONARSE EN SOLAPA \"IMPRIMIR\". DEBE PRESIONAR PRIMERO LOS BOTONES UNO (1º) Y DOS (2º), ANTES DEL DE IMPRIMIR."]

{"sheet":"SOLICITUD-DATOS SOC","index":1,"n_rows":38,"n_cols":5,"rows_kept":38,"cut":false,"hidden":false,"merged":[[9,3,9,4],[10,3,10,4],[11,3,11,4],[12,3,12,4],[13,3,13,4],[28,3,28,4],[29,3,30,3],[29,4,30,4],[28,0,30,0],[28,1,30,1],[28,2,30,2],[6,2,8,2],[2,0,2,4],[3,3,3,4],[3,0,3,2],[1,0,1,4],[6,3,8,4],[6,0,8,0],[6,1,8,1]]}
[" FORMULARIO SC/RPC –ACT. MAYO/2016-"]
["(COMPLETAR CELDAS CON FONDO VERDE)"]
["REGISTRO PÚBLICO DE COMERCIO, TRIBUNAL SUPERIOR DE JUSTICIA DE LA PROVINCIA DE SANTA CRUZ"]
["NOMBRE DE LA SOCIEDAD:"]
[null,"FECHA:"]
["ANEXO I (GESTIÓN/TRÁMITE)       "]
["FORM.","APELLIDO/s DEL GESTIONANTE","NOMBRE/s DEL DEL GESTIONANTE","DATOS (en caso de ser ESCRIBANO/ABOG. SOLO INDICAR TRAMITE QUE INICIA)"]
[]
[]
[]
[]
[]
[]
[]
[null,null,null,null,"COMPLETAR"]
[null,null,null,"CONCEPTO"]
[null,null,null,null,"-EN MAYUSCULA -"]
["I",null,null,"TRAMITE QUE SE INICIA:"]
["I",{"$f":"+B18","v":0},{"$f":"+C18","v":0},"DOC. IDENTIDAD –sin puntos-: ……………………"]
["I",{"$f":"+B19","v":0},{"$f":"+C19","v":0},"CUIT/CUIL –sin puntos ni barras-:"]
["I",0,0,"FECHA DE NACIMIENTO –dd/mm/aa-:"]
["I",0,0,"LUGAR DE NACIMIENTO:"]
["I",0,0,"NACIONALIDAD:"]
["I",0,0,"PROFESIÓN:"]
["I",0,0,"DOMICILIO REAL:"]
["I",0,0,"CEL/TEL –sin puntos ni barras-:"]
["I",0,0,"EMAIL:"]
["ANEXO II -DATOS DE LA SOCIEDAD-"]
["FORM.","NOMBRE SOCIEDAD","NOMBRE SOCIEDAD","DATOS"]
[null,null,null,"CONCEPTO","COMPLETAR -EN MAYUSCULA -"]
[]
["II",{"$f":"$D$4","v":0},0,"CUIT -sin puntos ni barras-:"]
["II",0,0,"DOMICILIO SOCIAL:"]
["II",0,0,"DIRECCION SEDE SOCIAL:"]
["III.CST",0,0,"CAPITAL SOCIAL:"]
["III.Q",0,0,"TOTAL DE CUOTAS PARTES/ACCIONES:"]
["II",0,0,"CEL/TEL (de administración) --sin puntos ni barras-:"]
["II",0,0,"EMAIL (de administración) -sin puntos ni barras-:"]

{"sheet":"SOCIOS","index":2,"n_rows":337,"n_cols":10,"rows_kept":337,"cut":false,"hidden":false,"merged":[[7,8,7,10],[8,8,8,10],[9,9,9,10],[1,0,1,4],[2,0,2,4],[3,0,3,2],[3,3,3,4],[6,8,6,9]]}
[{"$f":"+'SOLICITUD-DATOS SOC'!A1","v":" FORMULARIO SC/RPC –ACT. MAYO/2016-"}]
["(COMPLETAR CELDAS CON FONDO VERDE)"]
["REGISTRO PÚBLICO DE COMERCIO, TRIBUNAL SUPERIOR DE JUSTICIA DE LA PROVINCIA DE SANTA CRUZ"]
["NOMBRE DE LA SOCIEDAD:",null,null,{"$f":"+'SOLICITUD-DATOS SOC'!D4:E4","v":0}]
[null,"FECHA:",{"$f":"+'SOLICITUD-DATOS SOC'!C5","v":"00:00:00"}]
["ANEXO VII.A DATOS SOCIOS PERSONAS HUMANAS",null,null,null,null,null,"ANEXO VII.B SOCIOS PERSONAS JURÍDICAS"]
["FORM.","APELLIDO/s DEL SOCIO","NOMBRE/s DEL SOCIO","DATOS",null,null,"FORM.","RAZON SOCIAL/DENOMINACIÓN SOCIO PERSONA JURÍDICA","DATOS"]
[]
[]
[null,null,null,null,null,null,null,null,null,"XX SA"]
[]
[]
[null,null,null,null,"COMPLETAR"]
[null,null,null,"CONCEPTO"]
[null,null,null,null,"-EN MAYUSCULA -"]
["VII.A",null,null,"DOC. IDENTIDAD –sin puntos-: ……………………",null,null,"VII.B",null,"CUIT –sin puntos ni barras-:"]
["VII.A",{"$f":"+B16","v":0},{"$f":"+C16","v":0},"CUIT/CUIL –sin puntos ni barras-:",null,null,"VII.B",{"$f":"+H16","v":0},"TIPO DE PERSONA JCA -sociedad, asociación, mutual, etc-:"]
["VII.A",{"$f":"+B17","v":0},{"$f":"+C17","v":0},"FECHA DE NACIMIENTO –dd/mm/aa-:",null,null,"VII.B",{"$f":"+H17","v":0},"ORGANISMO /s DONDE SE INSCRIBIÓ CONSTITUCIÓN:"]
["VII.A",0,0,"LUGAR DE NACIMIENTO:",null,null,"VII.B",0,"DATOS DE RESOLUCIÓN/OTROS INSCRIPCIÓN:"]
["VII.A",0,0,"NACIONALIDAD:",null,null,"VII.B",0,"FECHA DE INSCRIPCIÓN:"]
["VII.A",0,0,"PROFESIÓN:",null,null,"VII.B",0,"LUGAR DE INSCRIPCIÓN:"]
["VII.A",0,0,"DOMICILIO REAL:",null,null,"VII.B",0,"DOMICILIOS SOCIAL:"]
["VII.A",0,0,"CEL/TEL –sin puntos ni barras-:",null,null,"VII.B",0,"SEDE SOCIAL:"]
["VII.A",0,0,"EMAIL:",null,null,"VII.B",0,"TEL/CEL –sin puntos ni barras-:"]
["VII.A",0,0,"ESTADO CIVIL:",null,null,"VII.B",0,"EMAIL:"]
["VII.A",0,0,"APELLIDO/S CÓNYUGE:",null,null,"III.Q",0,"NROS DE ACCIONES/CUOTAS TITULAR:"]
["VII.A",0,0,"NOMBRE/S CÓNYUGE",null,null,"III.%",0,"PARTICIPACIÓN S/CAPITAL (%):"]
["VII.A",0,0,"DOC. IDENTIDAD (cónyuge) –sin puntos ni barras-: ",null,null,"III.CS",0,"CAPITAL SUSCRIPTO:"]
["III.Q",0,0,"NROS DE ACCIONES/CUOTAS TITULAR:",null,null,"III.CI",0,"CAPITAL INTEGRADO:"]
["III.%",0,0,"PARTICIPACIÓN S/CAPITAL (%):",null,null,"III",0,"¿SOCIO/ACC. FUNDADOR? -SI/NO-:"]
["III.CS",0,0,"CAPITAL SUSCRIPTO:",null,null,"III",0,"NOMBRE/S Y APLELLIDO/S DE QUIEN/ES ES CEDENTE:"]
["III.CI",0,0,"CAPITAL INTEGRADO:",null,null,"VII.B",0,"NOTA/OBSERVACIÓN."]
["III",0,0,"¿SOCIO/ACC. FUNDADOR? -SI/NO-::",null,null,"VII.B",null,"CUIT –sin puntos ni barras-:"]
["III",0,0,"NOMBRE/S Y APLELLIDO/S DE QUIEN/ES ES CEDENTE:",null,null,"VII.B",{"$f":"+H33","v":0},"TIPO DE PERSONA JCA -sociedad, asociación, mutual, etc-:"]
["IV",0,0,"NOMBRE CARGO REP. LEGAL QUE OCUPA:",null,null,"VII.B",0,"ORGANISMO /s DONDE SE INSCRIBIÓ CONSTITUCIÓN:"]
["V",0,0,"NOMBRE CARGO ADMINISTRACIÓN QUE OCUPA:",null,null,"VII.B",0,"DATOS DE RESOLUCIÓN/OTROS INSCRIPCIÓN:"]
["VI",0,0,"NOMBRE CARGO FISCALIZACIÓN QUE OCUPA:",null,null,"VII.B",0,"FECHA DE INSCRIPCIÓN:"]
["III",0,0,"NOTA/OBSERVACIÓN.",null,null,"VII.B",0,"LUGAR DE INSCRIPCIÓN:"]
["VII.A",null,null,"DOC. IDENTIDAD –sin puntos-: ……………………",null,null,"VII.B",0,"DOMICILIOS SOCIAL:"]
["VII.A",{"$f":"+B39","v":0},{"$f":"+C39","v":0},"CUIT/CUIL –sin puntos ni barras-:",null,null,"VII.B",0,"SEDE SOCIAL:"]
["VII.A",0,0,"FECHA DE NACIMIENTO –dd/mm/aa-:",null,null,"VII.B",0,"TEL/CEL –sin puntos ni barras-:"]
["VII.A",0,0,"LUGAR DE NACIMIENTO:",null,null,"VII.B",0,"EMAIL:"]
["VII.A",0,0,"NACIONALIDAD:",null,null,"III.Q",0,"NROS DE ACCIONES/CUOTAS TITULAR:"]
["VII.A",0,0,"PROFESIÓN:",null,null,"III.%",0,"PARTICIPACIÓN S/CAPITAL (%):"]
["VII.A",0,0,"DOMICILIO REAL:",null,null,"III.CS",0,"CAPITAL SUSCRIPTO:"]
["VII.A",0,0,"CEL/TEL –sin puntos ni barras-:",null,null,"III.CI",0,"CAPITAL INTEGRADO:"]
["VII.A",0,0,"EMAIL:",null,null,"III",0,"¿SOCIO/ACC. FUNDADOR? -SI/NO-:"]
["VII.A",0,0,"ESTADO CIVIL:",null,null,"III",0,"NOMBRE/S Y APLELLIDO/S DE QUIEN/ES ES CEDENTE:"]
["VII.A",0,0,"APELLIDO/S CÓNYUGE:",null,null,"VII.B",0,"NOTA/OBSERVACIÓN."]
["VII.A",0,0,"NOMBRE/S CÓNYUGE",null,null,"VII.B",null,"CUIT –sin puntos ni barras-:"]
["VII.A",0,0,"DOC. IDENTIDAD (cónyuge) –sin puntos ni barras-: ",null,null,"VII.B",{"$f":"+H50","v":0},"TIPO DE PERSONA JCA -sociedad, asociación, mutual, etc-:"]
["III.Q",0,0,"NROS DE ACCIONES/CUOTAS TITULAR:",null,null,"VII.B",0,"ORGANISMO /s DONDE SE INSCRIBIÓ CONSTITUCIÓN:"]
["III.%",0,0,"PARTICIPACIÓN S/CAPITAL (%):",null,null,"VII.B",0,"DATOS DE RESOLUCIÓN/OTROS INSCRIPCIÓN:"]
["III.CS",0,0,"CAPITAL SUSCRIPTO:",null,null,"VII.B",0,"FECHA DE INSCRIPCIÓN:"]
["III.CI",0,0,"CAPITAL INTEGRADO:",null,null,"VII.B",0,"LUGAR DE INSCRIPCIÓN:"]
["III",0,0,"¿SOCIO/ACC. FUNDADOR? -SI/NO-:",null,null,"VII.B",0,"DOMICILIOS SOCIAL:"]
["III",0,0,"NOMBRE/S Y APLELLIDO/S DE QUIEN/ES ES CEDENTE:",null,null,"VII.B",0,"SEDE SOCIAL:"]
["IV",0,0,"NOMBRE CARGO REP. LEGAL QUE OCUPA:",null,null,"VII.B",0,"TEL/CEL –sin puntos ni barras-:"]
["V",0,0,"NOMBRE CARGO ADMINISTRACIÓN QUE OCUPA:",null,null,"VII.B",0,"EMAIL:"]
["VI",0,0,"NOMBRE CARGO FISCALIZACIÓN QUE OCUPA:",null,null,"III.Q",0,"NROS DE ACCIONES/CUOTAS TITULAR:"]
["III",0,0,"NOTA/OBSERVACIÓN.",null,null,"III.%",0,"PARTICIPACIÓN S/CAPITAL (%):"]
["VII.A",null,null,"DOC. IDENTIDAD –sin puntos-: ……………………",null,null,"III.CS",0,"CAPITAL SUSCRIPTO:"]
["VII.A",0,0,"CUIT/CUIL –sin puntos ni barras-:",null,null,"III.CI",0,"CAPITAL INTEGRADO:"]
["VII.A",0,0,"FECHA DE NACIMIENTO –dd/mm/aa-:",null,null,"III",0,"¿SOCIO/ACC. FUNDADOR? -SI/NO-:"]
["VII.A",0,0,"LUGAR DE NACIMIENTO:",null,null,"III",0,"NOMBRE/S Y APLELLIDO/S DE QUIEN/ES ES CEDENTE:"]
["VII.A",0,0,"NACIONALIDAD:",null,null,"VII.B",0,"NOTA/OBSERVACIÓN."]
["VII.A",0,0,"PROFESIÓN:",null,null,"VII.B",null,"CUIT –sin puntos ni barras-:"]
["VII.A",0,0,"DOMICILIO REAL:",null,null,"VII.B",{"$f":"+H67","v":0},"TIPO DE PERSONA JCA -sociedad, asociación, mutual, etc-:"]
["VII.A",0,0,"CEL/TEL –sin puntos ni barras-:",null,null,"VII.B",0,"ORGANISMO /s DONDE SE INSCRIBIÓ CONSTITUCIÓN:"]
["VII.A",0,0,"EMAIL:",null,null,"VII.B",0,"DATOS DE RESOLUCIÓN/OTROS INSCRIPCIÓN:"]
["VII.A",0,0,"ESTADO CIVIL:",null,null,"VII.B",0,"FECHA DE INSCRIPCIÓN:"]
["VII.A",0,0,"APELLIDO/S CÓNYUGE:",null,null,"VII.B",0,"LUGAR DE INSCRIPCIÓN:"]
["VII.A",0,0,"NOMBRE/S CÓNYUGE",null,null,"VII.B",0,"DOMICILIOS SOCIAL:"]
["VII.A",0,0,"DOC. IDENTIDAD (cónyuge) –sin puntos ni barras-: ",null,null,"VII.B",0,"SEDE SOCIAL:"]
["III.Q",0,0,"NROS DE ACCIONES/CUOTAS TITULAR:",null,null,"VII.B",0,"TEL/CEL –sin puntos ni barras-:"]
["III.%",0,0,"PARTICIPACIÓN S/CAPITAL (%):",null,null,"VII.B",0,"EMAIL:"]
["III.CS",0,0,"CAPITAL SUSCRIPTO:",null,null,"III.Q",0,"NROS DE ACCIONES/CUOTAS TITULAR:"]
["III.CI",0,0,"CAPITAL INTEGRADO:",null,null,"III.%",0,"PARTICIPACIÓN S/CAPITAL (%):"]
["III",0,0,"¿SOCIO/ACC. FUNDADOR? -SI/NO-:",null,null,"III.CS",0,"CAPITAL SUSCRIPTO:"]
["III",0,0,"NOMBRE/S Y APLELLIDO/S DE QUIEN/ES ES CEDENTE:",null,null,"III.CI",0,"CAPITAL INTEGRADO:"]
["IV",0,0,"NOMBRE CARGO REP. LEGAL QUE OCUPA:",null,null,"III",0,"¿SOCIO/ACC. FUNDADOR? -SI/NO-:"]
["V",0,0,"NOMBRE CARGO ADMINISTRACIÓN QUE OCUPA:",null,null,"III",{"$f":"+H81","v":0},"NOMBRE/S Y APLELLIDO/S DE QUIEN/ES ES CEDENTE:"]
["VI",0,0,"NOMBRE CARGO FISCALIZACIÓN QUE OCUPA:",null,null,"VII.B",0,"NOTA/OBSERVACIÓN."]
["III",0,0,"NOTA/OBSERVACIÓN.",null,null,"VII.B",null,"CUIT –sin puntos ni barras-:"]
["VII.A",null,null,"DOC. IDENTIDAD –sin puntos-: ……………………",null,null,"VII.B",{"$f":"+H84","v":0},"TIPO DE PERSONA JCA -sociedad, asociación, mutual, etc-:"]
["VII.A",0,0,"CUIT/CUIL –sin puntos ni barras-:",null,null,"VII.B",{"$f":"+H85","v":0},"ORGANISMO /s DONDE SE INSCRIBIÓ CONSTITUCIÓN:"]
["VII.A",0,0,"FECHA DE NACIMIENTO –dd/mm/aa-:",null,null,"VII.B",0,"DATOS DE RESOLUCIÓN/OTROS INSCRIPCIÓN:"]
["VII.A",0,0,"LUGAR DE NACIMIENTO:",null,null,"VII.B",0,"FECHA DE INSCRIPCIÓN:"]
["VII.A",0,0,"NACIONALIDAD:",null,null,"VII.B",0,"LUGAR DE INSCRIPCIÓN:"]
["VII.A",0,0,"PROFESIÓN:",null,null,"VII.B",0,"DOMICILIOS SOCIAL:"]
["VII.A",0,0,"DOMICILIO REAL:",null,null,"VII.B",0,"SEDE SOCIAL:"]
["VII.A",0,0,"CEL/TEL –sin puntos ni barras-:",null,null,"VII.B",0,"TEL/CEL –sin puntos ni barras-:"]
["VII.A",0,0,"EMAIL:",null,null,"VII.B",0,"EMAIL:"]
["VII.A",0,0,"ESTADO CIVIL:",null,null,"III.Q",0,"NROS DE ACCIONES/CUOTAS TITULAR:"]
["VII.A",0,0,"APELLIDO/S CÓNYUGE:",null,null,"III.%",0,"PARTICIPACIÓN S/CAPITAL (%):"]
["VII.A",0,0,"NOMBRE/S CÓNYUGE",null,null,"III.CS",0,"CAPITAL SUSCRIPTO:"]
["VII.A",0,0,"DOC. IDENTIDAD (cónyuge) –sin puntos ni barras-: ",null,null,"III.CI",0,"CAPITAL INTEGRADO:"]
["III.Q",0,0,"NROS DE ACCIONES/CUOTAS TITULAR:",null,null,"III",0,"¿SOCIO/ACC. FUNDADOR? -SI/NO-:"]
["III.%",0,0,"PARTICIPACIÓN S/CAPITAL (%):",null,null,"III",0,"NOMBRE/S Y APLELLIDO/S DE QUIEN/ES ES CEDENTE:"]
["III.CS",0,0,"CAPITAL SUSCRIPTO:",null,null,"VII.B",0,"NOTA/OBSERVACIÓN."]
["III.CI",0,0,"CAPITAL INTEGRADO:",null,null,"VII.B",null,"CUIT –sin puntos ni barras-:"]
["III",0,0,"¿SOCIO/ACC. FUNDADOR? -SI/NO-:",null,null,"VII.B",{"$f":"+H101","v":0},"TIPO DE PERSONA JCA -sociedad, asociación, mutual, etc-:"]
["III",0,0,"NOMBRE/S Y APLELLIDO/S DE QUIEN/ES ES CEDENTE:",null,null,"VII.B",{"$f":"+H102","v":0},"ORGANISMO /s DONDE SE INSCRIBIÓ CONSTITUCIÓN:"]
["IV",{"$f":"+B103","v":0},{"$f":"+C103","v":0},"NOMBRE CARGO REP. LEGAL QUE OCUPA:",null,null,"VII.B",0,"DATOS DE RESOLUCIÓN/OTROS INSCRIPCIÓN:"]
["V",0,0,"NOMBRE CARGO ADMINISTRACIÓN QUE OCUPA:",null,null,"VII.B",0,"FECHA DE INSCRIPCIÓN:"]
["VI",0,0,"NOMBRE CARGO FISCALIZACIÓN QUE OCUPA:",null,null,"VII.B",0,"LUGAR DE INSCRIPCIÓN:"]
["III",0,0,"NOTA/OBSERVACIÓN.",null,null,"VII.B",0,"DOMICILIOS SOCIAL:"]
["VII.A",null,null,"DOC. IDENTIDAD –sin puntos-: ……………………",null,null,"VII.B",0,"SEDE SOCIAL:"]
["VII.A",0,0,"CUIT/CUIL –sin puntos ni barras-:",null,null,"VII.B",0,"TEL/CEL –sin puntos ni barras-:"]
["VII.A",0,0,"FECHA DE NACIMIENTO –dd/mm/aa-:",null,null,"VII.B",0,"EMAIL:"]
["VII.A",0,0,"LUGAR DE NACIMIENTO:",null,null,"III.Q",0,"NROS DE ACCIONES/CUOTAS TITULAR:"]
["VII.A",0,0,"NACIONALIDAD:",null,null,"III.%",0,"PARTICIPACIÓN S/CAPITAL (%):"]
["VII.A",0,0,"PROFESIÓN:",null,null,"III.CS",0,"CAPITAL SUSCRIPTO:"]
["VII.A",0,0,"DOMICILIO REAL:",null,null,"III.CI",0,"CAPITAL INTEGRADO:"]
["VII.A",0,0,"CEL/TEL –sin puntos ni barras-:",null,null,"III",0,"¿SOCIO/ACC. FUNDADOR? -SI/NO-:"]
["VII.A",0,0,"EMAIL:",null,null,"III",0,"NOMBRE/S Y APLELLIDO/S DE QUIEN/ES ES CEDENTE:"]
["VII.A",0,0,"ESTADO CIVIL:",null,null,"VII.B",0,"NOTA/OBSERVACIÓN."]
["VII.A",0,0,"APELLIDO/S CÓNYUGE:",null,null,"VII.B",null,"CUIT –sin puntos ni barras-:"]
["VII.A",0,0,"NOMBRE/S CÓNYUGE",null,null,"VII.B",{"$f":"+H118","v":0},"TIPO DE PERSONA JCA -sociedad, asociación, mutual, etc-:"]
["VII.A",0,0,"DOC. IDENTIDAD (cónyuge) –sin puntos ni barras-: ",null,null,"VII.B",{"$f":"+H119","v":0},"ORGANISMO /s DONDE SE INSCRIBIÓ CONSTITUCIÓN:"]
["III.Q",0,0,"NROS DE ACCIONES/CUOTAS TITULAR:",null,null,"VII.B",0,"DATOS DE RESOLUCIÓN/OTROS INSCRIPCIÓN:"]
["III.%",0,0,"PARTICIPACIÓN S/CAPITAL (%):",null,null,"VII.B",0,"FECHA DE INSCRIPCIÓN:"]
["III.CS",0,0,"CAPITAL SUSCRIPTO:",null,null,"VII.B",0,"LUGAR DE INSCRIPCIÓN:"]
["III.CI",0,0,"CAPITAL INTEGRADO:",null,null,"VII.B",0,"DOMICILIOS SOCIAL:"]
["III",0,0,"¿SOCIO/ACC. FUNDADOR? -SI/NO-:",null,null,"VII.B",0,"SEDE SOCIAL:"]
["III",0,0,"NOMBRE/S Y APLELLIDO/S DE QUIEN/ES ES CEDENTE:",null,null,"VII.B",0,"TEL/CEL –sin puntos ni barras-:"]
["IV",0,0,"NOMBRE CARGO REP. LEGAL QUE OCUPA:",null,null,"VII.B",0,"EMAIL:"]
["V",0,0,"NOMBRE CARGO ADMINISTRACIÓN QUE OCUPA:",null,null,"III.Q",0,"NROS DE ACCIONES/CUOTAS TITULAR:"]
["VI",0,0,"NOMBRE CARGO FISCALIZACIÓN QUE OCUPA:",null,null,"III.%",0,"PARTICIPACIÓN S/CAPITAL (%):"]
["III",0,0,"NOTA/OBSERVACIÓN.",null,null,"III.CS",0,"CAPITAL SUSCRIPTO:"]
["VII.A",null,null,"DOC. IDENTIDAD –sin puntos-: ……………………",null,null,"III.CI",0,"CAPITAL INTEGRADO:"]
["VII.A",0,0,"CUIT/CUIL –sin puntos ni barras-:",null,null,"III",0,"¿SOCIO/ACC. FUNDADOR? -SI/NO-:"]
["VII.A",0,0,"FECHA DE NACIMIENTO –dd/mm/aa-:",null,null,"III",0,"NOMBRE/S Y APLELLIDO/S DE QUIEN/ES ES CEDENTE:"]
["VII.A",0,0,"LUGAR DE NACIMIENTO:",null,null,"VII.B",0,"NOTA/OBSERVACIÓN."]
["VII.A",0,0,"NACIONALIDAD:",null,null,"VII.B",null,"CUIT –sin puntos ni barras-:"]
["VII.A",0,0,"PROFESIÓN:",null,null,"VII.B",{"$f":"+H135","v":0},"TIPO DE PERSONA JCA -sociedad, asociación, mutual, etc-:"]
["VII.A",0,0,"DOMICILIO REAL:",null,null,"VII.B",{"$f":"+H136","v":0},"ORGANISMO /s DONDE SE INSCRIBIÓ CONSTITUCIÓN:"]
["VII.A",0,0,"CEL/TEL –sin puntos ni barras-:",null,null,"VII.B",0,"DATOS DE RESOLUCIÓN/OTROS INSCRIPCIÓN:"]
["VII.A",0,0,"EMAIL:",null,null,"VII.B",0,"FECHA DE INSCRIPCIÓN:"]
["VII.A",0,0,"ESTADO CIVIL:",null,null,"VII.B",0,"LUGAR DE INSCRIPCIÓN:"]
["VII.A",0,0,"APELLIDO/S CÓNYUGE:",null,null,"VII.B",0,"DOMICILIOS SOCIAL:"]
["VII.A",0,0,"NOMBRE/S CÓNYUGE",null,null,"VII.B",0,"SEDE SOCIAL:"]
["VII.A",0,0,"DOC. IDENTIDAD (cónyuge) –sin puntos ni barras-: ",null,null,"VII.B",0,"TEL/CEL –sin puntos ni barras-:"]
["III.Q",0,0,"NROS DE ACCIONES/CUOTAS TITULAR:",null,null,"VII.B",0,"EMAIL:"]
["III.%",0,0,"PARTICIPACIÓN S/CAPITAL (%):",null,null,"III.Q",0,"NROS DE ACCIONES/CUOTAS TITULAR:"]
["III.CS",0,0,"CAPITAL SUSCRIPTO:",null,null,"III.%",0,"PARTICIPACIÓN S/CAPITAL (%):"]
["III.CI",0,0,"CAPITAL INTEGRADO:",null,null,"III.CS",0,"CAPITAL SUSCRIPTO:"]
["III",0,0,"¿SOCIO/ACC. FUNDADOR? -SI/NO-:",null,null,"III.CI",0,"CAPITAL INTEGRADO:"]
["III",0,0,"NOMBRE/S Y APLELLIDO/S DE QUIEN/ES ES CEDENTE:",null,null,"III",0,"¿SOCIO/ACC. FUNDADOR? -SI/NO-:"]
["IV",0,0,"NOMBRE CARGO REP. LEGAL QUE OCUPA:",null,null,"III",0,"NOMBRE/S Y APLELLIDO/S DE QUIEN/ES ES CEDENTE:"]
["V",0,0,"NOMBRE CARGO ADMINISTRACIÓN QUE OCUPA:",null,null,"VII.B",0,"NOTA/OBSERVACIÓN."]
["VI",0,0,"NOMBRE CARGO FISCALIZACIÓN QUE OCUPA:",null,null,"VII.B",null,"CUIT –sin puntos ni barras-:"]
["III",0,0,"NOTA/OBSERVACIÓN.",null,null,"VII.B",{"$f":"+H152","v":0},"TIPO DE PERSONA JCA -sociedad, asociación, mutual, etc-:"]
["VII.A",null,null,"DOC. IDENTIDAD –sin puntos-: ……………………",null,null,"VII.B",{"$f":"+H153","v":0},"ORGANISMO /s DONDE SE INSCRIBIÓ CONSTITUCIÓN:"]
["VII.A",0,0,"CUIT/CUIL –sin puntos ni barras-:",null,null,"VII.B",0,"DATOS DE RESOLUCIÓN/OTROS INSCRIPCIÓN:"]
["VII.A",0,0,"FECHA DE NACIMIENTO –dd/mm/aa-:",null,null,"VII.B",0,"FECHA DE INSCRIPCIÓN:"]
["VII.A",0,0,"LUGAR DE NACIMIENTO:",null,null,"VII.B",0,"LUGAR DE INSCRIPCIÓN:"]
["VII.A",0,0,"NACIONALIDAD:",null,null,"VII.B",0,"DOMICILIOS SOCIAL:"]
["VII.A",0,0,"PROFESIÓN:",null,null,"VII.B",0,"SEDE SOCIAL:"]
["VII.A",0,0,"DOMICILIO REAL:",null,null,"VII.B",0,"TEL/CEL –sin puntos ni barras-:"]
["VII.A",0,0,"CEL/TEL –sin puntos ni barras-:",null,null,"VII.B",0,"EMAIL:"]
["VII.A",0,0,"EMAIL:",null,null,"III.Q",0,"NROS DE ACCIONES/CUOTAS TITULAR:"]
["VII.A",0,0,"ESTADO CIVIL:",null,null,"III.%",0,"PARTICIPACIÓN S/CAPITAL (%):"]
["VII.A",0,0,"APELLIDO/S CÓNYUGE:",null,null,"III.CS",0,"CAPITAL SUSCRIPTO:"]
["VII.A",0,0,"NOMBRE/S CÓNYUGE",null,null,"III.CI",0,"CAPITAL INTEGRADO:"]
["VII.A",0,0,"DOC. IDENTIDAD (cónyuge) –sin puntos ni barras-: ",null,null,"III",0,"¿SOCIO/ACC. FUNDADOR? -SI/NO-:"]
["III.Q",0,0,"NROS DE ACCIONES/CUOTAS TITULAR:",null,null,"III",0,"NOMBRE/S Y APLELLIDO/S DE QUIEN/ES ES CEDENTE:"]
["III.%",{"$f":"+B167","v":0},{"$f":"+C167","v":0},"PARTICIPACIÓN S/CAPITAL (%):",null,null,"VII.B",0,"NOTA/OBSERVACIÓN."]
["III.CS",0,0,"CAPITAL SUSCRIPTO:",null,null,"VII.B",null,"CUIT –sin puntos ni barras-:"]
["III.CI",0,0,"CAPITAL INTEGRADO:",null,null,"VII.B",{"$f":"+H169","v":0},"TIPO DE PERSONA JCA -sociedad, asociación, mutual, etc-:"]
["III",0,0,"¿SOCIO/ACC. FUNDADOR? -SI/NO-:",null,null,"VII.B",{"$f":"+H170","v":0},"ORGANISMO /s DONDE SE INSCRIBIÓ CONSTITUCIÓN:"]
["III",0,0,"NOMBRE/S Y APLELLIDO/S DE QUIEN/ES ES CEDENTE:",null,null,"VII.B",0,"DATOS DE RESOLUCIÓN/OTROS INSCRIPCIÓN:"]
["IV",0,0,"NOMBRE CARGO REP. LEGAL QUE OCUPA:",null,null,"VII.B",0,"FECHA DE INSCRIPCIÓN:"]
["V",0,0,"NOMBRE CARGO ADMINISTRACIÓN QUE OCUPA:",null,null,"VII.B",0,"LUGAR DE INSCRIPCIÓN:"]
["VI",0,0,"NOMBRE CARGO FISCALIZACIÓN QUE OCUPA:",null,null,"VII.B",0,"DOMICILIOS SOCIAL:"]
["III",0,0,"NOTA/OBSERVACIÓN.",null,null,"VII.B",0,"SEDE SOCIAL:"]
["VII.A",null,null,"DOC. IDENTIDAD –sin puntos-: ……………………",null,null,"VII.B",0,"TEL/CEL –sin puntos ni barras-:"]
["VII.A",0,0,"CUIT/CUIL –sin puntos ni barras-:",null,null,"VII.B",0,"EMAIL:"]
["VII.A",0,0,"FECHA DE NACIMIENTO –dd/mm/aa-:",null,null,"III.Q",0,"NROS DE ACCIONES/CUOTAS TITULAR:"]
["VII.A",0,0,"LUGAR DE NACIMIENTO:",null,null,"III.%",0,"PARTICIPACIÓN S/CAPITAL (%):"]
["VII.A",0,0,"NACIONALIDAD:",null,null,"III.CS",0,"CAPITAL SUSCRIPTO:"]
["VII.A",0,0,"PROFESIÓN:",null,null,"III.CI",0,"CAPITAL INTEGRADO:"]
["VII.A",0,0,"DOMICILIO REAL:",null,null,"III",0,"¿SOCIO/ACC. FUNDADOR? -SI/NO-:"]
["VII.A",0,0,"CEL/TEL –sin puntos ni barras-:",null,null,"III",0,"NOMBRE/S Y APLELLIDO/S DE QUIEN/ES ES CEDENTE:"]
["VII.A",0,0,"EMAIL:",null,null,"VII.B",0,"NOTA/OBSERVACIÓN."]
["VII.A",0,0,"ESTADO CIVIL:"]
["VII.A",0,0,"APELLIDO/S CÓNYUGE:"]
["VII.A",0,0,"NOMBRE/S CÓNYUGE"]
["VII.A",0,0,"DOC. IDENTIDAD (cónyuge) –sin puntos ni barras-: "]
["III.Q",0,0,"NROS DE ACCIONES/CUOTAS TITULAR:"]
["III.%",0,0,"PARTICIPACIÓN S/CAPITAL (%):"]
["III.CS",0,0,"CAPITAL SUSCRIPTO:"]
["III.CI",0,0,"CAPITAL INTEGRADO:"]
["III",0,0,"¿SOCIO/ACC. FUNDADOR? -SI/NO-:"]
["III",0,0,"NOMBRE/S Y APLELLIDO/S DE QUIEN/ES ES CEDENTE:"]
["IV",0,0,"NOMBRE CARGO REP. LEGAL QUE OCUPA:"]
["V",0,0,"NOMBRE CARGO ADMINISTRACIÓN QUE OCUPA:"]
["VI",0,0,"NOMBRE CARGO FISCALIZACIÓN QUE OCUPA:"]
["III",0,0,"NOTA/OBSERVACIÓN."]
["VII.A",null,null,"DOC. IDENTIDAD –sin puntos-: ……………………"]
["VII.A",0,0,"CUIT/CUIL –sin puntos ni barras-:"]
["VII.A",0,0,"FECHA DE NACIMIENTO –dd/mm/aa-:"]
["VII.A",0,0,"LUGAR DE NACIMIENTO:"]
["VII.A",0,0,"NACIONALIDAD:"]
["VII.A",0,0,"PROFESIÓN:"]
["VII.A",0,0,"DOMICILIO REAL:"]
["VII.A",0,0,"CEL/TEL –sin puntos ni barras-:"]
["VII.A",0,0,"EMAIL:"]
["VII.A",0,0,"ESTADO CIVIL:"]
["VII.A",0,0,"APELLIDO/S CÓNYUGE:"]
["VII.A",0,0,"NOMBRE/S CÓNYUGE"]
["VII.A",0,0,"DOC. IDENTIDAD (cónyuge) –sin puntos ni barras-: "]
["III.Q",0,0,"NROS DE ACCIONES/CUOTAS TITULAR:"]
["III.%",0,0,"PARTICIPACIÓN S/CAPITAL (%):"]
["III.CS",0,0,"CAPITAL SUSCRIPTO:"]
["III.CI",0,0,"CAPITAL INTEGRADO:"]
["III",0,0,"¿SOCIO/ACC. FUNDADOR? -SI/NO-:"]
["III",0,0,"NOMBRE/S Y APLELLIDO/S DE QUIEN/ES ES CEDENTE:"]
["IV",0,0,"NOMBRE CARGO REP. LEGAL QUE OCUPA:"]
["V",0,0,"NOMBRE CARGO ADMINISTRACIÓN QUE OCUPA:"]
["VI",0,0,"NOMBRE CARGO FISCALIZACIÓN QUE OCUPA:"]
["III",0,0,"NOTA/OBSERVACIÓN."]
["VII.A",null,null,"DOC. IDENTIDAD –sin puntos-: ……………………"]
["VII.A",0,0,"CUIT/CUIL –sin puntos ni barras-:"]
["VII.A",0,0,"FECHA DE NACIMIENTO –dd/mm/aa-:"]
["VII.A",0,0,"LUGAR DE NACIMIENTO:"]
["VII.A",0,0,"NACIONALIDAD:"]
["VII.A",0,0,"PROFESIÓN:"]
["VII.A",0,0,"DOMICILIO REAL:"]
["VII.A",0,0,"CEL/TEL –sin puntos ni barras-:"]
["VII.A",0,0,"EMAIL:"]
["VII.A",{"$f":"+B231","v":0},{"$f":"+C231","v":0},"ESTADO CIVIL:"]
["VII.A",0,0,"APELLIDO/S CÓNYUGE:"]
["VII.A",0,0,"NOMBRE/S CÓNYUGE"]
["VII.A",0,0,"DOC. IDENTIDAD (cónyuge) –sin puntos ni barras-: "]
["III.Q",0,0,"NROS DE ACCIONES/CUOTAS TITULAR:"]
["III.%",0,0,"PARTICIPACIÓN S/CAPITAL (%):"]
["III.CS",0,0,"CAPITAL SUSCRIPTO:"]
["III.CI",0,0,"CAPITAL INTEGRADO:"]
["III",0,0,"¿SOCIO/ACC. FUNDADOR? -SI/NO-:"]
["III",0,0,"NOMBRE/S Y APLELLIDO/S DE QUIEN/ES ES CEDENTE:"]
["IV",0,0,"NOMBRE CARGO REP. LEGAL QUE OCUPA:"]
["V",0,0,"NOMBRE CARGO ADMINISTRACIÓN QUE OCUPA:"]
["VI",0,0,"NOMBRE CARGO FISCALIZACIÓN QUE OCUPA:"]
["III",0,0,"NOTA/OBSERVACIÓN."]
["VII.A",null,null,"DOC. IDENTIDAD –sin puntos-: ……………………"]
["VII.A",0,0,"CUIT/CUIL –sin puntos ni barras-:"]
["VII.A",0,0,"FECHA DE NACIMIENTO –dd/mm/aa-:"]
["VII.A",0,0,"LUGAR DE NACIMIENTO:"]
["VII.A",0,0,"NACIONALIDAD:"]
["VII.A",0,0,"PROFESIÓN:"]
["VII.A",0,0,"DOMICILIO REAL:"]
["VII.A",0,0,"CEL/TEL –sin puntos ni barras-:"]
["VII.A",0,0,"EMAIL:"]
["VII.A",0,0,"ESTADO CIVIL:"]
["VII.A",0,0,"APELLIDO/S CÓNYUGE:"]
["VII.A",0,0,"NOMBRE/S CÓNYUGE"]
["VII.A",0,0,"DOC. IDENTIDAD (cónyuge) –sin puntos ni barras-: "]
["III.Q",0,0,"NROS DE ACCIONES/CUOTAS TITULAR:"]
["III.%",0,0,"PARTICIPACIÓN S/CAPITAL (%):"]
["III.CS",0,0,"CAPITAL SUSCRIPTO:"]
["III.CI",0,0,"CAPITAL INTEGRADO:"]
["III",0,0,"¿SOCIO/ACC. FUNDADOR? -SI/NO-:"]
["III",0,0,"NOMBRE/S Y APLELLIDO/S DE QUIEN/ES ES CEDENTE:"]
["IV",0,0,"NOMBRE CARGO REP. LEGAL QUE OCUPA:"]
["V",0,0,"NOMBRE CARGO ADMINISTRACIÓN QUE OCUPA:"]
["VI",0,0,"NOMBRE CARGO FISCALIZACIÓN QUE OCUPA:"]
["III",0,0,"NOTA/OBSERVACIÓN."]
["VII.A",null,null,"DOC. IDENTIDAD –sin puntos-: ……………………"]
["VII.A",0,0,"CUIT/CUIL –sin puntos ni barras-:"]
["VII.A",0,0,"FECHA DE NACIMIENTO –dd/mm/aa-:"]
["VII.A",0,0,"LUGAR DE NACIMIENTO:"]
["VII.A",0,0,"NACIONALIDAD:"]
["VII.A",0,0,"PROFESIÓN:"]
["VII.A",0,0,"DOMICILIO REAL:"]
["VII.A",0,0,"CEL/TEL –sin puntos ni barras-:"]
["VII.A",0,0,"EMAIL:"]
["VII.A",0,0,"ESTADO CIVIL:"]
["VII.A",0,0,"APELLIDO/S CÓNYUGE:"]
["VII.A",0,0,"NOMBRE/S CÓNYUGE"]
["VII.A",0,0,"DOC. IDENTIDAD (cónyuge) –sin puntos ni barras-: "]
["III.Q",0,0,"NROS DE ACCIONES/CUOTAS TITULAR:"]
["III.%",0,0,"PARTICIPACIÓN S/CAPITAL (%):"]
["III.CS",0,0,"CAPITAL SUSCRIPTO:"]
["III.CI",0,0,"CAPITAL INTEGRADO:"]
["III",0,0,"¿SOCIO/ACC. FUNDADOR? -SI/NO-:"]
["III",0,0,"NOMBRE/S Y APLELLIDO/S DE QUIEN/ES ES CEDENTE:"]
["IV",0,0,"NOMBRE CARGO REP. LEGAL QUE OCUPA:"]
["V",0,0,"NOMBRE CARGO ADMINISTRACIÓN QUE OCUPA:"]
["VI",0,0,"NOMBRE CARGO FISCALIZACIÓN QUE OCUPA:"]
["III",0,0,"NOTA/OBSERVACIÓN."]
["VII.A",null,null,"DOC. IDENTIDAD –sin puntos-: ……………………"]
["VII.A",0,0,"CUIT/CUIL –sin puntos ni barras-:"]
["VII.A",0,0,"FECHA DE NACIMIENTO –dd/mm/aa-:"]
["VII.A",0,0,"LUGAR DE NACIMIENTO:"]
["VII.A",{"$f":"+B295","v":0},{"$f":"+C295","v":0},"NACIONALIDAD:"]
["VII.A",0,0,"PROFESIÓN:"]
["VII.A",0,0,"DOMICILIO REAL:"]
["VII.A",0,0,"CEL/TEL –sin puntos ni barras-:"]
["VII.A",0,0,"EMAIL:"]
["VII.A",0,0,"ESTADO CIVIL:"]
["VII.A",0,0,"APELLIDO/S CÓNYUGE:"]
["VII.A",0,0,"NOMBRE/S CÓNYUGE"]
["VII.A",0,0,"DOC. IDENTIDAD (cónyuge) –sin puntos ni barras-: "]
["III.Q",0,0,"NROS DE ACCIONES/CUOTAS TITULAR:"]
["III.%",0,0,"PARTICIPACIÓN S/CAPITAL (%):"]
["III.CS",0,0,"CAPITAL SUSCRIPTO:"]
["III.CI",0,0,"CAPITAL INTEGRADO:"]
["III",0,0,"¿SOCIO/ACC. FUNDADOR? -SI/NO-:"]
["III",0,0,"NOMBRE/S Y APLELLIDO/S DE QUIEN/ES ES CEDENTE:"]
["IV",0,0,"NOMBRE CARGO REP. LEGAL QUE OCUPA:"]
["V",0,0,"NOMBRE CARGO ADMINISTRACIÓN QUE OCUPA:"]
["VI",0,0,"NOMBRE CARGO FISCALIZACIÓN QUE OCUPA:"]
["III",0,0,"NOTA/OBSERVACIÓN."]
["VII.A",null,null,"DOC. IDENTIDAD –sin puntos-: ……………………"]
["VII.A",0,0,"CUIT/CUIL –sin puntos ni barras-:"]
["VII.A",0,0,"FECHA DE NACIMIENTO –dd/mm/aa-:"]
["VII.A",0,0,"LUGAR DE NACIMIENTO:"]
["VII.A",0,0,"NACIONALIDAD:"]
["VII.A",0,0,"PROFESIÓN:"]
["VII.A",0,0,"DOMICILIO REAL:"]
["VII.A",0,0,"CEL/TEL –sin puntos ni barras-:"]
["VII.A",0,0,"EMAIL:"]
["VII.A",0,0,"ESTADO CIVIL:"]
["VII.A",0,0,"APELLIDO/S CÓNYUGE:"]
["VII.A",0,0,"NOMBRE/S CÓNYUGE"]
["VII.A",0,0,"DOC. IDENTIDAD (cónyuge) –sin puntos ni barras-: "]
["III.Q",0,0,"NROS DE ACCIONES/CUOTAS TITULAR:"]
["III.%",0,0,"PARTICIPACIÓN S/CAPITAL (%):"]
["III.CS",0,0,"CAPITAL SUSCRIPTO:"]
["III.CI",0,0,"CAPITAL INTEGRADO:"]
["III",0,0,"¿SOCIO/ACC. FUNDADOR? -SI/NO-:"]
["III",0,0,"NOMBRE/S Y APLELLIDO/S DE QUIEN/ES ES CEDENTE:"]
["IV",0,0,"NOMBRE CARGO REP. LEGAL QUE OCUPA:"]
["V",0,0,"NOMBRE CARGO ADMINISTRACIÓN QUE OCUPA:"]
["VI",0,0,"NOMBRE CARGO FISCALIZACIÓN QUE OCUPA:"]
["III",0,0,"NOTA/OBSERVACIÓN."]

{"sheet":"NO SOCIOS","index":3,"n_rows":262,"n_cols":4,"rows_kept":262,"cut":false,"hidden":false,"merged":[[1,0,1,4],[2,0,2,4],[3,0,3,2],[3,3,3,4],[6,3,6,4]]}
[{"$f":"+'SOLICITUD-DATOS SOC'!A1","v":" FORMULARIO SC/RPC –ACT. MAYO/2016-"}]
["(COMPLETAR CELDAS CON FONDO VERDE)"]
["REGISTRO PÚBLICO DE COMERCIO, TRIBUNAL SUPERIOR DE JUSTICIA DE LA PROVINCIA DE SANTA CRUZ"]
["NOMBRE DE LA SOCIEDAD:",null,null,{"$f":"+'SOLICITUD-DATOS SOC'!D4:E4","v":0}]
[null,"FECHA:",{"$f":"+'SOLICITUD-DATOS SOC'!C5","v":"00:00:00"}]
["TERCEROS -NO SOCIOS- INTEGRANTES DE LOS ORGANOS DE LAS SOCIEDAD"]
["FORM.","APELLIDO/s DEL TERCERO","APELLIDO/s DEL TERCERO","DATOS"]
["NS",null,null,"DOC. IDENTIDAD –sin puntos-: ……………………"]
["NS",{"$f":"+B8","v":0},{"$f":"+C8","v":0},"CUIT/CUIL –sin puntos ni barras-:"]
["NS",{"$f":"+B9","v":0},{"$f":"+C9","v":0},"FECHA DE NACIMIENTO –dd/mm/aa-:"]
["NS",0,0,"LUGAR DE NACIMIENTO:"]
["NS",0,0,"NACIONALIDAD:"]
["NS",0,0,"PROFESIÓN:"]
["NS",0,0,"DOMICILIO REAL:"]
["NS",0,0,"CEL/TEL –sin puntos ni barras-:"]
["NS",0,0,"EMAIL:"]
["NS",0,0,"ESTADO CIVIL:"]
["NS",0,0,"APELLIDO/S CÓNYUGE:"]
["NS",0,0,"NOMBRE/S CÓNYUGE"]
["NS",0,0,"DOC. IDENTIDAD (cónyuge) –sin puntos ni barras-: "]
["IV",0,0,"NOMBRE CARGO REP. LEGAL QUE OCUPA:"]
["V",0,0,"NOMBRE CARGO ADMINISTRACIÓN QUE OCUPA:"]
["VI",0,0,"NOMBRE CARGO FISCALIZACIÓN QUE OCUPA:"]
["NS",0,0,"NOTA/OBSERVACIÓN."]
["NS",null,null,"DOC. IDENTIDAD –sin puntos-: ……………………"]
["NS",0,0,"CUIT/CUIL –sin puntos ni barras-:"]
["NS",0,0,"FECHA DE NACIMIENTO –dd/mm/aa-:"]
["NS",0,0,"LUGAR DE NACIMIENTO:"]
["NS",0,0,"NACIONALIDAD:"]
["NS",0,0,"PROFESIÓN:"]
["NS",0,0,"DOMICILIO REAL:"]
["NS",0,0,"CEL/TEL –sin puntos ni barras-:"]
["NS",0,0,"EMAIL:"]
["NS",0,0,"ESTADO CIVIL:"]
["NS",0,0,"APELLIDO/S CÓNYUGE:"]
["NS",0,0,"NOMBRE/S CÓNYUGE"]
["NS",0,0,"DOC. IDENTIDAD (cónyuge) –sin puntos ni barras-: "]
["IV",0,0,"NOMBRE CARGO REP. LEGAL QUE OCUPA:"]
["V",0,0,"NOMBRE CARGO ADMINISTRACIÓN QUE OCUPA:"]
["VI",0,0,"NOMBRE CARGO FISCALIZACIÓN QUE OCUPA:"]
["NS",0,0,"NOTA/OBSERVACIÓN."]
["NS",null,null,"DOC. IDENTIDAD –sin puntos-: ……………………"]
["NS",0,0,"CUIT/CUIL –sin puntos ni barras-:"]
["NS",0,0,"FECHA DE NACIMIENTO –dd/mm/aa-:"]
["NS",0,0,"LUGAR DE NACIMIENTO:"]
["NS",0,0,"NACIONALIDAD:"]
["NS",0,0,"PROFESIÓN:"]
["NS",0,0,"DOMICILIO REAL:"]
["NS",0,0,"CEL/TEL –sin puntos ni barras-:"]
["NS",0,0,"EMAIL:"]
["NS",0,0,"ESTADO CIVIL:"]
["NS",0,0,"APELLIDO/S CÓNYUGE:"]
["NS",0,0,"NOMBRE/S CÓNYUGE"]
["NS",0,0,"DOC. IDENTIDAD (cónyuge) –sin puntos ni barras-: "]
["IV",0,0,"NOMBRE CARGO REP. LEGAL QUE OCUPA:"]
["V",0,0,"NOMBRE CARGO ADMINISTRACIÓN QUE OCUPA:"]
["VI",0,0,"NOMBRE CARGO FISCALIZACIÓN QUE OCUPA:"]
["NS",0,0,"NOTA/OBSERVACIÓN."]
["NS",null,null,"DOC. IDENTIDAD –sin puntos-: ……………………"]
["NS",0,0,"CUIT/CUIL –sin puntos ni barras-:"]
["NS",0,0,"FECHA DE NACIMIENTO –dd/mm/aa-:"]
["NS",0,0,"LUGAR DE NACIMIENTO:"]
["NS",0,0,"NACIONALIDAD:"]
["NS",0,0,"PROFESIÓN:"]
["NS",0,0,"DOMICILIO REAL:"]
["NS",0,0,"CEL/TEL –sin puntos ni barras-:"]
["NS",0,0,"EMAIL:"]
["NS",0,0,"ESTADO CIVIL:"]
["NS",0,0,"APELLIDO/S CÓNYUGE:"]
["NS",0,0,"NOMBRE/S CÓNYUGE"]
["NS",0,0,"DOC. IDENTIDAD (cónyuge) –sin puntos ni barras-: "]
["IV",0,0,"NOMBRE CARGO REP. LEGAL QUE OCUPA:"]
["V",0,0,"NOMBRE CARGO ADMINISTRACIÓN QUE OCUPA:"]
["VI",{"$f":"+B73","v":0},{"$f":"+C73","v":0},"NOMBRE CARGO FISCALIZACIÓN QUE OCUPA:"]
["NS",0,0,"NOTA/OBSERVACIÓN."]
["NS",null,null,"DOC. IDENTIDAD –sin puntos-: ……………………"]
["NS",0,0,"CUIT/CUIL –sin puntos ni barras-:"]
["NS",0,0,"FECHA DE NACIMIENTO –dd/mm/aa-:"]
["NS",0,0,"LUGAR DE NACIMIENTO:"]
["NS",0,0,"NACIONALIDAD:"]
["NS",0,0,"PROFESIÓN:"]
["NS",0,0,"DOMICILIO REAL:"]
["NS",0,0,"CEL/TEL –sin puntos ni barras-:"]
["NS",0,0,"EMAIL:"]
["NS",0,0,"ESTADO CIVIL:"]
["NS",0,0,"APELLIDO/S CÓNYUGE:"]
["NS",0,0,"NOMBRE/S CÓNYUGE"]
["NS",0,0,"DOC. IDENTIDAD (cónyuge) –sin puntos ni barras-: "]
["IV",0,0,"NOMBRE CARGO REP. LEGAL QUE OCUPA:"]
["V",0,0,"NOMBRE CARGO ADMINISTRACIÓN QUE OCUPA:"]
["VI",0,0,"NOMBRE CARGO FISCALIZACIÓN QUE OCUPA:"]
["NS",0,0,"NOTA/OBSERVACIÓN."]
["NS",null,null,"DOC. IDENTIDAD –sin puntos-: ……………………"]
["NS",0,0,"CUIT/CUIL –sin puntos ni barras-:"]
["NS",0,0,"FECHA DE NACIMIENTO –dd/mm/aa-:"]
["NS",0,0,"LUGAR DE NACIMIENTO:"]
["NS",0,0,"NACIONALIDAD:"]
["NS",0,0,"PROFESIÓN:"]
["NS",0,0,"DOMICILIO REAL:"]
["NS",0,0,"CEL/TEL –sin puntos ni barras-:"]
["NS",0,0,"EMAIL:"]
["NS",0,0,"ESTADO CIVIL:"]
["NS",0,0,"APELLIDO/S CÓNYUGE:"]
["NS",0,0,"NOMBRE/S CÓNYUGE"]
["NS",0,0,"DOC. IDENTIDAD (cónyuge) –sin puntos ni barras-: "]
["IV",0,0,"NOMBRE CARGO REP. LEGAL QUE OCUPA:"]
["V",0,0,"NOMBRE CARGO ADMINISTRACIÓN QUE OCUPA:"]
["VI",0,0,"NOMBRE CARGO FISCALIZACIÓN QUE OCUPA:"]
["NS",0,0,"NOTA/OBSERVACIÓN."]
["NS",null,null,"DOC. IDENTIDAD –sin puntos-: ……………………"]
["NS",0,0,"CUIT/CUIL –sin puntos ni barras-:"]
["NS",0,0,"FECHA DE NACIMIENTO –dd/mm/aa-:"]
["NS",0,0,"LUGAR DE NACIMIENTO:"]
["NS",0,0,"NACIONALIDAD:"]
["NS",0,0,"PROFESIÓN:"]
["NS",0,0,"DOMICILIO REAL:"]
["NS",0,0,"CEL/TEL –sin puntos ni barras-:"]
["NS",0,0,"EMAIL:"]
["NS",0,0,"ESTADO CIVIL:"]
["NS",0,0,"APELLIDO/S CÓNYUGE:"]
["NS",0,0,"NOMBRE/S CÓNYUGE"]
["NS",0,0,"DOC. IDENTIDAD (cónyuge) –sin puntos ni barras-: "]
["IV",0,0,"NOMBRE CARGO REP. LEGAL QUE OCUPA:"]
["V",0,0,"NOMBRE CARGO ADMINISTRACIÓN QUE OCUPA:"]
["VI",0,0,"NOMBRE CARGO FISCALIZACIÓN QUE OCUPA:"]
["NS",0,0,"NOTA/OBSERVACIÓN."]
["NS",null,null,"DOC. IDENTIDAD –sin puntos-: ……………………"]
["NS",0,0,"CUIT/CUIL –sin puntos ni barras-:"]
["NS",0,0,"FECHA DE NACIMIENTO –dd/mm/aa-:"]
["NS",0,0,"LUGAR DE NACIMIENTO:"]
["NS",0,0,"NACIONALIDAD:"]
["NS",0,0,"PROFESIÓN:"]
["NS",0,0,"DOMICILIO REAL:"]
["NS",0,0,"CEL/TEL –sin puntos ni barras-:"]
["NS",0,0,"EMAIL:"]
["NS",0,0,"ESTADO CIVIL:"]
["NS",0,0,"APELLIDO/S CÓNYUGE:"]
["NS",{"$f":"+B137","v":0},{"$f":"+C137","v":0},"NOMBRE/S CÓNYUGE"]
["NS",0,0,"DOC. IDENTIDAD (cónyuge) –sin puntos ni barras-: "]
["IV",0,0,"NOMBRE CARGO REP. LEGAL QUE OCUPA:"]
["V",0,0,"NOMBRE CARGO ADMINISTRACIÓN QUE OCUPA:"]
["VI",0,0,"NOMBRE CARGO FISCALIZACIÓN QUE OCUPA:"]
["NS",0,0,"NOTA/OBSERVACIÓN."]
["NS",null,null,"DOC. IDENTIDAD –sin puntos-: ……………………"]
["NS",0,0,"CUIT/CUIL –sin puntos ni barras-:"]
["NS",0,0,"FECHA DE NACIMIENTO –dd/mm/aa-:"]
["NS",0,0,"LUGAR DE NACIMIENTO:"]
["NS",0,0,"NACIONALIDAD:"]
["NS",0,0,"PROFESIÓN:"]
["NS",0,0,"DOMICILIO REAL:"]
["NS",0,0,"CEL/TEL –sin puntos ni barras-:"]
["NS",0,0,"EMAIL:"]
["NS",0,0,"ESTADO CIVIL:"]
["NS",0,0,"APELLIDO/S CÓNYUGE:"]
["NS",0,0,"NOMBRE/S CÓNYUGE"]
["NS",0,0,"DOC. IDENTIDAD (cónyuge) –sin puntos ni barras-: "]
["IV",0,0,"NOMBRE CARGO REP. LEGAL QUE OCUPA:"]
["V",0,0,"NOMBRE CARGO ADMINISTRACIÓN QUE OCUPA:"]
["VI",0,0,"NOMBRE CARGO FISCALIZACIÓN QUE OCUPA:"]
["NS",0,0,"NOTA/OBSERVACIÓN."]
["NS",null,null,"DOC. IDENTIDAD –sin puntos-: ……………………"]
["NS",0,0,"CUIT/CUIL –sin puntos ni barras-:"]
["NS",0,0,"FECHA DE NACIMIENTO –dd/mm/aa-:"]
["NS",0,0,"LUGAR DE NACIMIENTO:"]
["NS",0,0,"NACIONALIDAD:"]
["NS",0,0,"PROFESIÓN:"]
["NS",0,0,"DOMICILIO REAL:"]
["NS",0,0,"CEL/TEL –sin puntos ni barras-:"]
["NS",0,0,"EMAIL:"]
["NS",0,0,"ESTADO CIVIL:"]
["NS",0,0,"APELLIDO/S CÓNYUGE:"]
["NS",0,0,"NOMBRE/S CÓNYUGE"]
["NS",0,0,"DOC. IDENTIDAD (cónyuge) –sin puntos ni barras-: "]
["IV",0,0,"NOMBRE CARGO REP. LEGAL QUE OCUPA:"]
["V",0,0,"NOMBRE CARGO ADMINISTRACIÓN QUE OCUPA:"]
["VI",0,0,"NOMBRE CARGO FISCALIZACIÓN QUE OCUPA:"]
["NS",0,0,"NOTA/OBSERVACIÓN."]
["NS",null,null,"DOC. IDENTIDAD –sin puntos-: ……………………"]
["NS",0,0,"CUIT/CUIL –sin puntos ni barras-:"]
["NS",0,0,"FECHA DE NACIMIENTO –dd/mm/aa-:"]
["NS",0,0,"LUGAR DE NACIMIENTO:"]
["NS",0,0,"NACIONALIDAD:"]
["NS",0,0,"PROFESIÓN:"]
["NS",0,0,"DOMICILIO REAL:"]
["NS",0,0,"CEL/TEL –sin puntos ni barras-:"]
["NS",0,0,"EMAIL:"]
["NS",0,0,"ESTADO CIVIL:"]
["NS",0,0,"APELLIDO/S CÓNYUGE:"]
["NS",0,0,"NOMBRE/S CÓNYUGE"]
["NS",0,0,"DOC. IDENTIDAD (cónyuge) –sin puntos ni barras-: "]
["IV",0,0,"NOMBRE CARGO REP. LEGAL QUE OCUPA:"]
["V",0,0,"NOMBRE CARGO ADMINISTRACIÓN QUE OCUPA:"]
["VI",0,0,"NOMBRE CARGO FISCALIZACIÓN QUE OCUPA:"]
["NS",0,0,"NOTA/OBSERVACIÓN."]
["NS",null,null,"DOC. IDENTIDAD –sin puntos-: ……………………"]
["NS",0,0,"CUIT/CUIL –sin puntos ni barras-:"]
["NS",0,0,"FECHA DE NACIMIENTO –dd/mm/aa-:"]
["NS",0,0,"LUGAR DE NACIMIENTO:"]
["NS",0,0,"NACIONALIDAD:"]
["NS",0,0,"PROFESIÓN:"]
["NS",0,0,"DOMICILIO REAL:"]
["NS",{"$f":"+B201","v":0},{"$f":"+C201","v":0},"CEL/TEL –sin puntos ni barras-:"]
["NS",0,0,"EMAIL:"]
["NS",0,0,"ESTADO CIVIL:"]
["NS",0,0,"APELLIDO/S CÓNYUGE:"]
["NS",0,0,"NOMBRE/S CÓNYUGE"]
["NS",0,0,"DOC. IDENTIDAD (cónyuge) –sin puntos ni barras-: "]
["IV",0,0,"NOMBRE CARGO REP. LEGAL QUE OCUPA:"]
["V",0,0,"NOMBRE CARGO ADMINISTRACIÓN QUE OCUPA:"]
["VI",0,0,"NOMBRE CARGO FISCALIZACIÓN QUE OCUPA:"]
["NS",0,0,"NOTA/OBSERVACIÓN."]
["NS",null,null,"DOC. IDENTIDAD –sin puntos-: ……………………"]
["NS",0,0,"CUIT/CUIL –sin puntos ni barras-:"]
["NS",0,0,"FECHA DE NACIMIENTO –dd/mm/aa-:"]
["NS",0,0,"LUGAR DE NACIMIENTO:"]
["NS",0,0,"NACIONALIDAD:"]
["NS",0,0,"PROFESIÓN:"]
["NS",0,0,"DOMICILIO REAL:"]
["NS",0,0,"CEL/TEL –sin puntos ni barras-:"]
["NS",0,0,"EMAIL:"]
["NS",0,0,"ESTADO CIVIL:"]
["NS",0,0,"APELLIDO/S CÓNYUGE:"]
["NS",0,0,"NOMBRE/S CÓNYUGE"]
["NS",0,0,"DOC. IDENTIDAD (cónyuge) –sin puntos ni barras-: "]
["IV",0,0,"NOMBRE CARGO REP. LEGAL QUE OCUPA:"]
["V",0,0,"NOMBRE CARGO ADMINISTRACIÓN QUE OCUPA:"]
["VI",0,0,"NOMBRE CARGO FISCALIZACIÓN QUE OCUPA:"]
["NS",0,0,"NOTA/OBSERVACIÓN."]
["NS",null,null,"DOC. IDENTIDAD –sin puntos-: ……………………"]
["NS",0,0,"CUIT/CUIL –sin puntos ni barras-:"]
["NS",0,0,"FECHA DE NACIMIENTO –dd/mm/aa-:"]
["NS",0,0,"LUGAR DE NACIMIENTO:"]
["NS",0,0,"NACIONALIDAD:"]
["NS",0,0,"PROFESIÓN:"]
["NS",0,0,"DOMICILIO REAL:"]
["NS",0,0,"CEL/TEL –sin puntos ni barras-:"]
["NS",0,0,"EMAIL:"]
["NS",0,0,"ESTADO CIVIL:"]
["NS",0,0,"APELLIDO/S CÓNYUGE:"]
["NS",0,0,"NOMBRE/S CÓNYUGE"]
["NS",0,0,"DOC. IDENTIDAD (cónyuge) –sin puntos ni barras-: "]
["IV",0,0,"NOMBRE CARGO REP. LEGAL QUE OCUPA:"]
["V",0,0,"NOMBRE CARGO ADMINISTRACIÓN QUE OCUPA:"]
["VI",0,0,"NOMBRE CARGO FISCALIZACIÓN QUE OCUPA:"]
["NS",0,0,"NOTA/OBSERVACIÓN."]
["NS",null,null,"DOC. IDENTIDAD –sin puntos-: ……………………"]
["NS",0,0,"CUIT/CUIL –sin puntos ni barras-:"]
["NS",0,0,"FECHA DE NACIMIENTO –dd/mm/aa-:"]
["NS",0,0,"LUGAR DE NACIMIENTO:"]
["NS",0,0,"NACIONALIDAD:"]
["NS",0,0,"PROFESIÓN:"]
["NS",0,0,"DOMICILIO REAL:"]
["NS",0,0,"CEL/TEL –sin puntos ni barras-:"]
["NS",0,0,"EMAIL:"]
["NS",0,0,"ESTADO CIVIL:"]
["NS",0,0,"APELLIDO/S CÓNYUGE:"]
["NS",0,0,"NOMBRE/S CÓNYUGE"]
["NS",0,0,"DOC. IDENTIDAD (cónyuge) –sin puntos ni barras-: "]
["IV",0,0,"NOMBRE CARGO REP. LEGAL QUE OCUPA:"]
["V",0,0,"NOMBRE CARGO ADMINISTRACIÓN QUE OCUPA:"]
["VI",0,0,"NOMBRE CARGO FISCALIZACIÓN QUE OCUPA:"]
["NS",0,0,"NOTA/OBSERVACIÓN."]

{"sheet":"I M P R I M I R","index":4,"n_rows":779,"n_cols":6,"rows_kept":779,"cut":false,"hidden":false,"merged":[[778,1,778,2],[775,1,775,2],[776,1,776,2],[777,1,777,2],[4,5,5,5],[4,0,5,0],[4,1,5,1],[4,2,5,2],[0,1,0,4],[2,3,2,4],[4,3,4,4],[1,0,1,4],[2,0,2,2]]}
[null,{"$f":"+'SOLICITUD-DATOS SOC'!A1","v":" FORMULARIO SC/RPC –ACT. MAYO/2016-"}]
["REGISTRO PÚBLICO DE COMERCIO, TRIBUNAL SUPERIOR DE JUSTICIA DE LA PROVINCIA DE SANTA CRUZ"]
["NOMBRE DE LA SOCIEDAD:",null,null,{"$f":"+'SOLICITUD-DATOS SOC'!D4:E4","v":0}]
[null,"FECHA:",{"$f":"+'SOLICITUD-DATOS SOC'!C5","v":"00:00:00"}]
["FORM.","VINCULADOS","VINCULADOS","DATOS",null,"FILA Nº"]
[null,null,null,"CONCEPTO","COMPLETAR -EN MAYUSCULA -"]
[{"$f":"+'SOLICITUD-DATOS SOC'!A18","v":"I"},{"$f":"+'SOLICITUD-DATOS SOC'!B18","v":0},{"$f":"+'SOLICITUD-DATOS SOC'!C18","v":0},"TRAMITE QUE SE INICIA:",{"$f":"IF('SOLICITUD-DATOS SOC'!E18>0,'SOLICITUD-DATOS SOC'!E18,\"<<<<>>>>NO COMPLETADO\")","v":"<<<<>>>>NO COMPLETADO"},1]
[{"$f":"+'SOLICITUD-DATOS SOC'!A19","v":"I"},{"$f":"+'SOLICITUD-DATOS SOC'!B19","v":0},{"$f":"+'SOLICITUD-DATOS SOC'!C19","v":0},"DOC. IDENTIDAD –sin puntos-: ……………………",{"$f":"IF('SOLICITUD-DATOS SOC'!E19>0,'SOLICITUD-DATOS SOC'!E19,\"<<<<>>>>NO COMPLETADO\")","v":"<<<<>>>>NO COMPLETADO"},2]
[{"$f":"+'SOLICITUD-DATOS SOC'!A20","v":"I"},{"$f":"+'SOLICITUD-DATOS SOC'!B20","v":0},{"$f":"+'SOLICITUD-DATOS SOC'!C20","v":0},"CUIT/CUIL –sin puntos ni barras-:",{"$f":"IF('SOLICITUD-DATOS SOC'!E20>0,'SOLICITUD-DATOS SOC'!E20,\"<<<<>>>>NO COMPLETADO\")","v":"<<<<>>>>NO COMPLETADO"},3]
[{"$f":"+'SOLICITUD-DATOS SOC'!A21","v":"I"},{"$f":"+'SOLICITUD-DATOS SOC'!B21","v":0},{"$f":"+'SOLICITUD-DATOS SOC'!C21","v":0},"FECHA DE NACIMIENTO –dd/mm/aa-:",{"$f":"IF('SOLICITUD-DATOS SOC'!E21>0,'SOLICITUD-DATOS SOC'!E21,\"<<<<>>>>NO COMPLETADO\")","v":"<<<<>>>>NO COMPLETADO"},4]
[{"$f":"+'SOLICITUD-DATOS SOC'!A22","v":"I"},{"$f":"+'SOLICITUD-DATOS SOC'!B22","v":0},{"$f":"+'SOLICITUD-DATOS SOC'!C22","v":0},"LUGAR DE NACIMIENTO:",{"$f":"IF('SOLICITUD-DATOS SOC'!E22>0,'SOLICITUD-DATOS SOC'!E22,\"<<<<>>>>NO COMPLETADO\")","v":"<<<<>>>>NO COMPLETADO"},5]
[{"$f":"+'SOLICITUD-DATOS SOC'!A23","v":"I"},{"$f":"+'SOLICITUD-DATOS SOC'!B23","v":0},{"$f":"+'SOLICITUD-DATOS SOC'!C23","v":0},"NACIONALIDAD:",{"$f":"IF('SOLICITUD-DATOS SOC'!E23>0,'SOLICITUD-DATOS SOC'!E23,\"<<<<>>>>NO COMPLETADO\")","v":"<<<<>>>>NO COMPLETADO"},6]
[{"$f":"+'SOLICITUD-DATOS SOC'!A24","v":"I"},{"$f":"+'SOLICITUD-DATOS SOC'!B24","v":0},{"$f":"+'SOLICITUD-DATOS SOC'!C24","v":0},"PROFESIÓN:",{"$f":"IF('SOLICITUD-DATOS SOC'!E24>0,'SOLICITUD-DATOS SOC'!E24,\"<<<<>>>>NO COMPLETADO\")","v":"<<<<>>>>NO COMPLETADO"},7]
[{"$f":"+'SOLICITUD-DATOS SOC'!A25","v":"I"},{"$f":"+'SOLICITUD-DATOS SOC'!B25","v":0},{"$f":"+'SOLICITUD-DATOS SOC'!C25","v":0},"DOMICILIO REAL:",{"$f":"IF('SOLICITUD-DATOS SOC'!E25>0,'SOLICITUD-DATOS SOC'!E25,\"<<<<>>>>NO COMPLETADO\")","v":"<<<<>>>>NO COMPLETADO"},8]
[{"$f":"+'SOLICITUD-DATOS SOC'!A26","v":"I"},{"$f":"+'SOLICITUD-DATOS SOC'!B26","v":0},{"$f":"+'SOLICITUD-DATOS SOC'!C26","v":0},"CEL/TEL –sin puntos ni barras-:",{"$f":"IF('SOLICITUD-DATOS SOC'!E26>0,'SOLICITUD-DATOS SOC'!E26,\"<<<<>>>>NO COMPLETADO\")","v":"<<<<>>>>NO COMPLETADO"},9]
[{"$f":"+'SOLICITUD-DATOS SOC'!A27","v":"I"},{"$f":"+'SOLICITUD-DATOS SOC'!B27","v":0},{"$f":"+'SOLICITUD-DATOS SOC'!C27","v":0},"EMAIL:",{"$f":"IF('SOLICITUD-DATOS SOC'!E27>0,'SOLICITUD-DATOS SOC'!E27,\"<<<<>>>>NO COMPLETADO\")","v":"<<<<>>>>NO COMPLETADO"},10]
[{"$f":"+'SOLICITUD-DATOS SOC'!A32","v":"II"},{"$f":"+'SOLICITUD-DATOS SOC'!B32","v":0},{"$f":"+'SOLICITUD-DATOS SOC'!C32","v":0},"CUIT -sin puntos ni barras-:",{"$f":"IF('SOLICITUD-DATOS SOC'!E32>0,'SOLICITUD-DATOS SOC'!E32,\"<<<<>>>>NO COMPLETADO\")","v":"<<<<>>>>NO COMPLETADO"},11]
[{"$f":"+'SOLICITUD-DATOS SOC'!A33","v":"II"},{"$f":"+'SOLICITUD-DATOS SOC'!B33","v":0},{"$f":"+'SOLICITUD-DATOS SOC'!C33","v":0},"DOMICILIO SOCIAL:",{"$f":"IF('SOLICITUD-DATOS SOC'!E33>0,'SOLICITUD-DATOS SOC'!E33,\"<<<<>>>>NO COMPLETADO\")","v":"<<<<>>>>NO COMPLETADO"},12]
[{"$f":"+'SOLICITUD-DATOS SOC'!A34","v":"II"},{"$f":"+'SOLICITUD-DATOS SOC'!B34","v":0},{"$f":"+'SOLICITUD-DATOS SOC'!C34","v":0},"DIRECCION SEDE SOCIAL:",{"$f":"IF('SOLICITUD-DATOS SOC'!E34>0,'SOLICITUD-DATOS SOC'!E34,\"<<<<>>>>NO COMPLETADO\")","v":"<<<<>>>>NO COMPLETADO"},13]
[{"$f":"+'SOLICITUD-DATOS SOC'!A37","v":"II"},{"$f":"+'SOLICITUD-DATOS SOC'!B37","v":0},{"$f":"+'SOLICITUD-DATOS SOC'!C37","v":0},"CEL/TEL (de administración) --sin puntos ni barras-:",{"$f":"IF('SOLICITUD-DATOS SOC'!E37>0,'SOLICITUD-DATOS SOC'!E37,\"<<<<>>>>NO COMPLETADO\")","v":"<<<<>>>>NO COMPLETADO"},14]
[{"$f":"+'SOLICITUD-DATOS SOC'!A38","v":"II"},{"$f":"+'SOLICITUD-DATOS SOC'!B38","v":0},{"$f":"+'SOLICITUD-DATOS SOC'!C38","v":0},"EMAIL (de administración) -sin puntos ni barras-:",{"$f":"IF('SOLICITUD-DATOS SOC'!E38>0,'SOLICITUD-DATOS SOC'!E38,\"<<<<>>>>NO COMPLETADO\")","v":"<<<<>>>>NO COMPLETADO"},15]
[{"$f":"+SOCIOS!A33","v":"III"},{"$f":"+SOCIOS!B33","v":0},{"$f":"+SOCIOS!C33","v":0},"¿SOCIO/ACC. FUNDADOR? -SI/NO-::",{"$f":"IF(SOCIOS!E33>0,SOCIOS!E33,\"<<<<>>>>NO COMPLETADO\")","v":"<<<<>>>>NO COMPLETADO"},16]
[{"$f":"+SOCIOS!A34","v":"III"},{"$f":"+SOCIOS!B34","v":0},{"$f":"+SOCIOS!C34","v":0},"NOMBRE/S Y APLELLIDO/S DE QUIEN/ES ES CESIONARIO:",{"$f":"IF(SOCIOS!E34>0,SOCIOS!E34,\"<<<<>>>>NO COMPLETADO\")","v":"<<<<>>>>NO COMPLETADO"},17]
[{"$f":"+SOCIOS!A38","v":"III"},{"$f":"+SOCIOS!B38","v":0},{"$f":"+SOCIOS!C38","v":0},"NOTA/OBSERVACIÓN.",{"$f":"IF(SOCIOS!E38>0,SOCIOS!E38,\"<<<<>>>>NO COMPLETADO\")","v":"<<<<>>>>NO COMPLETADO"},18]
[{"$f":"+SOCIOS!A56","v":"III"},{"$f":"+SOCIOS!B56","v":0},{"$f":"+SOCIOS!C56","v":0},"¿SOCIO/ACC. FUNDADOR? -SI/NO-:",{"$f":"IF(SOCIOS!E56>0,SOCIOS!E56,\"<<<<>>>>NO COMPLETADO\")","v":"<<<<>>>>NO COMPLETADO"},19]
[{"$f":"+SOCIOS!A57","v":"III"},{"$f":"+SOCIOS!B57","v":0},{"$f":"+SOCIOS!C57","v":0},"NOMBRE/S Y APLELLIDO/S DE QUIEN/ES ES CESIONARIO:",{"$f":"IF(SOCIOS!E57>0,SOCIOS!E57,\"<<<<>>>>NO COMPLETADO\")","v":"<<<<>>>>NO COMPLETADO"},20]
[{"$f":"+SOCIOS!A61","v":"III"},{"$f":"+SOCIOS!B61","v":0},{"$f":"+SOCIOS!C61","v":0},"NOTA/OBSERVACIÓN.",{"$f":"IF(SOCIOS!E61>0,SOCIOS!E61,\"<<<<>>>>NO COMPLETADO\")","v":"<<<<>>>>NO COMPLETADO"},21]
[{"$f":"+SOCIOS!A79","v":"III"},{"$f":"+SOCIOS!B79","v":0},{"$f":"+SOCIOS!C79","v":0},"¿SOCIO/ACC. FUNDADOR? -SI/NO-:",{"$f":"IF(SOCIOS!E79>0,SOCIOS!E79,\"<<<<>>>>NO COMPLETADO\")","v":"<<<<>>>>NO COMPLETADO"},22]
[{"$f":"+SOCIOS!A80","v":"III"},{"$f":"+SOCIOS!B80","v":0},{"$f":"+SOCIOS!C80","v":0},"NOMBRE/S Y APLELLIDO/S DE QUIEN/ES ES CESIONARIO:",{"$f":"IF(SOCIOS!E80>0,SOCIOS!E80,\"<<<<>>>>NO COMPLETADO\")","v":"<<<<>>>>NO COMPLETADO"},23]
[{"$f":"+SOCIOS!A84","v":"III"},{"$f":"+SOCIOS!B84","v":0},{"$f":"+SOCIOS!C84","v":0},"NOTA/OBSERVACIÓN.",{"$f":"IF(SOCIOS!E84>0,SOCIOS!E84,\"<<<<>>>>NO COMPLETADO\")","v":"<<<<>>>>NO COMPLETADO"},24]
[{"$f":"+SOCIOS!A102","v":"III"},{"$f":"+SOCIOS!B102","v":0},{"$f":"+SOCIOS!C102","v":0},"¿SOCIO/ACC. FUNDADOR? -SI/NO-:",{"$f":"IF(SOCIOS!E102>0,SOCIOS!E102,\"<<<<>>>>NO COMPLETADO\")","v":"<<<<>>>>NO COMPLETADO"},25]
[{"$f":"+SOCIOS!A103","v":"III"},{"$f":"+SOCIOS!B103","v":0},{"$f":"+SOCIOS!C103","v":0},"NOMBRE/S Y APLELLIDO/S DE QUIEN/ES ES CESIONARIO:",{"$f":"IF(SOCIOS!E103>0,SOCIOS!E103,\"<<<<>>>>NO COMPLETADO\")","v":"<<<<>>>>NO COMPLETADO"},26]
[{"$f":"+SOCIOS!A107","v":"III"},{"$f":"+SOCIOS!B107","v":0},{"$f":"+SOCIOS!C107","v":0},"NOTA/OBSERVACIÓN.",{"$f":"IF(SOCIOS!E107>0,SOCIOS!E107,\"<<<<>>>>NO COMPLETADO\")","v":"<<<<>>>>NO COMPLETADO"},27]
[{"$f":"+SOCIOS!A125","v":"III"},{"$f":"+SOCIOS!B125","v":0},{"$f":"+SOCIOS!C125","v":0},"¿SOCIO/ACC. FUNDADOR? -SI/NO-:",{"$f":"IF(SOCIOS!E125>0,SOCIOS!E125,\"<<<<>>>>NO COMPLETADO\")","v":"<<<<>>>>NO COMPLETADO"},28]
[{"$f":"+SOCIOS!A126","v":"III"},{"$f":"+SOCIOS!B126","v":0},{"$f":"+SOCIOS!C126","v":0},"NOMBRE/S Y APLELLIDO/S DE QUIEN/ES ES CESIONARIO:",{"$f":"IF(SOCIOS!E126>0,SOCIOS!E126,\"<<<<>>>>NO COMPLETADO\")","v":"<<<<>>>>NO COMPLETADO"},29]
[{"$f":"+SOCIOS!A130","v":"III"},{"$f":"+SOCIOS!B130","v":0},{"$f":"+SOCIOS!C130","v":0},"NOTA/OBSERVACIÓN.",{"$f":"IF(SOCIOS!E130>0,SOCIOS!E130,\"<<<<>>>>NO COMPLETADO\")","v":"<<<<>>>>NO COMPLETADO"},30]
[{"$f":"+SOCIOS!A148","v":"III"},{"$f":"+SOCIOS!B148","v":0},{"$f":"+SOCIOS!C148","v":0},"¿SOCIO/ACC. FUNDADOR? -SI/NO-:",{"$f":"IF(SOCIOS!E148>0,SOCIOS!E148,\"<<<<>>>>NO COMPLETADO\")","v":"<<<<>>>>NO COMPLETADO"},31]
[{"$f":"+SOCIOS!A149","v":"III"},{"$f":"+SOCIOS!B149","v":0},{"$f":"+SOCIOS!C149","v":0},"NOMBRE/S Y APLELLIDO/S DE QUIEN/ES ES CESIONARIO:",{"$f":"IF(SOCIOS!E149>0,SOCIOS!E149,\"<<<<>>>>NO COMPLETADO\")","v":"<<<<>>>>NO COMPLETADO"},32]
[{"$f":"+SOCIOS!A153","v":"III"},{"$f":"+SOCIOS!B153","v":0},{"$f":"+SOCIOS!C153","v":0},"NOTA/OBSERVACIÓN.",{"$f":"IF(SOCIOS!E153>0,SOCIOS!E153,\"<<<<>>>>NO COMPLETADO\")","v":"<<<<>>>>NO COMPLETADO"},33]
[{"$f":"+SOCIOS!A171","v":"III"},{"$f":"+SOCIOS!B171","v":0},{"$f":"+SOCIOS!C171","v":0},"¿SOCIO/ACC. FUNDADOR? -SI/NO-:",{"$f":"IF(SOCIOS!E171>0,SOCIOS!E171,\"<<<<>>>>NO COMPLETADO\")","v":"<<<<>>>>NO COMPLETADO"},34]
[{"$f":"+SOCIOS!A172","v":"III"},{"$f":"+SOCIOS!B172","v":0},{"$f":"+SOCIOS!C172","v":0},"NOMBRE/S Y APLELLIDO/S DE QUIEN/ES ES CESIONARIO:",{"$f":"IF(SOCIOS!E172>0,SOCIOS!E172,\"<<<<>>>>NO COMPLETADO\")","v":"<<<<>>>>NO COMPLETADO"},35]
[{"$f":"+SOCIOS!A176","v":"III"},{"$f":"+SOCIOS!B176","v":0},{"$f":"+SOCIOS!C176","v":0},"NOTA/OBSERVACIÓN.",{"$f":"IF(SOCIOS!E176>0,SOCIOS!E176,\"<<<<>>>>NO COMPLETADO\")","v":"<<<<>>>>NO COMPLETADO"},36]
[{"$f":"+SOCIOS!A194","v":"III"},{"$f":"+SOCIOS!B194","v":0},{"$f":"+SOCIOS!C194","v":0},"¿SOCIO/ACC. FUNDADOR? -SI/NO-:",{"$f":"IF(SOCIOS!E194>0,SOCIOS!E194,\"<<<<>>>>NO COMPLETADO\")","v":"<<<<>>>>NO COMPLETADO"},37]
[{"$f":"+SOCIOS!A195","v":"III"},{"$f":"+SOCIOS!B195","v":0},{"$f":"+SOCIOS!C195","v":0},"NOMBRE/S Y APLELLIDO/S DE QUIEN/ES ES CESIONARIO:",{"$f":"IF(SOCIOS!E195>0,SOCIOS!E195,\"<<<<>>>>NO COMPLETADO\")","v":"<<<<>>>>NO COMPLETADO"},38]
[{"$f":"+SOCIOS!A199","v":"III"},{"$f":"+SOCIOS!B199","v":0},{"$f":"+SOCIOS!C199","v":0},"NOTA/OBSERVACIÓN.",{"$f":"IF(SOCIOS!E199>0,SOCIOS!E199,\"<<<<>>>>NO COMPLETADO\")","v":"<<<<>>>>NO COMPLETADO"},39]
[{"$f":"+SOCIOS!A217","v":"III"},{"$f":"+SOCIOS!B217","v":0},{"$f":"+SOCIOS!C217","v":0},"¿SOCIO/ACC. FUNDADOR? -SI/NO-:",{"$f":"IF(SOCIOS!E217>0,SOCIOS!E217,\"<<<<>>>>NO COMPLETADO\")","v":"<<<<>>>>NO COMPLETADO"},40]
[{"$f":"+SOCIOS!A218","v":"III"},{"$f":"+SOCIOS!B218","v":0},{"$f":"+SOCIOS!C218","v":0},"NOMBRE/S Y APLELLIDO/S DE QUIEN/ES ES CESIONARIO:",{"$f":"IF(SOCIOS!E218>0,SOCIOS!E218,\"<<<<>>>>NO COMPLETADO\")","v":"<<<<>>>>NO COMPLETADO"},41]
[{"$f":"+SOCIOS!A222","v":"III"},{"$f":"+SOCIOS!B222","v":0},{"$f":"+SOCIOS!C222","v":0},"NOTA/OBSERVACIÓN.",{"$f":"IF(SOCIOS!E222>0,SOCIOS!E222,\"<<<<>>>>NO COMPLETADO\")","v":"<<<<>>>>NO COMPLETADO"},42]
[{"$f":"+SOCIOS!A240","v":"III"},{"$f":"+SOCIOS!B240","v":0},{"$f":"+SOCIOS!C240","v":0},"¿SOCIO/ACC. FUNDADOR? -SI/NO-:",{"$f":"IF(SOCIOS!E240>0,SOCIOS!E240,\"<<<<>>>>NO COMPLETADO\")","v":"<<<<>>>>NO COMPLETADO"},43]
[{"$f":"+SOCIOS!A241","v":"III"},{"$f":"+SOCIOS!B241","v":0},{"$f":"+SOCIOS!C241","v":0},"NOMBRE/S Y APLELLIDO/S DE QUIEN/ES ES CESIONARIO:",{"$f":"IF(SOCIOS!E241>0,SOCIOS!E241,\"<<<<>>>>NO COMPLETADO\")","v":"<<<<>>>>NO COMPLETADO"},44]
[{"$f":"+SOCIOS!A245","v":"III"},{"$f":"+SOCIOS!B245","v":0},{"$f":"+SOCIOS!C245","v":0},"NOTA/OBSERVACIÓN.",{"$f":"IF(SOCIOS!E245>0,SOCIOS!E245,\"<<<<>>>>NO COMPLETADO\")","v":"<<<<>>>>NO COMPLETADO"},45]
[{"$f":"+SOCIOS!A263","v":"III"},{"$f":"+SOCIOS!B263","v":0},{"$f":"+SOCIOS!C263","v":0},"¿SOCIO/ACC. FUNDADOR? -SI/NO-:",{"$f":"IF(SOCIOS!E263>0,SOCIOS!E263,\"<<<<>>>>NO COMPLETADO\")","v":"<<<<>>>>NO COMPLETADO"},46]
[{"$f":"+SOCIOS!A264","v":"III"},{"$f":"+SOCIOS!B264","v":0},{"$f":"+SOCIOS!C264","v":0},"NOMBRE/S Y APLELLIDO/S DE QUIEN/ES ES CESIONARIO:",{"$f":"IF(SOCIOS!E264>0,SOCIOS!E264,\"<<<<>>>>NO COMPLETADO\")","v":"<<<<>>>>NO COMPLETADO"},47]
[{"$f":"+SOCIOS!A268","v":"III"},{"$f":"+SOCIOS!B268","v":0},{"$f":"+SOCIOS!C268","v":0},"NOTA/OBSERVACIÓN.",{"$f":"IF(SOCIOS!E268>0,SOCIOS!E268,\"<<<<>>>>NO COMPLETADO\")","v":"<<<<>>>>NO COMPLETADO"},48]
[{"$f":"+SOCIOS!A286","v":"III"},{"$f":"+SOCIOS!B286","v":0},{"$f":"+SOCIOS!C286","v":0},"¿SOCIO/ACC. FUNDADOR? -SI/NO-:",{"$f":"IF(SOCIOS!E286>0,SOCIOS!E286,\"<<<<>>>>NO COMPLETADO\")","v":"<<<<>>>>NO COMPLETADO"},49]
[{"$f":"+SOCIOS!A287","v":"III"},{"$f":"+SOCIOS!B287","v":0},{"$f":"+SOCIOS!C287","v":0},"NOMBRE/S Y APLELLIDO/S DE QUIEN/ES ES CESIONARIO:",{"$f":"IF(SOCIOS!E287>0,SOCIOS!E287,\"<<<<>>>>NO COMPLETADO\")","v":"<<<<>>>>NO COMPLETADO"},50]
[{"$f":"+SOCIOS!A291","v":"III"},{"$f":"+SOCIOS!B291","v":0},{"$f":"+SOCIOS!C291","v":0},"NOTA/OBSERVACIÓN.",{"$f":"IF(SOCIOS!E291>0,SOCIOS!E291,\"<<<<>>>>NO COMPLETADO\")","v":"<<<<>>>>NO COMPLETADO"},51]
[{"$f":"+SOCIOS!A309","v":"III"},{"$f":"+SOCIOS!B309","v":0},{"$f":"+SOCIOS!C309","v":0},"¿SOCIO/ACC. FUNDADOR? -SI/NO-:",{"$f":"IF(SOCIOS!E309>0,SOCIOS!E309,\"<<<<>>>>NO COMPLETADO\")","v":"<<<<>>>>NO COMPLETADO"},52]
[{"$f":"+SOCIOS!A310","v":"III"},{"$f":"+SOCIOS!B310","v":0},{"$f":"+SOCIOS!C310","v":0},"NOMBRE/S Y APLELLIDO/S DE QUIEN/ES ES CESIONARIO:",{"$f":"IF(SOCIOS!E310>0,SOCIOS!E310,\"<<<<>>>>NO COMPLETADO\")","v":"<<<<>>>>NO COMPLETADO"},53]
[{"$f":"+SOCIOS!A314","v":"III"},{"$f":"+SOCIOS!B314","v":0},{"$f":"+SOCIOS!C314","v":0},"NOTA/OBSERVACIÓN.",{"$f":"IF(SOCIOS!E314>0,SOCIOS!E314,\"<<<<>>>>NO COMPLETADO\")","v":"<<<<>>>>NO COMPLETADO"},54]
[{"$f":"+SOCIOS!A332","v":"III"},{"$f":"+SOCIOS!B332","v":0},{"$f":"+SOCIOS!C332","v":0},"¿SOCIO/ACC. FUNDADOR? -SI/NO-:",{"$f":"IF(SOCIOS!E332>0,SOCIOS!E332,\"<<<<>>>>NO COMPLETADO\")","v":"<<<<>>>>NO COMPLETADO"},55]
[{"$f":"+SOCIOS!A333","v":"III"},{"$f":"+SOCIOS!B333","v":0},{"$f":"+SOCIOS!C333","v":0},"NOMBRE/S Y APLELLIDO/S DE QUIEN/ES ES CESIONARIO:",{"$f":"IF(SOCIOS!E333>0,SOCIOS!E333,\"<<<<>>>>NO COMPLETADO\")","v":"<<<<>>>>NO COMPLETADO"},56]
[{"$f":"+SOCIOS!A337","v":"III"},{"$f":"+SOCIOS!B337","v":0},{"$f":"+SOCIOS!C337","v":0},"NOTA/OBSERVACIÓN.",{"$f":"IF(SOCIOS!E337>0,SOCIOS!E337,\"<<<<>>>>NO COMPLETADO\")","v":"<<<<>>>>NO COMPLETADO"},57]
[{"$f":"+SOCIOS!A30","v":"III.%"},{"$f":"+SOCIOS!B30","v":0},{"$f":"+SOCIOS!C30","v":0},"PARTICIPACIÓN S/CAPITAL (%):",{"$f":"IF(SOCIOS!E30>0,SOCIOS!E30,\"<<<<>>>>NO COMPLETADO\")","v":"<<<<>>>>NO COMPLETADO"},58]
[{"$f":"+SOCIOS!A53","v":"III.%"},{"$f":"+SOCIOS!B53","v":0},{"$f":"+SOCIOS!C53","v":0},"PARTICIPACIÓN S/CAPITAL (%):",{"$f":"IF(SOCIOS!E53>0,SOCIOS!E53,\"<<<<>>>>NO COMPLETADO\")","v":"<<<<>>>>NO COMPLETADO"},59]
[{"$f":"+SOCIOS!A76","v":"III.%"},{"$f":"+SOCIOS!B76","v":0},{"$f":"+SOCIOS!C76","v":0},"PARTICIPACIÓN S/CAPITAL (%):",{"$f":"IF(SOCIOS!E76>0,SOCIOS!E76,\"<<<<>>>>NO COMPLETADO\")","v":"<<<<>>>>NO COMPLETADO"},60]
[{"$f":"+SOCIOS!A99","v":"III.%"},{"$f":"+SOCIOS!B99","v":0},{"$f":"+SOCIOS!C99","v":0},"PARTICIPACIÓN S/CAPITAL (%):",{"$f":"IF(SOCIOS!E99>0,SOCIOS!E99,\"<<<<>>>>NO COMPLETADO\")","v":"<<<<>>>>NO COMPLETADO"},61]
[{"$f":"+SOCIOS!A122","v":"III.%"},{"$f":"+SOCIOS!B122","v":0},{"$f":"+SOCIOS!C122","v":0},"PARTICIPACIÓN S/CAPITAL (%):",{"$f":"IF(SOCIOS!E122>0,SOCIOS!E122,\"<<<<>>>>NO COMPLETADO\")","v":"<<<<>>>>NO COMPLETADO"},62]
[{"$f":"+SOCIOS!A145","v":"III.%"},{"$f":"+SOCIOS!B145","v":0},{"$f":"+SOCIOS!C145","v":0},"PARTICIPACIÓN S/CAPITAL (%):",{"$f":"IF(SOCIOS!E145>0,SOCIOS!E145,\"<<<<>>>>NO COMPLETADO\")","v":"<<<<>>>>NO COMPLETADO"},63]
[{"$f":"+SOCIOS!A168","v":"III.%"},{"$f":"+SOCIOS!B168","v":0},{"$f":"+SOCIOS!C168","v":0},"PARTICIPACIÓN S/CAPITAL (%):",{"$f":"IF(SOCIOS!E168>0,SOCIOS!E168,\"<<<<>>>>NO COMPLETADO\")","v":"<<<<>>>>NO COMPLETADO"},64]
[{"$f":"+SOCIOS!A191","v":"III.%"},{"$f":"+SOCIOS!B191","v":0},{"$f":"+SOCIOS!C191","v":0},"PARTICIPACIÓN S/CAPITAL (%):",{"$f":"IF(SOCIOS!E191>0,SOCIOS!E191,\"<<<<>>>>NO COMPLETADO\")","v":"<<<<>>>>NO COMPLETADO"},65]
[{"$f":"+SOCIOS!A214","v":"III.%"},{"$f":"+SOCIOS!B214","v":0},{"$f":"+SOCIOS!C214","v":0},"PARTICIPACIÓN S/CAPITAL (%):",{"$f":"IF(SOCIOS!E214>0,SOCIOS!E214,\"<<<<>>>>NO COMPLETADO\")","v":"<<<<>>>>NO COMPLETADO"},66]
[{"$f":"+SOCIOS!A237","v":"III.%"},{"$f":"+SOCIOS!B237","v":0},{"$f":"+SOCIOS!C237","v":0},"PARTICIPACIÓN S/CAPITAL (%):",{"$f":"IF(SOCIOS!E237>0,SOCIOS!E237,\"<<<<>>>>NO COMPLETADO\")","v":"<<<<>>>>NO COMPLETADO"},67]
[{"$f":"+SOCIOS!A260","v":"III.%"},{"$f":"+SOCIOS!B260","v":0},{"$f":"+SOCIOS!C260","v":0},"PARTICIPACIÓN S/CAPITAL (%):",{"$f":"IF(SOCIOS!E260>0,SOCIOS!E260,\"<<<<>>>>NO COMPLETADO\")","v":"<<<<>>>>NO COMPLETADO"},68]
[{"$f":"+SOCIOS!A283","v":"III.%"},{"$f":"+SOCIOS!B283","v":0},{"$f":"+SOCIOS!C283","v":0},"PARTICIPACIÓN S/CAPITAL (%):",{"$f":"IF(SOCIOS!E283>0,SOCIOS!E283,\"<<<<>>>>NO COMPLETADO\")","v":"<<<<>>>>NO COMPLETADO"},69]
[{"$f":"+SOCIOS!A306","v":"III.%"},{"$f":"+SOCIOS!B306","v":0},{"$f":"+SOCIOS!C306","v":0},"PARTICIPACIÓN S/CAPITAL (%):",{"$f":"IF(SOCIOS!E306>0,SOCIOS!E306,\"<<<<>>>>NO COMPLETADO\")","v":"<<<<>>>>NO COMPLETADO"},70]
[{"$f":"+SOCIOS!A329","v":"III.%"},{"$f":"+SOCIOS!B329","v":0},{"$f":"+SOCIOS!C329","v":0},"PARTICIPACIÓN S/CAPITAL (%):",{"$f":"IF(SOCIOS!E329>0,SOCIOS!E329,\"<<<<>>>>NO COMPLETADO\")","v":"<<<<>>>>NO COMPLETADO"},71]
[{"$f":"+SOCIOS!A32","v":"III.CI"},{"$f":"+SOCIOS!B32","v":0},{"$f":"+SOCIOS!C32","v":0},"CAPITAL INTEGRADO:",{"$f":"IF(SOCIOS!E32>0,SOCIOS!E32,\"<<<<>>>>NO COMPLETADO\")","v":"<<<<>>>>NO COMPLETADO"},72]
[{"$f":"+SOCIOS!A55","v":"III.CI"},{"$f":"+SOCIOS!B55","v":0},{"$f":"+SOCIOS!C55","v":0},"CAPITAL INTEGRADO:",{"$f":"IF(SOCIOS!E55>0,SOCIOS!E55,\"<<<<>>>>NO COMPLETADO\")","v":"<<<<>>>>NO COMPLETADO"},73]
[{"$f":"+SOCIOS!A78","v":"III.CI"},{"$f":"+SOCIOS!B78","v":0},{"$f":"+SOCIOS!C78","v":0},"CAPITAL INTEGRADO:",{"$f":"IF(SOCIOS!E78>0,SOCIOS!E78,\"<<<<>>>>NO COMPLETADO\")","v":"<<<<>>>>NO COMPLETADO"},74]
[{"$f":"+SOCIOS!A101","v":"III.CI"},{"$f":"+SOCIOS!B101","v":0},{"$f":"+SOCIOS!C101","v":0},"CAPITAL INTEGRADO:",{"$f":"IF(SOCIOS!E101>0,SOCIOS!E101,\"<<<<>>>>NO COMPLETADO\")","v":"<<<<>>>>NO COMPLETADO"},75]
[{"$f":"+SOCIOS!A124","v":"III.CI"},{"$f":"+SOCIOS!B124","v":0},{"$f":"+SOCIOS!C124","v":0},"CAPITAL INTEGRADO:",{"$f":"IF(SOCIOS!E124>0,SOCIOS!E124,\"<<<<>>>>NO COMPLETADO\")","v":"<<<<>>>>NO COMPLETADO"},76]
[{"$f":"+SOCIOS!A147","v":"III.CI"},{"$f":"+SOCIOS!B147","v":0},{"$f":"+SOCIOS!C147","v":0},"CAPITAL INTEGRADO:",{"$f":"IF(SOCIOS!E147>0,SOCIOS!E147,\"<<<<>>>>NO COMPLETADO\")","v":"<<<<>>>>NO COMPLETADO"},77]
[{"$f":"+SOCIOS!A170","v":"III.CI"},{"$f":"+SOCIOS!B170","v":0},{"$f":"+SOCIOS!C170","v":0},"CAPITAL INTEGRADO:",{"$f":"IF(SOCIOS!E170>0,SOCIOS!E170,\"<<<<>>>>NO COMPLETADO\")","v":"<<<<>>>>NO COMPLETADO"},78]
[{"$f":"+SOCIOS!A193","v":"III.CI"},{"$f":"+SOCIOS!B193","v":0},{"$f":"+SOCIOS!C193","v":0},"CAPITAL INTEGRADO:",{"$f":"IF(SOCIOS!E193>0,SOCIOS!E193,\"<<<<>>>>NO COMPLETADO\")","v":"<<<<>>>>NO COMPLETADO"},79]
[{"$f":"+SOCIOS!A216","v":"III.CI"},{"$f":"+SOCIOS!B216","v":0},{"$f":"+SOCIOS!C216","v":0},"CAPITAL INTEGRADO:",{"$f":"IF(SOCIOS!E216>0,SOCIOS!E216,\"<<<<>>>>NO COMPLETADO\")","v":"<<<<>>>>NO COMPLETADO"},80]
[{"$f":"+SOCIOS!A239","v":"III.CI"},{"$f":"+SOCIOS!B239","v":0},{"$f":"+SOCIOS!C239","v":0},"CAPITAL INTEGRADO:",{"$f":"IF(SOCIOS!E239>0,SOCIOS!E239,\"<<<<>>>>NO COMPLETADO\")","v":"<<<<>>>>NO COMPLETADO"},81]
[{"$f":"+SOCIOS!A262","v":"III.CI"},{"$f":"+SOCIOS!B262","v":0},{"$f":"+SOCIOS!C262","v":0},"CAPITAL INTEGRADO:",{"$f":"IF(SOCIOS!E262>0,SOCIOS!E262,\"<<<<>>>>NO COMPLETADO\")","v":"<<<<>>>>NO COMPLETADO"},82]
[{"$f":"+SOCIOS!A285","v":"III.CI"},{"$f":"+SOCIOS!B285","v":0},{"$f":"+SOCIOS!C285","v":0},"CAPITAL INTEGRADO:",{"$f":"IF(SOCIOS!E285>0,SOCIOS!E285,\"<<<<>>>>NO COMPLETADO\")","v":"<<<<>>>>NO COMPLETADO"},83]
[{"$f":"+SOCIOS!A308","v":"III.CI"},{"$f":"+SOCIOS!B308","v":0},{"$f":"+SOCIOS!C308","v":0},"CAPITAL INTEGRADO:",{"$f":"IF(SOCIOS!E308>0,SOCIOS!E308,\"<<<<>>>>NO COMPLETADO\")","v":"<<<<>>>>NO COMPLETADO"},84]
[{"$f":"+SOCIOS!A331","v":"III.CI"},{"$f":"+SOCIOS!B331","v":0},{"$f":"+SOCIOS!C331","v":0},"CAPITAL INTEGRADO:",{"$f":"IF(SOCIOS!E331>0,SOCIOS!E331,\"<<<<>>>>NO COMPLETADO\")","v":"<<<<>>>>NO COMPLETADO"},85]
[{"$f":"+SOCIOS!A31","v":"III.CS"},{"$f":"+SOCIOS!B31","v":0},{"$f":"+SOCIOS!C31","v":0},"CAPITAL SUSCRIPTO:",{"$f":"IF(SOCIOS!E31>0,SOCIOS!E31,\"<<<<>>>>NO COMPLETADO\")","v":"<<<<>>>>NO COMPLETADO"},86]
[{"$f":"+SOCIOS!A54","v":"III.CS"},{"$f":"+SOCIOS!B54","v":0},{"$f":"+SOCIOS!C54","v":0},"CAPITAL SUSCRIPTO:",{"$f":"IF(SOCIOS!E54>0,SOCIOS!E54,\"<<<<>>>>NO COMPLETADO\")","v":"<<<<>>>>NO COMPLETADO"},87]
[{"$f":"+SOCIOS!A77","v":"III.CS"},{"$f":"+SOCIOS!B77","v":0},{"$f":"+SOCIOS!C77","v":0},"CAPITAL SUSCRIPTO:",{"$f":"IF(SOCIOS!E77>0,SOCIOS!E77,\"<<<<>>>>NO COMPLETADO\")","v":"<<<<>>>>NO COMPLETADO"},88]
[{"$f":"+SOCIOS!A100","v":"III.CS"},{"$f":"+SOCIOS!B100","v":0},{"$f":"+SOCIOS!C100","v":0},"CAPITAL SUSCRIPTO:",{"$f":"IF(SOCIOS!E100>0,SOCIOS!E100,\"<<<<>>>>NO COMPLETADO\")","v":"<<<<>>>>NO COMPLETADO"},89]
[{"$f":"+SOCIOS!A123","v":"III.CS"},{"$f":"+SOCIOS!B123","v":0},{"$f":"+SOCIOS!C123","v":0},"CAPITAL SUSCRIPTO:",{"$f":"IF(SOCIOS!E123>0,SOCIOS!E123,\"<<<<>>>>NO COMPLETADO\")","v":"<<<<>>>>NO COMPLETADO"},90]
[{"$f":"+SOCIOS!A146","v":"III.CS"},{"$f":"+SOCIOS!B146","v":0},{"$f":"+SOCIOS!C146","v":0},"CAPITAL SUSCRIPTO:",{"$f":"IF(SOCIOS!E146>0,SOCIOS!E146,\"<<<<>>>>NO COMPLETADO\")","v":"<<<<>>>>NO COMPLETADO"},91]
[{"$f":"+SOCIOS!A169","v":"III.CS"},{"$f":"+SOCIOS!B169","v":0},{"$f":"+SOCIOS!C169","v":0},"CAPITAL SUSCRIPTO:",{"$f":"IF(SOCIOS!E169>0,SOCIOS!E169,\"<<<<>>>>NO COMPLETADO\")","v":"<<<<>>>>NO COMPLETADO"},92]
[{"$f":"+SOCIOS!A192","v":"III.CS"},{"$f":"+SOCIOS!B192","v":0},{"$f":"+SOCIOS!C192","v":0},"CAPITAL SUSCRIPTO:",{"$f":"IF(SOCIOS!E192>0,SOCIOS!E192,\"<<<<>>>>NO COMPLETADO\")","v":"<<<<>>>>NO COMPLETADO"},93]
[{"$f":"+SOCIOS!A215","v":"III.CS"},{"$f":"+SOCIOS!B215","v":0},{"$f":"+SOCIOS!C215","v":0},"CAPITAL SUSCRIPTO:",{"$f":"IF(SOCIOS!E215>0,SOCIOS!E215,\"<<<<>>>>NO COMPLETADO\")","v":"<<<<>>>>NO COMPLETADO"},94]
[{"$f":"+SOCIOS!A238","v":"III.CS"},{"$f":"+SOCIOS!B238","v":0},{"$f":"+SOCIOS!C238","v":0},"CAPITAL SUSCRIPTO:",{"$f":"IF(SOCIOS!E238>0,SOCIOS!E238,\"<<<<>>>>NO COMPLETADO\")","v":"<<<<>>>>NO COMPLETADO"},95]
[{"$f":"+SOCIOS!A261","v":"III.CS"},{"$f":"+SOCIOS!B261","v":0},{"$f":"+SOCIOS!C261","v":0},"CAPITAL SUSCRIPTO:",{"$f":"IF(SOCIOS!E261>0,SOCIOS!E261,\"<<<<>>>>NO COMPLETADO\")","v":"<<<<>>>>NO COMPLETADO"},96]
[{"$f":"+SOCIOS!A284","v":"III.CS"},{"$f":"+SOCIOS!B284","v":0},{"$f":"+SOCIOS!C284","v":0},"CAPITAL SUSCRIPTO:",{"$f":"IF(SOCIOS!E284>0,SOCIOS!E284,\"<<<<>>>>NO COMPLETADO\")","v":"<<<<>>>>NO COMPLETADO"},97]
[{"$f":"+SOCIOS!A307","v":"III.CS"},{"$f":"+SOCIOS!B307","v":0},{"$f":"+SOCIOS!C307","v":0},"CAPITAL SUSCRIPTO:",{"$f":"IF(SOCIOS!E307>0,SOCIOS!E307,\"<<<<>>>>NO COMPLETADO\")","v":"<<<<>>>>NO COMPLETADO"},98]
[{"$f":"+SOCIOS!A330","v":"III.CS"},{"$f":"+SOCIOS!B330","v":0},{"$f":"+SOCIOS!C330","v":0},"CAPITAL SUSCRIPTO:",{"$f":"IF(SOCIOS!E330>0,SOCIOS!E330,\"<<<<>>>>NO COMPLETADO\")","v":"<<<<>>>>NO COMPLETADO"},99]
[{"$f":"+'SOLICITUD-DATOS SOC'!A35","v":"III.CST"},{"$f":"+'SOLICITUD-DATOS SOC'!B35","v":0},{"$f":"+'SOLICITUD-DATOS SOC'!C35","v":0},"CAPITAL SOCIAL:",{"$f":"IF('SOLICITUD-DATOS SOC'!E35>0,'SOLICITUD-DATOS SOC'!E35,\"<<<<>>>>NO COMPLETADO\")","v":"<<<<>>>>NO COMPLETADO"},100]
[{"$f":"+'SOLICITUD-DATOS SOC'!A36","v":"III.Q"},{"$f":"+'SOLICITUD-DATOS SOC'!B36","v":0},{"$f":"+'SOLICITUD-DATOS SOC'!C36","v":0},"TOTAL DE CUOTAS PARTES/ACCIONES:",{"$f":"IF('SOLICITUD-DATOS SOC'!E36>0,'SOLICITUD-DATOS SOC'!E36,\"<<<<>>>>NO COMPLETADO\")","v":"<<<<>>>>NO COMPLETADO"},101]
[{"$f":"+SOCIOS!A29","v":"III.Q"},{"$f":"+SOCIOS!B29","v":0},{"$f":"+SOCIOS!C29","v":0},"NROS DE ACCIONES/CUOTAS TITULAR:",{"$f":"IF(SOCIOS!E29>0,SOCIOS!E29,\"<<<<>>>>NO COMPLETADO\")","v":"<<<<>>>>NO COMPLETADO"},102]
[{"$f":"+SOCIOS!A52","v":"III.Q"},{"$f":"+SOCIOS!B52","v":0},{"$f":"+SOCIOS!C52","v":0},"NROS DE ACCIONES/CUOTAS TITULAR:",{"$f":"IF(SOCIOS!E52>0,SOCIOS!E52,\"<<<<>>>>NO COMPLETADO\")","v":"<<<<>>>>NO COMPLETADO"},103]
[{"$f":"+SOCIOS!A75","v":"III.Q"},{"$f":"+SOCIOS!B75","v":0},{"$f":"+SOCIOS!C75","v":0},"NROS DE ACCIONES/CUOTAS TITULAR:",{"$f":"IF(SOCIOS!E75>0,SOCIOS!E75,\"<<<<>>>>NO COMPLETADO\")","v":"<<<<>>>>NO COMPLETADO"},104]
[{"$f":"+SOCIOS!A98","v":"III.Q"},{"$f":"+SOCIOS!B98","v":0},{"$f":"+SOCIOS!C98","v":0},"NROS DE ACCIONES/CUOTAS TITULAR:",{"$f":"IF(SOCIOS!E98>0,SOCIOS!E98,\"<<<<>>>>NO COMPLETADO\")","v":"<<<<>>>>NO COMPLETADO"},105]
[{"$f":"+SOCIOS!A121","v":"III.Q"},{"$f":"+SOCIOS!B121","v":0},{"$f":"+SOCIOS!C121","v":0},"NROS DE ACCIONES/CUOTAS TITULAR:",{"$f":"IF(SOCIOS!E121>0,SOCIOS!E121,\"<<<<>>>>NO COMPLETADO\")","v":"<<<<>>>>NO COMPLETADO"},106]
[{"$f":"+SOCIOS!A144","v":"III.Q"},{"$f":"+SOCIOS!B144","v":0},{"$f":"+SOCIOS!C144","v":0},"NROS DE ACCIONES/CUOTAS TITULAR:",{"$f":"IF(SOCIOS!E144>0,SOCIOS!E144,\"<<<<>>>>NO COMPLETADO\")","v":"<<<<>>>>NO COMPLETADO"},107]
[{"$f":"+SOCIOS!A167","v":"III.Q"},{"$f":"+SOCIOS!B167","v":0},{"$f":"+SOCIOS!C167","v":0},"NROS DE ACCIONES/CUOTAS TITULAR:",{"$f":"IF(SOCIOS!E167>0,SOCIOS!E167,\"<<<<>>>>NO COMPLETADO\")","v":"<<<<>>>>NO COMPLETADO"},108]
[{"$f":"+SOCIOS!A190","v":"III.Q"},{"$f":"+SOCIOS!B190","v":0},{"$f":"+SOCIOS!C190","v":0},"NROS DE ACCIONES/CUOTAS TITULAR:",{"$f":"IF(SOCIOS!E190>0,SOCIOS!E190,\"<<<<>>>>NO COMPLETADO\")","v":"<<<<>>>>NO COMPLETADO"},109]
[{"$f":"+SOCIOS!A213","v":"III.Q"},{"$f":"+SOCIOS!B213","v":0},{"$f":"+SOCIOS!C213","v":0},"NROS DE ACCIONES/CUOTAS TITULAR:",{"$f":"IF(SOCIOS!E213>0,SOCIOS!E213,\"<<<<>>>>NO COMPLETADO\")","v":"<<<<>>>>NO COMPLETADO"},110]
[{"$f":"+SOCIOS!A236","v":"III.Q"},{"$f":"+SOCIOS!B236","v":0},{"$f":"+SOCIOS!C236","v":0},"NROS DE ACCIONES/CUOTAS TITULAR:",{"$f":"IF(SOCIOS!E236>0,SOCIOS!E236,\"<<<<>>>>NO COMPLETADO\")","v":"<<<<>>>>NO COMPLETADO"},111]
[{"$f":"+SOCIOS!A259","v":"III.Q"},{"$f":"+SOCIOS!B259","v":0},{"$f":"+SOCIOS!C259","v":0},"NROS DE ACCIONES/CUOTAS TITULAR:",{"$f":"IF(SOCIOS!E259>0,SOCIOS!E259,\"<<<<>>>>NO COMPLETADO\")","v":"<<<<>>>>NO COMPLETADO"},112]
[{"$f":"+SOCIOS!A282","v":"III.Q"},{"$f":"+SOCIOS!B282","v":0},{"$f":"+SOCIOS!C282","v":0},"NROS DE ACCIONES/CUOTAS TITULAR:",{"$f":"IF(SOCIOS!E282>0,SOCIOS!E282,\"<<<<>>>>NO COMPLETADO\")","v":"<<<<>>>>NO COMPLETADO"},113]
[{"$f":"+SOCIOS!A305","v":"III.Q"},{"$f":"+SOCIOS!B305","v":0},{"$f":"+SOCIOS!C305","v":0},"NROS DE ACCIONES/CUOTAS TITULAR:",{"$f":"IF(SOCIOS!E305>0,SOCIOS!E305,\"<<<<>>>>NO COMPLETADO\")","v":"<<<<>>>>NO COMPLETADO"},114]
[{"$f":"+SOCIOS!A328","v":"III.Q"},{"$f":"+SOCIOS!B328","v":0},{"$f":"+SOCIOS!C328","v":0},"NROS DE ACCIONES/CUOTAS TITULAR:",{"$f":"IF(SOCIOS!E328>0,SOCIOS!E328,\"<<<<>>>>NO COMPLETADO\")","v":"<<<<>>>>NO COMPLETADO"},115]
[{"$f":"+SOCIOS!A35","v":"IV"},{"$f":"+SOCIOS!B35","v":0},{"$f":"+SOCIOS!C35","v":0},"NOMBRE CARGO REP. LEGAL QUE OCUPA:",{"$f":"IF(SOCIOS!E35>0,SOCIOS!E35,\"<<<<>>>>NO COMPLETADO\")","v":"<<<<>>>>NO COMPLETADO"},116]
[{"$f":"+SOCIOS!A58","v":"IV"},{"$f":"+SOCIOS!B58","v":0},{"$f":"+SOCIOS!C58","v":0},"NOMBRE CARGO REP. LEGAL QUE OCUPA:",{"$f":"IF(SOCIOS!E58>0,SOCIOS!E58,\"<<<<>>>>NO COMPLETADO\")","v":"<<<<>>>>NO COMPLETADO"},117]
[{"$f":"+SOCIOS!A81","v":"IV"},{"$f":"+SOCIOS!B81","v":0},{"$f":"+SOCIOS!C81","v":0},"NOMBRE CARGO REP. LEGAL QUE OCUPA:",{"$f":"IF(SOCIOS!E81>0,SOCIOS!E81,\"<<<<>>>>NO COMPLETADO\")","v":"<<<<>>>>NO COMPLETADO"},118]
[{"$f":"+SOCIOS!A104","v":"IV"},{"$f":"+SOCIOS!B104","v":0},{"$f":"+SOCIOS!C104","v":0},"NOMBRE CARGO REP. LEGAL QUE OCUPA:",{"$f":"IF(SOCIOS!E104>0,SOCIOS!E104,\"<<<<>>>>NO COMPLETADO\")","v":"<<<<>>>>NO COMPLETADO"},119]
[{"$f":"+SOCIOS!A127","v":"IV"},{"$f":"+SOCIOS!B127","v":0},{"$f":"+SOCIOS!C127","v":0},"NOMBRE CARGO REP. LEGAL QUE OCUPA:",{"$f":"IF(SOCIOS!E127>0,SOCIOS!E127,\"<<<<>>>>NO COMPLETADO\")","v":"<<<<>>>>NO COMPLETADO"},120]
[{"$f":"+SOCIOS!A150","v":"IV"},{"$f":"+SOCIOS!B150","v":0},{"$f":"+SOCIOS!C150","v":0},"NOMBRE CARGO REP. LEGAL QUE OCUPA:",{"$f":"IF(SOCIOS!E150>0,SOCIOS!E150,\"<<<<>>>>NO COMPLETADO\")","v":"<<<<>>>>NO COMPLETADO"},121]
[{"$f":"+SOCIOS!A173","v":"IV"},{"$f":"+SOCIOS!B173","v":0},{"$f":"+SOCIOS!C173","v":0},"NOMBRE CARGO REP. LEGAL QUE OCUPA:",{"$f":"IF(SOCIOS!E173>0,SOCIOS!E173,\"<<<<>>>>NO COMPLETADO\")","v":"<<<<>>>>NO COMPLETADO"},122]
[{"$f":"+SOCIOS!A196","v":"IV"},{"$f":"+SOCIOS!B196","v":0},{"$f":"+SOCIOS!C196","v":0},"NOMBRE CARGO REP. LEGAL QUE OCUPA:",{"$f":"IF(SOCIOS!E196>0,SOCIOS!E196,\"<<<<>>>>NO COMPLETADO\")","v":"<<<<>>>>NO COMPLETADO"},123]
[{"$f":"+SOCIOS!A219","v":"IV"},{"$f":"+SOCIOS!B219","v":0},{"$f":"+SOCIOS!C219","v":0},"NOMBRE CARGO REP. LEGAL QUE OCUPA:",{"$f":"IF(SOCIOS!E219>0,SOCIOS!E219,\"<<<<>>>>NO COMPLETADO\")","v":"<<<<>>>>NO COMPLETADO"},124]
[{"$f":"+SOCIOS!A242","v":"IV"},{"$f":"+SOCIOS!B242","v":0},{"$f":"+SOCIOS!C242","v":0},"NOMBRE CARGO REP. LEGAL QUE OCUPA:",{"$f":"IF(SOCIOS!E242>0,SOCIOS!E242,\"<<<<>>>>NO COMPLETADO\")","v":"<<<<>>>>NO COMPLETADO"},125]
[{"$f":"+SOCIOS!A265","v":"IV"},{"$f":"+SOCIOS!B265","v":0},{"$f":"+SOCIOS!C265","v":0},"NOMBRE CARGO REP. LEGAL QUE OCUPA:",{"$f":"IF(SOCIOS!E265>0,SOCIOS!E265,\"<<<<>>>>NO COMPLETADO\")","v":"<<<<>>>>NO COMPLETADO"},126]
[{"$f":"+SOCIOS!A288","v":"IV"},{"$f":"+SOCIOS!B288","v":0},{"$f":"+SOCIOS!C288","v":0},"NOMBRE CARGO REP. LEGAL QUE OCUPA:",{"$f":"IF(SOCIOS!E288>0,SOCIOS!E288,\"<<<<>>>>NO COMPLETADO\")","v":"<<<<>>>>NO COMPLETADO"},127]
[{"$f":"+SOCIOS!A311","v":"IV"},{"$f":"+SOCIOS!B311","v":0},{"$f":"+SOCIOS!C311","v":0},"NOMBRE CARGO REP. LEGAL QUE OCUPA:",{"$f":"IF(SOCIOS!E311>0,SOCIOS!E311,\"<<<<>>>>NO COMPLETADO\")","v":"<<<<>>>>NO COMPLETADO"},128]
[{"$f":"+SOCIOS!A334","v":"IV"},{"$f":"+SOCIOS!B334","v":0},{"$f":"+SOCIOS!C334","v":0},"NOMBRE CARGO REP. LEGAL QUE OCUPA:",{"$f":"IF(SOCIOS!E334>0,SOCIOS!E334,\"<<<<>>>>NO COMPLETADO\")","v":"<<<<>>>>NO COMPLETADO"},129]
[{"$f":"+'NO SOCIOS'!A21","v":"IV"},{"$f":"+'NO SOCIOS'!B21","v":0},{"$f":"+'NO SOCIOS'!C21","v":0},"NOMBRE CARGO REP. LEGAL QUE OCUPA:",{"$f":"IF('NO SOCIOS'!E21>0,'NO SOCIOS'!E21,\"<<<<>>>>NO COMPLETADO\")","v":"<<<<>>>>NO COMPLETADO"},130]
[{"$f":"+'NO SOCIOS'!A38","v":"IV"},{"$f":"+'NO SOCIOS'!B38","v":0},{"$f":"+'NO SOCIOS'!C38","v":0},"NOMBRE CARGO REP. LEGAL QUE OCUPA:",{"$f":"IF('NO SOCIOS'!E38>0,'NO SOCIOS'!E38,\"<<<<>>>>NO COMPLETADO\")","v":"<<<<>>>>NO COMPLETADO"},131]
[{"$f":"+'NO SOCIOS'!A55","v":"IV"},{"$f":"+'NO SOCIOS'!B55","v":0},{"$f":"+'NO SOCIOS'!C55","v":0},"NOMBRE CARGO REP. LEGAL QUE OCUPA:",{"$f":"IF('NO SOCIOS'!E55>0,'NO SOCIOS'!E55,\"<<<<>>>>NO COMPLETADO\")","v":"<<<<>>>>NO COMPLETADO"},132]
[{"$f":"+'NO SOCIOS'!A72","v":"IV"},{"$f":"+'NO SOCIOS'!B72","v":0},{"$f":"+'NO SOCIOS'!C72","v":0},"NOMBRE CARGO REP. LEGAL QUE OCUPA:",{"$f":"IF('NO SOCIOS'!E72>0,'NO SOCIOS'!E72,\"<<<<>>>>NO COMPLETADO\")","v":"<<<<>>>>NO COMPLETADO"},133]
[{"$f":"+'NO SOCIOS'!A89","v":"IV"},{"$f":"+'NO SOCIOS'!B89","v":0},{"$f":"+'NO SOCIOS'!C89","v":0},"NOMBRE CARGO REP. LEGAL QUE OCUPA:",{"$f":"IF('NO SOCIOS'!E89>0,'NO SOCIOS'!E89,\"<<<<>>>>NO COMPLETADO\")","v":"<<<<>>>>NO COMPLETADO"},134]
[{"$f":"+'NO SOCIOS'!A106","v":"IV"},{"$f":"+'NO SOCIOS'!B106","v":0},{"$f":"+'NO SOCIOS'!C106","v":0},"NOMBRE CARGO REP. LEGAL QUE OCUPA:",{"$f":"IF('NO SOCIOS'!E106>0,'NO SOCIOS'!E106,\"<<<<>>>>NO COMPLETADO\")","v":"<<<<>>>>NO COMPLETADO"},135]
[{"$f":"+'NO SOCIOS'!A123","v":"IV"},{"$f":"+'NO SOCIOS'!B123","v":0},{"$f":"+'NO SOCIOS'!C123","v":0},"NOMBRE CARGO REP. LEGAL QUE OCUPA:",{"$f":"IF('NO SOCIOS'!E123>0,'NO SOCIOS'!E123,\"<<<<>>>>NO COMPLETADO\")","v":"<<<<>>>>NO COMPLETADO"},136]
[{"$f":"+'NO SOCIOS'!A140","v":"IV"},{"$f":"+'NO SOCIOS'!B140","v":0},{"$f":"+'NO SOCIOS'!C140","v":0},"NOMBRE CARGO REP. LEGAL QUE OCUPA:",{"$f":"IF('NO SOCIOS'!E140>0,'NO SOCIOS'!E140,\"<<<<>>>>NO COMPLETADO\")","v":"<<<<>>>>NO COMPLETADO"},137]
[{"$f":"+'NO SOCIOS'!A157","v":"IV"},{"$f":"+'NO SOCIOS'!B157","v":0},{"$f":"+'NO SOCIOS'!C157","v":0},"NOMBRE CARGO REP. LEGAL QUE OCUPA:",{"$f":"IF('NO SOCIOS'!E157>0,'NO SOCIOS'!E157,\"<<<<>>>>NO COMPLETADO\")","v":"<<<<>>>>NO COMPLETADO"},138]
[{"$f":"+'NO SOCIOS'!A174","v":"IV"},{"$f":"+'NO SOCIOS'!B174","v":0},{"$f":"+'NO SOCIOS'!C174","v":0},"NOMBRE CARGO REP. LEGAL QUE OCUPA:",{"$f":"IF('NO SOCIOS'!E174>0,'NO SOCIOS'!E174,\"<<<<>>>>NO COMPLETADO\")","v":"<<<<>>>>NO COMPLETADO"},139]
[{"$f":"+'NO SOCIOS'!A191","v":"IV"},{"$f":"+'NO SOCIOS'!B191","v":0},{"$f":"+'NO SOCIOS'!C191","v":0},"NOMBRE CARGO REP. LEGAL QUE OCUPA:",{"$f":"IF('NO SOCIOS'!E191>0,'NO SOCIOS'!E191,\"<<<<>>>>NO COMPLETADO\")","v":"<<<<>>>>NO COMPLETADO"},140]
[{"$f":"+'NO SOCIOS'!A208","v":"IV"},{"$f":"+'NO SOCIOS'!B208","v":0},{"$f":"+'NO SOCIOS'!C208","v":0},"NOMBRE CARGO REP. LEGAL QUE OCUPA:",{"$f":"IF('NO SOCIOS'!E208>0,'NO SOCIOS'!E208,\"<<<<>>>>NO COMPLETADO\")","v":"<<<<>>>>NO COMPLETADO"},141]
[{"$f":"+'NO SOCIOS'!A225","v":"IV"},{"$f":"+'NO SOCIOS'!B225","v":0},{"$f":"+'NO SOCIOS'!C225","v":0},"NOMBRE CARGO REP. LEGAL QUE OCUPA:",{"$f":"IF('NO SOCIOS'!E225>0,'NO SOCIOS'!E225,\"<<<<>>>>NO COMPLETADO\")","v":"<<<<>>>>NO COMPLETADO"},142]
[{"$f":"+'NO SOCIOS'!A242","v":"IV"},{"$f":"+'NO SOCIOS'!B242","v":0},{"$f":"+'NO SOCIOS'!C242","v":0},"NOMBRE CARGO REP. LEGAL QUE OCUPA:",{"$f":"IF('NO SOCIOS'!E242>0,'NO SOCIOS'!E242,\"<<<<>>>>NO COMPLETADO\")","v":"<<<<>>>>NO COMPLETADO"},143]
[{"$f":"+'NO SOCIOS'!A259","v":"IV"},{"$f":"+'NO SOCIOS'!B259","v":0},{"$f":"+'NO SOCIOS'!C259","v":0},"NOMBRE CARGO REP. LEGAL QUE OCUPA:",{"$f":"IF('NO SOCIOS'!E259>0,'NO SOCIOS'!E259,\"<<<<>>>>NO COMPLETADO\")","v":"<<<<>>>>NO COMPLETADO"},144]
[{"$f":"+'NO SOCIOS'!A8","v":"NS"},{"$f":"+'NO SOCIOS'!B8","v":0},{"$f":"+'NO SOCIOS'!C8","v":0},"DOC. IDENTIDAD –sin puntos-: ……………………",{"$f":"IF('NO SOCIOS'!E8>0,'NO SOCIOS'!E8,\"<<<<>>>>NO COMPLETADO\")","v":"<<<<>>>>NO COMPLETADO"},145]
[{"$f":"+'NO SOCIOS'!A9","v":"NS"},{"$f":"+'NO SOCIOS'!B9","v":0},{"$f":"+'NO SOCIOS'!C9","v":0},"CUIT/CUIL –sin puntos ni barras-:",{"$f":"IF('NO SOCIOS'!E9>0,'NO SOCIOS'!E9,\"<<<<>>>>NO COMPLETADO\")","v":"<<<<>>>>NO COMPLETADO"},146]
[{"$f":"+'NO SOCIOS'!A10","v":"NS"},{"$f":"+'NO SOCIOS'!B10","v":0},{"$f":"+'NO SOCIOS'!C10","v":0},"FECHA DE NACIMIENTO –dd/mm/aa-:",{"$f":"IF('NO SOCIOS'!E10>0,'NO SOCIOS'!E10,\"<<<<>>>>NO COMPLETADO\")","v":"<<<<>>>>NO COMPLETADO"},147]
[{"$f":"+'NO SOCIOS'!A11","v":"NS"},{"$f":"+'NO SOCIOS'!B11","v":0},{"$f":"+'NO SOCIOS'!C11","v":0},"LUGAR DE NACIMIENTO:",{"$f":"IF('NO SOCIOS'!E11>0,'NO SOCIOS'!E11,\"<<<<>>>>NO COMPLETADO\")","v":"<<<<>>>>NO COMPLETADO"},148]
[{"$f":"+'NO SOCIOS'!A12","v":"NS"},{"$f":"+'NO SOCIOS'!B12","v":0},{"$f":"+'NO SOCIOS'!C12","v":0},"NACIONALIDAD:",{"$f":"IF('NO SOCIOS'!E12>0,'NO SOCIOS'!E12,\"<<<<>>>>NO COMPLETADO\")","v":"<<<<>>>>NO COMPLETADO"},149]
[{"$f":"+'NO SOCIOS'!A13","v":"NS"},{"$f":"+'NO SOCIOS'!B13","v":0},{"$f":"+'NO SOCIOS'!C13","v":0},"PROFESIÓN:",{"$f":"IF('NO SOCIOS'!E13>0,'NO SOCIOS'!E13,\"<<<<>>>>NO COMPLETADO\")","v":"<<<<>>>>NO COMPLETADO"},150]
[{"$f":"+'NO SOCIOS'!A14","v":"NS"},{"$f":"+'NO SOCIOS'!B14","v":0},{"$f":"+'NO SOCIOS'!C14","v":0},"DOMICILIO REAL:",{"$f":"IF('NO SOCIOS'!E14>0,'NO SOCIOS'!E14,\"<<<<>>>>NO COMPLETADO\")","v":"<<<<>>>>NO COMPLETADO"},151]
[{"$f":"+'NO SOCIOS'!A15","v":"NS"},{"$f":"+'NO SOCIOS'!B15","v":0},{"$f":"+'NO SOCIOS'!C15","v":0},"CEL/TEL –sin puntos ni barras-:",{"$f":"IF('NO SOCIOS'!E15>0,'NO SOCIOS'!E15,\"<<<<>>>>NO COMPLETADO\")","v":"<<<<>>>>NO COMPLETADO"},152]
[{"$f":"+'NO SOCIOS'!A16","v":"NS"},{"$f":"+'NO SOCIOS'!B16","v":0},{"$f":"+'NO SOCIOS'!C16","v":0},"EMAIL:",{"$f":"IF('NO SOCIOS'!E16>0,'NO SOCIOS'!E16,\"<<<<>>>>NO COMPLETADO\")","v":"<<<<>>>>NO COMPLETADO"},153]
[{"$f":"+'NO SOCIOS'!A17","v":"NS"},{"$f":"+'NO SOCIOS'!B17","v":0},{"$f":"+'NO SOCIOS'!C17","v":0},"ESTADO CIVIL:",{"$f":"IF('NO SOCIOS'!E17>0,'NO SOCIOS'!E17,\"<<<<>>>>NO COMPLETADO\")","v":"<<<<>>>>NO COMPLETADO"},154]
[{"$f":"+'NO SOCIOS'!A18","v":"NS"},{"$f":"+'NO SOCIOS'!B18","v":0},{"$f":"+'NO SOCIOS'!C18","v":0},"APELLIDO/S CÓNYUGE:",{"$f":"IF('NO SOCIOS'!E18>0,'NO SOCIOS'!E18,\"<<<<>>>>NO COMPLETADO\")","v":"<<<<>>>>NO COMPLETADO"},155]
[{"$f":"+'NO SOCIOS'!A19","v":"NS"},{"$f":"+'NO SOCIOS'!B19","v":0},{"$f":"+'NO SOCIOS'!C19","v":0},"NOMBRE/S CÓNYUGE",{"$f":"IF('NO SOCIOS'!E19>0,'NO SOCIOS'!E19,\"<<<<>>>>NO COMPLETADO\")","v":"<<<<>>>>NO COMPLETADO"},156]
[{"$f":"+'NO SOCIOS'!A20","v":"NS"},{"$f":"+'NO SOCIOS'!B20","v":0},{"$f":"+'NO SOCIOS'!C20","v":0},"DOC. IDENTIDAD (cónyuge) –sin puntos ni barras-: ",{"$f":"IF('NO SOCIOS'!E20>0,'NO SOCIOS'!E20,\"<<<<>>>>NO COMPLETADO\")","v":"<<<<>>>>NO COMPLETADO"},157]
[{"$f":"+'NO SOCIOS'!A24","v":"NS"},{"$f":"+'NO SOCIOS'!B24","v":0},{"$f":"+'NO SOCIOS'!C24","v":0},"NOTA/OBSERVACIÓN.",{"$f":"IF('NO SOCIOS'!E24>0,'NO SOCIOS'!E24,\"<<<<>>>>NO COMPLETADO\")","v":"<<<<>>>>NO COMPLETADO"},158]
[{"$f":"+'NO SOCIOS'!A25","v":"NS"},{"$f":"+'NO SOCIOS'!B25","v":0},{"$f":"+'NO SOCIOS'!C25","v":0},"DOC. IDENTIDAD –sin puntos-: ……………………",{"$f":"IF('NO SOCIOS'!E25>0,'NO SOCIOS'!E25,\"<<<<>>>>NO COMPLETADO\")","v":"<<<<>>>>NO COMPLETADO"},159]
[{"$f":"+'NO SOCIOS'!A26","v":"NS"},{"$f":"+'NO SOCIOS'!B26","v":0},{"$f":"+'NO SOCIOS'!C26","v":0},"CUIT/CUIL –sin puntos ni barras-:",{"$f":"IF('NO SOCIOS'!E26>0,'NO SOCIOS'!E26,\"<<<<>>>>NO COMPLETADO\")","v":"<<<<>>>>NO COMPLETADO"},160]
[{"$f":"+'NO SOCIOS'!A27","v":"NS"},{"$f":"+'NO SOCIOS'!B27","v":0},{"$f":"+'NO SOCIOS'!C27","v":0},"FECHA DE NACIMIENTO –dd/mm/aa-:",{"$f":"IF('NO SOCIOS'!E27>0,'NO SOCIOS'!E27,\"<<<<>>>>NO COMPLETADO\")","v":"<<<<>>>>NO COMPLETADO"},161]
[{"$f":"+'NO SOCIOS'!A28","v":"NS"},{"$f":"+'NO SOCIOS'!B28","v":0},{"$f":"+'NO SOCIOS'!C28","v":0},"LUGAR DE NACIMIENTO:",{"$f":"IF('NO SOCIOS'!E28>0,'NO SOCIOS'!E28,\"<<<<>>>>NO COMPLETADO\")","v":"<<<<>>>>NO COMPLETADO"},162]
[{"$f":"+'NO SOCIOS'!A29","v":"NS"},{"$f":"+'NO SOCIOS'!B29","v":0},{"$f":"+'NO SOCIOS'!C29","v":0},"NACIONALIDAD:",{"$f":"IF('NO SOCIOS'!E29>0,'NO SOCIOS'!E29,\"<<<<>>>>NO COMPLETADO\")","v":"<<<<>>>>NO COMPLETADO"},163]
[{"$f":"+'NO SOCIOS'!A30","v":"NS"},{"$f":"+'NO SOCIOS'!B30","v":0},{"$f":"+'NO SOCIOS'!C30","v":0},"PROFESIÓN:",{"$f":"IF('NO SOCIOS'!E30>0,'NO SOCIOS'!E30,\"<<<<>>>>NO COMPLETADO\")","v":"<<<<>>>>NO COMPLETADO"},164]
[{"$f":"+'NO SOCIOS'!A31","v":"NS"},{"$f":"+'NO SOCIOS'!B31","v":0},{"$f":"+'NO SOCIOS'!C31","v":0},"DOMICILIO REAL:",{"$f":"IF('NO SOCIOS'!E31>0,'NO SOCIOS'!E31,\"<<<<>>>>NO COMPLETADO\")","v":"<<<<>>>>NO COMPLETADO"},165]
[{"$f":"+'NO SOCIOS'!A32","v":"NS"},{"$f":"+'NO SOCIOS'!B32","v":0},{"$f":"+'NO SOCIOS'!C32","v":0},"CEL/TEL –sin puntos ni barras-:",{"$f":"IF('NO SOCIOS'!E32>0,'NO SOCIOS'!E32,\"<<<<>>>>NO COMPLETADO\")","v":"<<<<>>>>NO COMPLETADO"},166]
[{"$f":"+'NO SOCIOS'!A33","v":"NS"},{"$f":"+'NO SOCIOS'!B33","v":0},{"$f":"+'NO SOCIOS'!C33","v":0},"EMAIL:",{"$f":"IF('NO SOCIOS'!E33>0,'NO SOCIOS'!E33,\"<<<<>>>>NO COMPLETADO\")","v":"<<<<>>>>NO COMPLETADO"},167]
[{"$f":"+'NO SOCIOS'!A34","v":"NS"},{"$f":"+'NO SOCIOS'!B34","v":0},{"$f":"+'NO SOCIOS'!C34","v":0},"ESTADO CIVIL:",{"$f":"IF('NO SOCIOS'!E34>0,'NO SOCIOS'!E34,\"<<<<>>>>NO COMPLETADO\")","v":"<<<<>>>>NO COMPLETADO"},168]
[{"$f":"+'NO SOCIOS'!A35","v":"NS"},{"$f":"+'NO SOCIOS'!B35","v":0},{"$f":"+'NO SOCIOS'!C35","v":0},"APELLIDO/S CÓNYUGE:",{"$f":"IF('NO SOCIOS'!E35>0,'NO SOCIOS'!E35,\"<<<<>>>>NO COMPLETADO\")","v":"<<<<>>>>NO COMPLETADO"},169]
[{"$f":"+'NO SOCIOS'!A36","v":"NS"},{"$f":"+'NO SOCIOS'!B36","v":0},{"$f":"+'NO SOCIOS'!C36","v":0},"NOMBRE/S CÓNYUGE",{"$f":"IF('NO SOCIOS'!E36>0,'NO SOCIOS'!E36,\"<<<<>>>>NO COMPLETADO\")","v":"<<<<>>>>NO COMPLETADO"},170]
[{"$f":"+'NO SOCIOS'!A37","v":"NS"},{"$f":"+'NO SOCIOS'!B37","v":0},{"$f":"+'NO SOCIOS'!C37","v":0},"DOC. IDENTIDAD (cónyuge) –sin puntos ni barras-: ",{"$f":"IF('NO SOCIOS'!E37>0,'NO SOCIOS'!E37,\"<<<<>>>>NO COMPLETADO\")","v":"<<<<>>>>NO COMPLETADO"},171]
[{"$f":"+'NO SOCIOS'!A41","v":"NS"},{"$f":"+'NO SOCIOS'!B41","v":0},{"$f":"+'NO SOCIOS'!C41","v":0},"NOTA/OBSERVACIÓN.",{"$f":"IF('NO SOCIOS'!E41>0,'NO SOCIOS'!E41,\"<<<<>>>>NO COMPLETADO\")","v":"<<<<>>>>NO COMPLETADO"},172]
[{"$f":"+'NO SOCIOS'!A42","v":"NS"},{"$f":"+'NO SOCIOS'!B42","v":0},{"$f":"+'NO SOCIOS'!C42","v":0},"DOC. IDENTIDAD –sin puntos-: ……………………",{"$f":"IF('NO SOCIOS'!E42>0,'NO SOCIOS'!E42,\"<<<<>>>>NO COMPLETADO\")","v":"<<<<>>>>NO COMPLETADO"},173]
[{"$f":"+'NO SOCIOS'!A43","v":"NS"},{"$f":"+'NO SOCIOS'!B43","v":0},{"$f":"+'NO SOCIOS'!C43","v":0},"CUIT/CUIL –sin puntos ni barras-:",{"$f":"IF('NO SOCIOS'!E43>0,'NO SOCIOS'!E43,\"<<<<>>>>NO COMPLETADO\")","v":"<<<<>>>>NO COMPLETADO"},174]
[{"$f":"+'NO SOCIOS'!A44","v":"NS"},{"$f":"+'NO SOCIOS'!B44","v":0},{"$f":"+'NO SOCIOS'!C44","v":0},"FECHA DE NACIMIENTO –dd/mm/aa-:",{"$f":"IF('NO SOCIOS'!E44>0,'NO SOCIOS'!E44,\"<<<<>>>>NO COMPLETADO\")","v":"<<<<>>>>NO COMPLETADO"},175]
[{"$f":"+'NO SOCIOS'!A45","v":"NS"},{"$f":"+'NO SOCIOS'!B45","v":0},{"$f":"+'NO SOCIOS'!C45","v":0},"LUGAR DE NACIMIENTO:",{"$f":"IF('NO SOCIOS'!E45>0,'NO SOCIOS'!E45,\"<<<<>>>>NO COMPLETADO\")","v":"<<<<>>>>NO COMPLETADO"},176]
[{"$f":"+'NO SOCIOS'!A46","v":"NS"},{"$f":"+'NO SOCIOS'!B46","v":0},{"$f":"+'NO SOCIOS'!C46","v":0},"NACIONALIDAD:",{"$f":"IF('NO SOCIOS'!E46>0,'NO SOCIOS'!E46,\"<<<<>>>>NO COMPLETADO\")","v":"<<<<>>>>NO COMPLETADO"},177]
[{"$f":"+'NO SOCIOS'!A47","v":"NS"},{"$f":"+'NO SOCIOS'!B47","v":0},{"$f":"+'NO SOCIOS'!C47","v":0},"PROFESIÓN:",{"$f":"IF('NO SOCIOS'!E47>0,'NO SOCIOS'!E47,\"<<<<>>>>NO COMPLETADO\")","v":"<<<<>>>>NO COMPLETADO"},178]
[{"$f":"+'NO SOCIOS'!A48","v":"NS"},{"$f":"+'NO SOCIOS'!B48","v":0},{"$f":"+'NO SOCIOS'!C48","v":0},"DOMICILIO REAL:",{"$f":"IF('NO SOCIOS'!E48>0,'NO SOCIOS'!E48,\"<<<<>>>>NO COMPLETADO\")","v":"<<<<>>>>NO COMPLETADO"},179]
[{"$f":"+'NO SOCIOS'!A49","v":"NS"},{"$f":"+'NO SOCIOS'!B49","v":0},{"$f":"+'NO SOCIOS'!C49","v":0},"CEL/TEL –sin puntos ni barras-:",{"$f":"IF('NO SOCIOS'!E49>0,'NO SOCIOS'!E49,\"<<<<>>>>NO COMPLETADO\")","v":"<<<<>>>>NO COMPLETADO"},180]
[{"$f":"+'NO SOCIOS'!A50","v":"NS"},{"$f":"+'NO SOCIOS'!B50","v":0},{"$f":"+'NO SOCIOS'!C50","v":0},"EMAIL:",{"$f":"IF('NO SOCIOS'!E50>0,'NO SOCIOS'!E50,\"<<<<>>>>NO COMPLETADO\")","v":"<<<<>>>>NO COMPLETADO"},181]
[{"$f":"+'NO SOCIOS'!A51","v":"NS"},{"$f":"+'NO SOCIOS'!B51","v":0},{"$f":"+'NO SOCIOS'!C51","v":0},"ESTADO CIVIL:",{"$f":"IF('NO SOCIOS'!E51>0,'NO SOCIOS'!E51,\"<<<<>>>>NO COMPLETADO\")","v":"<<<<>>>>NO COMPLETADO"},182]
[{"$f":"+'NO SOCIOS'!A52","v":"NS"},{"$f":"+'NO SOCIOS'!B52","v":0},{"$f":"+'NO SOCIOS'!C52","v":0},"APELLIDO/S CÓNYUGE:",{"$f":"IF('NO SOCIOS'!E52>0,'NO SOCIOS'!E52,\"<<<<>>>>NO COMPLETADO\")","v":"<<<<>>>>NO COMPLETADO"},183]
[{"$f":"+'NO SOCIOS'!A53","v":"NS"},{"$f":"+'NO SOCIOS'!B53","v":0},{"$f":"+'NO SOCIOS'!C53","v":0},"NOMBRE/S CÓNYUGE",{"$f":"IF('NO SOCIOS'!E53>0,'NO SOCIOS'!E53,\"<<<<>>>>NO COMPLETADO\")","v":"<<<<>>>>NO COMPLETADO"},184]
[{"$f":"+'NO SOCIOS'!A54","v":"NS"},{"$f":"+'NO SOCIOS'!B54","v":0},{"$f":"+'NO SOCIOS'!C54","v":0},"DOC. IDENTIDAD (cónyuge) –sin puntos ni barras-: ",{"$f":"IF('NO SOCIOS'!E54>0,'NO SOCIOS'!E54,\"<<<<>>>>NO COMPLETADO\")","v":"<<<<>>>>NO COMPLETADO"},185]
[{"$f":"+'NO SOCIOS'!A58","v":"NS"},{"$f":"+'NO SOCIOS'!B58","v":0},{"$f":"+'NO SOCIOS'!C58","v":0},"NOTA/OBSERVACIÓN.",{"$f":"IF('NO SOCIOS'!E58>0,'NO SOCIOS'!E58,\"<<<<>>>>NO COMPLETADO\")","v":"<<<<>>>>NO COMPLETADO"},186]
[{"$f":"+'NO SOCIOS'!A59","v":"NS"},{"$f":"+'NO SOCIOS'!B59","v":0},{"$f":"+'NO SOCIOS'!C59","v":0},"DOC. IDENTIDAD –sin puntos-: ……………………",{"$f":"IF('NO SOCIOS'!E59>0,'NO SOCIOS'!E59,\"<<<<>>>>NO COMPLETADO\")","v":"<<<<>>>>NO COMPLETADO"},187]
[{"$f":"+'NO SOCIOS'!A60","v":"NS"},{"$f":"+'NO SOCIOS'!B60","v":0},{"$f":"+'NO SOCIOS'!C60","v":0},"CUIT/CUIL –sin puntos ni barras-:",{"$f":"IF('NO SOCIOS'!E60>0,'NO SOCIOS'!E60,\"<<<<>>>>NO COMPLETADO\")","v":"<<<<>>>>NO COMPLETADO"},188]
[{"$f":"+'NO SOCIOS'!A61","v":"NS"},{"$f":"+'NO SOCIOS'!B61","v":0},{"$f":"+'NO SOCIOS'!C61","v":0},"FECHA DE NACIMIENTO –dd/mm/aa-:",{"$f":"IF('NO SOCIOS'!E61>0,'NO SOCIOS'!E61,\"<<<<>>>>NO COMPLETADO\")","v":"<<<<>>>>NO COMPLETADO"},189]
[{"$f":"+'NO SOCIOS'!A62","v":"NS"},{"$f":"+'NO SOCIOS'!B62","v":0},{"$f":"+'NO SOCIOS'!C62","v":0},"LUGAR DE NACIMIENTO:",{"$f":"IF('NO SOCIOS'!E62>0,'NO SOCIOS'!E62,\"<<<<>>>>NO COMPLETADO\")","v":"<<<<>>>>NO COMPLETADO"},190]
[{"$f":"+'NO SOCIOS'!A63","v":"NS"},{"$f":"+'NO SOCIOS'!B63","v":0},{"$f":"+'NO SOCIOS'!C63","v":0},"NACIONALIDAD:",{"$f":"IF('NO SOCIOS'!E63>0,'NO SOCIOS'!E63,\"<<<<>>>>NO COMPLETADO\")","v":"<<<<>>>>NO COMPLETADO"},191]
[{"$f":"+'NO SOCIOS'!A64","v":"NS"},{"$f":"+'NO SOCIOS'!B64","v":0},{"$f":"+'NO SOCIOS'!C64","v":0},"PROFESIÓN:",{"$f":"IF('NO SOCIOS'!E64>0,'NO SOCIOS'!E64,\"<<<<>>>>NO COMPLETADO\")","v":"<<<<>>>>NO COMPLETADO"},192]
[{"$f":"+'NO SOCIOS'!A65","v":"NS"},{"$f":"+'NO SOCIOS'!B65","v":0},{"$f":"+'NO SOCIOS'!C65","v":0},"DOMICILIO REAL:",{"$f":"IF('NO SOCIOS'!E65>0,'NO SOCIOS'!E65,\"<<<<>>>>NO COMPLETADO\")","v":"<<<<>>>>NO COMPLETADO"},193]
[{"$f":"+'NO SOCIOS'!A66","v":"NS"},{"$f":"+'NO SOCIOS'!B66","v":0},{"$f":"+'NO SOCIOS'!C66","v":0},"CEL/TEL –sin puntos ni barras-:",{"$f":"IF('NO SOCIOS'!E66>0,'NO SOCIOS'!E66,\"<<<<>>>>NO COMPLETADO\")","v":"<<<<>>>>NO COMPLETADO"},194]
[{"$f":"+'NO SOCIOS'!A67","v":"NS"},{"$f":"+'NO SOCIOS'!B67","v":0},{"$f":"+'NO SOCIOS'!C67","v":0},"EMAIL:",{"$f":"IF('NO SOCIOS'!E67>0,'NO SOCIOS'!E67,\"<<<<>>>>NO COMPLETADO\")","v":"<<<<>>>>NO COMPLETADO"},195]
[{"$f":"+'NO SOCIOS'!A68","v":"NS"},{"$f":"+'NO SOCIOS'!B68","v":0},{"$f":"+'NO SOCIOS'!C68","v":0},"ESTADO CIVIL:",{"$f":"IF('NO SOCIOS'!E68>0,'NO SOCIOS'!E68,\"<<<<>>>>NO COMPLETADO\")","v":"<<<<>>>>NO COMPLETADO"},196]
[{"$f":"+'NO SOCIOS'!A69","v":"NS"},{"$f":"+'NO SOCIOS'!B69","v":0},{"$f":"+'NO SOCIOS'!C69","v":0},"APELLIDO/S CÓNYUGE:",{"$f":"IF('NO SOCIOS'!E69>0,'NO SOCIOS'!E69,\"<<<<>>>>NO COMPLETADO\")","v":"<<<<>>>>NO COMPLETADO"},197]
[{"$f":"+'NO SOCIOS'!A70","v":"NS"},{"$f":"+'NO SOCIOS'!B70","v":0},{"$f":"+'NO SOCIOS'!C70","v":0},"NOMBRE/S CÓNYUGE",{"$f":"IF('NO SOCIOS'!E70>0,'NO SOCIOS'!E70,\"<<<<>>>>NO COMPLETADO\")","v":"<<<<>>>>NO COMPLETADO"},198]
[{"$f":"+'NO SOCIOS'!A71","v":"NS"},{"$f":"+'NO SOCIOS'!B71","v":0},{"$f":"+'NO SOCIOS'!C71","v":0},"DOC. IDENTIDAD (cónyuge) –sin puntos ni barras-: ",{"$f":"IF('NO SOCIOS'!E71>0,'NO SOCIOS'!E71,\"<<<<>>>>NO COMPLETADO\")","v":"<<<<>>>>NO COMPLETADO"},199]
[{"$f":"+'NO SOCIOS'!A75","v":"NS"},{"$f":"+'NO SOCIOS'!B75","v":0},{"$f":"+'NO SOCIOS'!C75","v":0},"NOTA/OBSERVACIÓN.",{"$f":"IF('NO SOCIOS'!E75>0,'NO SOCIOS'!E75,\"<<<<>>>>NO COMPLETADO\")","v":"<<<<>>>>NO COMPLETADO"},200]
[{"$f":"+'NO SOCIOS'!A76","v":"NS"},{"$f":"+'NO SOCIOS'!B76","v":0},{"$f":"+'NO SOCIOS'!C76","v":0},"DOC. IDENTIDAD –sin puntos-: ……………………",{"$f":"IF('NO SOCIOS'!E76>0,'NO SOCIOS'!E76,\"<<<<>>>>NO COMPLETADO\")","v":"<<<<>>>>NO COMPLETADO"},201]
[{"$f":"+'NO SOCIOS'!A77","v":"NS"},{"$f":"+'NO SOCIOS'!B77","v":0},{"$f":"+'NO SOCIOS'!C77","v":0},"CUIT/CUIL –sin puntos ni barras-:",{"$f":"IF('NO SOCIOS'!E77>0,'NO SOCIOS'!E77,\"<<<<>>>>NO COMPLETADO\")","v":"<<<<>>>>NO COMPLETADO"},202]
[{"$f":"+'NO SOCIOS'!A78","v":"NS"},{"$f":"+'NO SOCIOS'!B78","v":0},{"$f":"+'NO SOCIOS'!C78","v":0},"FECHA DE NACIMIENTO –dd/mm/aa-:",{"$f":"IF('NO SOCIOS'!E78>0,'NO SOCIOS'!E78,\"<<<<>>>>NO COMPLETADO\")","v":"<<<<>>>>NO COMPLETADO"},203]
[{"$f":"+'NO SOCIOS'!A79","v":"NS"},{"$f":"+'NO SOCIOS'!B79","v":0},{"$f":"+'NO SOCIOS'!C79","v":0},"LUGAR DE NACIMIENTO:",{"$f":"IF('NO SOCIOS'!E79>0,'NO SOCIOS'!E79,\"<<<<>>>>NO COMPLETADO\")","v":"<<<<>>>>NO COMPLETADO"},204]
[{"$f":"+'NO SOCIOS'!A80","v":"NS"},{"$f":"+'NO SOCIOS'!B80","v":0},{"$f":"+'NO SOCIOS'!C80","v":0},"NACIONALIDAD:",{"$f":"IF('NO SOCIOS'!E80>0,'NO SOCIOS'!E80,\"<<<<>>>>NO COMPLETADO\")","v":"<<<<>>>>NO COMPLETADO"},205]
[{"$f":"+'NO SOCIOS'!A81","v":"NS"},{"$f":"+'NO SOCIOS'!B81","v":0},{"$f":"+'NO SOCIOS'!C81","v":0},"PROFESIÓN:",{"$f":"IF('NO SOCIOS'!E81>0,'NO SOCIOS'!E81,\"<<<<>>>>NO COMPLETADO\")","v":"<<<<>>>>NO COMPLETADO"},206]
[{"$f":"+'NO SOCIOS'!A82","v":"NS"},{"$f":"+'NO SOCIOS'!B82","v":0},{"$f":"+'NO SOCIOS'!C82","v":0},"DOMICILIO REAL:",{"$f":"IF('NO SOCIOS'!E82>0,'NO SOCIOS'!E82,\"<<<<>>>>NO COMPLETADO\")","v":"<<<<>>>>NO COMPLETADO"},207]
[{"$f":"+'NO SOCIOS'!A83","v":"NS"},{"$f":"+'NO SOCIOS'!B83","v":0},{"$f":"+'NO SOCIOS'!C83","v":0},"CEL/TEL –sin puntos ni barras-:",{"$f":"IF('NO SOCIOS'!E83>0,'NO SOCIOS'!E83,\"<<<<>>>>NO COMPLETADO\")","v":"<<<<>>>>NO COMPLETADO"},208]
[{"$f":"+'NO SOCIOS'!A84","v":"NS"},{"$f":"+'NO SOCIOS'!B84","v":0},{"$f":"+'NO SOCIOS'!C84","v":0},"EMAIL:",{"$f":"IF('NO SOCIOS'!E84>0,'NO SOCIOS'!E84,\"<<<<>>>>NO COMPLETADO\")","v":"<<<<>>>>NO COMPLETADO"},209]
[{"$f":"+'NO SOCIOS'!A85","v":"NS"},{"$f":"+'NO SOCIOS'!B85","v":0},{"$f":"+'NO SOCIOS'!C85","v":0},"ESTADO CIVIL:",{"$f":"IF('NO SOCIOS'!E85>0,'NO SOCIOS'!E85,\"<<<<>>>>NO COMPLETADO\")","v":"<<<<>>>>NO COMPLETADO"},210]
[{"$f":"+'NO SOCIOS'!A86","v":"NS"},{"$f":"+'NO SOCIOS'!B86","v":0},{"$f":"+'NO SOCIOS'!C86","v":0},"APELLIDO/S CÓNYUGE:",{"$f":"IF('NO SOCIOS'!E86>0,'NO SOCIOS'!E86,\"<<<<>>>>NO COMPLETADO\")","v":"<<<<>>>>NO COMPLETADO"},211]
[{"$f":"+'NO SOCIOS'!A87","v":"NS"},{"$f":"+'NO SOCIOS'!B87","v":0},{"$f":"+'NO SOCIOS'!C87","v":0},"NOMBRE/S CÓNYUGE",{"$f":"IF('NO SOCIOS'!E87>0,'NO SOCIOS'!E87,\"<<<<>>>>NO COMPLETADO\")","v":"<<<<>>>>NO COMPLETADO"},212]
[{"$f":"+'NO SOCIOS'!A88","v":"NS"},{"$f":"+'NO SOCIOS'!B88","v":0},{"$f":"+'NO SOCIOS'!C88","v":0},"DOC. IDENTIDAD (cónyuge) –sin puntos ni barras-: ",{"$f":"IF('NO SOCIOS'!E88>0,'NO SOCIOS'!E88,\"<<<<>>>>NO COMPLETADO\")","v":"<<<<>>>>NO COMPLETADO"},213]
[{"$f":"+'NO SOCIOS'!A92","v":"NS"},{"$f":"+'NO SOCIOS'!B92","v":0},{"$f":"+'NO SOCIOS'!C92","v":0},"NOTA/OBSERVACIÓN.",{"$f":"IF('NO SOCIOS'!E92>0,'NO SOCIOS'!E92,\"<<<<>>>>NO COMPLETADO\")","v":"<<<<>>>>NO COMPLETADO"},214]
[{"$f":"+'NO SOCIOS'!A93","v":"NS"},{"$f":"+'NO SOCIOS'!B93","v":0},{"$f":"+'NO SOCIOS'!C93","v":0},"DOC. IDENTIDAD –sin puntos-: ……………………",{"$f":"IF('NO SOCIOS'!E93>0,'NO SOCIOS'!E93,\"<<<<>>>>NO COMPLETADO\")","v":"<<<<>>>>NO COMPLETADO"},215]
[{"$f":"+'NO SOCIOS'!A94","v":"NS"},{"$f":"+'NO SOCIOS'!B94","v":0},{"$f":"+'NO SOCIOS'!C94","v":0},"CUIT/CUIL –sin puntos ni barras-:",{"$f":"IF('NO SOCIOS'!E94>0,'NO SOCIOS'!E94,\"<<<<>>>>NO COMPLETADO\")","v":"<<<<>>>>NO COMPLETADO"},216]
[{"$f":"+'NO SOCIOS'!A95","v":"NS"},{"$f":"+'NO SOCIOS'!B95","v":0},{"$f":"+'NO SOCIOS'!C95","v":0},"FECHA DE NACIMIENTO –dd/mm/aa-:",{"$f":"IF('NO SOCIOS'!E95>0,'NO SOCIOS'!E95,\"<<<<>>>>NO COMPLETADO\")","v":"<<<<>>>>NO COMPLETADO"},217]
[{"$f":"+'NO SOCIOS'!A96","v":"NS"},{"$f":"+'NO SOCIOS'!B96","v":0},{"$f":"+'NO SOCIOS'!C96","v":0},"LUGAR DE NACIMIENTO:",{"$f":"IF('NO SOCIOS'!E96>0,'NO SOCIOS'!E96,\"<<<<>>>>NO COMPLETADO\")","v":"<<<<>>>>NO COMPLETADO"},218]
[{"$f":"+'NO SOCIOS'!A97","v":"NS"},{"$f":"+'NO SOCIOS'!B97","v":0},{"$f":"+'NO SOCIOS'!C97","v":0},"NACIONALIDAD:",{"$f":"IF('NO SOCIOS'!E97>0,'NO SOCIOS'!E97,\"<<<<>>>>NO COMPLETADO\")","v":"<<<<>>>>NO COMPLETADO"},219]
[{"$f":"+'NO SOCIOS'!A98","v":"NS"},{"$f":"+'NO SOCIOS'!B98","v":0},{"$f":"+'NO SOCIOS'!C98","v":0},"PROFESIÓN:",{"$f":"IF('NO SOCIOS'!E98>0,'NO SOCIOS'!E98,\"<<<<>>>>NO COMPLETADO\")","v":"<<<<>>>>NO COMPLETADO"},220]
[{"$f":"+'NO SOCIOS'!A99","v":"NS"},{"$f":"+'NO SOCIOS'!B99","v":0},{"$f":"+'NO SOCIOS'!C99","v":0},"DOMICILIO REAL:",{"$f":"IF('NO SOCIOS'!E99>0,'NO SOCIOS'!E99,\"<<<<>>>>NO COMPLETADO\")","v":"<<<<>>>>NO COMPLETADO"},221]
[{"$f":"+'NO SOCIOS'!A100","v":"NS"},{"$f":"+'NO SOCIOS'!B100","v":0},{"$f":"+'NO SOCIOS'!C100","v":0},"CEL/TEL –sin puntos ni barras-:",{"$f":"IF('NO SOCIOS'!E100>0,'NO SOCIOS'!E100,\"<<<<>>>>NO COMPLETADO\")","v":"<<<<>>>>NO COMPLETADO"},222]
[{"$f":"+'NO SOCIOS'!A101","v":"NS"},{"$f":"+'NO SOCIOS'!B101","v":0},{"$f":"+'NO SOCIOS'!C101","v":0},"EMAIL:",{"$f":"IF('NO SOCIOS'!E101>0,'NO SOCIOS'!E101,\"<<<<>>>>NO COMPLETADO\")","v":"<<<<>>>>NO COMPLETADO"},223]
[{"$f":"+'NO SOCIOS'!A102","v":"NS"},{"$f":"+'NO SOCIOS'!B102","v":0},{"$f":"+'NO SOCIOS'!C102","v":0},"ESTADO CIVIL:",{"$f":"IF('NO SOCIOS'!E102>0,'NO SOCIOS'!E102,\"<<<<>>>>NO COMPLETADO\")","v":"<<<<>>>>NO COMPLETADO"},224]
[{"$f":"+'NO SOCIOS'!A103","v":"NS"},{"$f":"+'NO SOCIOS'!B103","v":0},{"$f":"+'NO SOCIOS'!C103","v":0},"APELLIDO/S CÓNYUGE:",{"$f":"IF('NO SOCIOS'!E103>0,'NO SOCIOS'!E103,\"<<<<>>>>NO COMPLETADO\")","v":"<<<<>>>>NO COMPLETADO"},225]
[{"$f":"+'NO SOCIOS'!A104","v":"NS"},{"$f":"+'NO SOCIOS'!B104","v":0},{"$f":"+'NO SOCIOS'!C104","v":0},"NOMBRE/S CÓNYUGE",{"$f":"IF('NO SOCIOS'!E104>0,'NO SOCIOS'!E104,\"<<<<>>>>NO COMPLETADO\")","v":"<<<<>>>>NO COMPLETADO"},226]
[{"$f":"+'NO SOCIOS'!A105","v":"NS"},{"$f":"+'NO SOCIOS'!B105","v":0},{"$f":"+'NO SOCIOS'!C105","v":0},"DOC. IDENTIDAD (cónyuge) –sin puntos ni barras-: ",{"$f":"IF('NO SOCIOS'!E105>0,'NO SOCIOS'!E105,\"<<<<>>>>NO COMPLETADO\")","v":"<<<<>>>>NO COMPLETADO"},227]
[{"$f":"+'NO SOCIOS'!A109","v":"NS"},{"$f":"+'NO SOCIOS'!B109","v":0},{"$f":"+'NO SOCIOS'!C109","v":0},"NOTA/OBSERVACIÓN.",{"$f":"IF('NO SOCIOS'!E109>0,'NO SOCIOS'!E109,\"<<<<>>>>NO COMPLETADO\")","v":"<<<<>>>>NO COMPLETADO"},228]
[{"$f":"+'NO SOCIOS'!A110","v":"NS"},{"$f":"+'NO SOCIOS'!B110","v":0},{"$f":"+'NO SOCIOS'!C110","v":0},"DOC. IDENTIDAD –sin puntos-: ……………………",{"$f":"IF('NO SOCIOS'!E110>0,'NO SOCIOS'!E110,\"<<<<>>>>NO COMPLETADO\")","v":"<<<<>>>>NO COMPLETADO"},229]
[{"$f":"+'NO SOCIOS'!A111","v":"NS"},{"$f":"+'NO SOCIOS'!B111","v":0},{"$f":"+'NO SOCIOS'!C111","v":0},"CUIT/CUIL –sin puntos ni barras-:",{"$f":"IF('NO SOCIOS'!E111>0,'NO SOCIOS'!E111,\"<<<<>>>>NO COMPLETADO\")","v":"<<<<>>>>NO COMPLETADO"},230]
[{"$f":"+'NO SOCIOS'!A112","v":"NS"},{"$f":"+'NO SOCIOS'!B112","v":0},{"$f":"+'NO SOCIOS'!C112","v":0},"FECHA DE NACIMIENTO –dd/mm/aa-:",{"$f":"IF('NO SOCIOS'!E112>0,'NO SOCIOS'!E112,\"<<<<>>>>NO COMPLETADO\")","v":"<<<<>>>>NO COMPLETADO"},231]
[{"$f":"+'NO SOCIOS'!A113","v":"NS"},{"$f":"+'NO SOCIOS'!B113","v":0},{"$f":"+'NO SOCIOS'!C113","v":0},"LUGAR DE NACIMIENTO:",{"$f":"IF('NO SOCIOS'!E113>0,'NO SOCIOS'!E113,\"<<<<>>>>NO COMPLETADO\")","v":"<<<<>>>>NO COMPLETADO"},232]
[{"$f":"+'NO SOCIOS'!A114","v":"NS"},{"$f":"+'NO SOCIOS'!B114","v":0},{"$f":"+'NO SOCIOS'!C114","v":0},"NACIONALIDAD:",{"$f":"IF('NO SOCIOS'!E114>0,'NO SOCIOS'!E114,\"<<<<>>>>NO COMPLETADO\")","v":"<<<<>>>>NO COMPLETADO"},233]
[{"$f":"+'NO SOCIOS'!A115","v":"NS"},{"$f":"+'NO SOCIOS'!B115","v":0},{"$f":"+'NO SOCIOS'!C115","v":0},"PROFESIÓN:",{"$f":"IF('NO SOCIOS'!E115>0,'NO SOCIOS'!E115,\"<<<<>>>>NO COMPLETADO\")","v":"<<<<>>>>NO COMPLETADO"},234]
[{"$f":"+'NO SOCIOS'!A116","v":"NS"},{"$f":"+'NO SOCIOS'!B116","v":0},{"$f":"+'NO SOCIOS'!C116","v":0},"DOMICILIO REAL:",{"$f":"IF('NO SOCIOS'!E116>0,'NO SOCIOS'!E116,\"<<<<>>>>NO COMPLETADO\")","v":"<<<<>>>>NO COMPLETADO"},235]
[{"$f":"+'NO SOCIOS'!A117","v":"NS"},{"$f":"+'NO SOCIOS'!B117","v":0},{"$f":"+'NO SOCIOS'!C117","v":0},"CEL/TEL –sin puntos ni barras-:",{"$f":"IF('NO SOCIOS'!E117>0,'NO SOCIOS'!E117,\"<<<<>>>>NO COMPLETADO\")","v":"<<<<>>>>NO COMPLETADO"},236]
[{"$f":"+'NO SOCIOS'!A118","v":"NS"},{"$f":"+'NO SOCIOS'!B118","v":0},{"$f":"+'NO SOCIOS'!C118","v":0},"EMAIL:",{"$f":"IF('NO SOCIOS'!E118>0,'NO SOCIOS'!E118,\"<<<<>>>>NO COMPLETADO\")","v":"<<<<>>>>NO COMPLETADO"},237]
[{"$f":"+'NO SOCIOS'!A119","v":"NS"},{"$f":"+'NO SOCIOS'!B119","v":0},{"$f":"+'NO SOCIOS'!C119","v":0},"ESTADO CIVIL:",{"$f":"IF('NO SOCIOS'!E119>0,'NO SOCIOS'!E119,\"<<<<>>>>NO COMPLETADO\")","v":"<<<<>>>>NO COMPLETADO"},238]
[{"$f":"+'NO SOCIOS'!A120","v":"NS"},{"$f":"+'NO SOCIOS'!B120","v":0},{"$f":"+'NO SOCIOS'!C120","v":0},"APELLIDO/S CÓNYUGE:",{"$f":"IF('NO SOCIOS'!E120>0,'NO SOCIOS'!E120,\"<<<<>>>>NO COMPLETADO\")","v":"<<<<>>>>NO COMPLETADO"},239]
[{"$f":"+'NO SOCIOS'!A121","v":"NS"},{"$f":"+'NO SOCIOS'!B121","v":0},{"$f":"+'NO SOCIOS'!C121","v":0},"NOMBRE/S CÓNYUGE",{"$f":"IF('NO SOCIOS'!E121>0,'NO SOCIOS'!E121,\"<<<<>>>>NO COMPLETADO\")","v":"<<<<>>>>NO COMPLETADO"},240]
[{"$f":"+'NO SOCIOS'!A122","v":"NS"},{"$f":"+'NO SOCIOS'!B122","v":0},{"$f":"+'NO SOCIOS'!C122","v":0},"DOC. IDENTIDAD (cónyuge) –sin puntos ni barras-: ",{"$f":"IF('NO SOCIOS'!E122>0,'NO SOCIOS'!E122,\"<<<<>>>>NO COMPLETADO\")","v":"<<<<>>>>NO COMPLETADO"},241]
[{"$f":"+'NO SOCIOS'!A126","v":"NS"},{"$f":"+'NO SOCIOS'!B126","v":0},{"$f":"+'NO SOCIOS'!C126","v":0},"NOTA/OBSERVACIÓN.",{"$f":"IF('NO SOCIOS'!E126>0,'NO SOCIOS'!E126,\"<<<<>>>>NO COMPLETADO\")","v":"<<<<>>>>NO COMPLETADO"},242]
[{"$f":"+'NO SOCIOS'!A127","v":"NS"},{"$f":"+'NO SOCIOS'!B127","v":0},{"$f":"+'NO SOCIOS'!C127","v":0},"DOC. IDENTIDAD –sin puntos-: ……………………",{"$f":"IF('NO SOCIOS'!E127>0,'NO SOCIOS'!E127,\"<<<<>>>>NO COMPLETADO\")","v":"<<<<>>>>NO COMPLETADO"},243]
[{"$f":"+'NO SOCIOS'!A128","v":"NS"},{"$f":"+'NO SOCIOS'!B128","v":0},{"$f":"+'NO SOCIOS'!C128","v":0},"CUIT/CUIL –sin puntos ni barras-:",{"$f":"IF('NO SOCIOS'!E128>0,'NO SOCIOS'!E128,\"<<<<>>>>NO COMPLETADO\")","v":"<<<<>>>>NO COMPLETADO"},244]
[{"$f":"+'NO SOCIOS'!A129","v":"NS"},{"$f":"+'NO SOCIOS'!B129","v":0},{"$f":"+'NO SOCIOS'!C129","v":0},"FECHA DE NACIMIENTO –dd/mm/aa-:",{"$f":"IF('NO SOCIOS'!E129>0,'NO SOCIOS'!E129,\"<<<<>>>>NO COMPLETADO\")","v":"<<<<>>>>NO COMPLETADO"},245]
[{"$f":"+'NO SOCIOS'!A130","v":"NS"},{"$f":"+'NO SOCIOS'!B130","v":0},{"$f":"+'NO SOCIOS'!C130","v":0},"LUGAR DE NACIMIENTO:",{"$f":"IF('NO SOCIOS'!E130>0,'NO SOCIOS'!E130,\"<<<<>>>>NO COMPLETADO\")","v":"<<<<>>>>NO COMPLETADO"},246]
[{"$f":"+'NO SOCIOS'!A131","v":"NS"},{"$f":"+'NO SOCIOS'!B131","v":0},{"$f":"+'NO SOCIOS'!C131","v":0},"NACIONALIDAD:",{"$f":"IF('NO SOCIOS'!E131>0,'NO SOCIOS'!E131,\"<<<<>>>>NO COMPLETADO\")","v":"<<<<>>>>NO COMPLETADO"},247]
[{"$f":"+'NO SOCIOS'!A132","v":"NS"},{"$f":"+'NO SOCIOS'!B132","v":0},{"$f":"+'NO SOCIOS'!C132","v":0},"PROFESIÓN:",{"$f":"IF('NO SOCIOS'!E132>0,'NO SOCIOS'!E132,\"<<<<>>>>NO COMPLETADO\")","v":"<<<<>>>>NO COMPLETADO"},248]
[{"$f":"+'NO SOCIOS'!A133","v":"NS"},{"$f":"+'NO SOCIOS'!B133","v":0},{"$f":"+'NO SOCIOS'!C133","v":0},"DOMICILIO REAL:",{"$f":"IF('NO SOCIOS'!E133>0,'NO SOCIOS'!E133,\"<<<<>>>>NO COMPLETADO\")","v":"<<<<>>>>NO COMPLETADO"},249]
[{"$f":"+'NO SOCIOS'!A134","v":"NS"},{"$f":"+'NO SOCIOS'!B134","v":0},{"$f":"+'NO SOCIOS'!C134","v":0},"CEL/TEL –sin puntos ni barras-:",{"$f":"IF('NO SOCIOS'!E134>0,'NO SOCIOS'!E134,\"<<<<>>>>NO COMPLETADO\")","v":"<<<<>>>>NO COMPLETADO"},250]
[{"$f":"+'NO SOCIOS'!A135","v":"NS"},{"$f":"+'NO SOCIOS'!B135","v":0},{"$f":"+'NO SOCIOS'!C135","v":0},"EMAIL:",{"$f":"IF('NO SOCIOS'!E135>0,'NO SOCIOS'!E135,\"<<<<>>>>NO COMPLETADO\")","v":"<<<<>>>>NO COMPLETADO"},251]
[{"$f":"+'NO SOCIOS'!A136","v":"NS"},{"$f":"+'NO SOCIOS'!B136","v":0},{"$f":"+'NO SOCIOS'!C136","v":0},"ESTADO CIVIL:",{"$f":"IF('NO SOCIOS'!E136>0,'NO SOCIOS'!E136,\"<<<<>>>>NO COMPLETADO\")","v":"<<<<>>>>NO COMPLETADO"},252]
[{"$f":"+'NO SOCIOS'!A137","v":"NS"},{"$f":"+'NO SOCIOS'!B137","v":0},{"$f":"+'NO SOCIOS'!C137","v":0},"APELLIDO/S CÓNYUGE:",{"$f":"IF('NO SOCIOS'!E137>0,'NO SOCIOS'!E137,\"<<<<>>>>NO COMPLETADO\")","v":"<<<<>>>>NO COMPLETADO"},253]
[{"$f":"+'NO SOCIOS'!A138","v":"NS"},{"$f":"+'NO SOCIOS'!B138","v":0},{"$f":"+'NO SOCIOS'!C138","v":0},"NOMBRE/S CÓNYUGE",{"$f":"IF('NO SOCIOS'!E138>0,'NO SOCIOS'!E138,\"<<<<>>>>NO COMPLETADO\")","v":"<<<<>>>>NO COMPLETADO"},254]
[{"$f":"+'NO SOCIOS'!A139","v":"NS"},{"$f":"+'NO SOCIOS'!B139","v":0},{"$f":"+'NO SOCIOS'!C139","v":0},"DOC. IDENTIDAD (cónyuge) –sin puntos ni barras-: ",{"$f":"IF('NO SOCIOS'!E139>0,'NO SOCIOS'!E139,\"<<<<>>>>NO COMPLETADO\")","v":"<<<<>>>>NO COMPLETADO"},255]
[{"$f":"+'NO SOCIOS'!A143","v":"NS"},{"$f":"+'NO SOCIOS'!B143","v":0},{"$f":"+'NO SOCIOS'!C143","v":0},"NOTA/OBSERVACIÓN.",{"$f":"IF('NO SOCIOS'!E143>0,'NO SOCIOS'!E143,\"<<<<>>>>NO COMPLETADO\")","v":"<<<<>>>>NO COMPLETADO"},256]
[{"$f":"+'NO SOCIOS'!A144","v":"NS"},{"$f":"+'NO SOCIOS'!B144","v":0},{"$f":"+'NO SOCIOS'!C144","v":0},"DOC. IDENTIDAD –sin puntos-: ……………………",{"$f":"IF('NO SOCIOS'!E144>0,'NO SOCIOS'!E144,\"<<<<>>>>NO COMPLETADO\")","v":"<<<<>>>>NO COMPLETADO"},257]
[{"$f":"+'NO SOCIOS'!A145","v":"NS"},{"$f":"+'NO SOCIOS'!B145","v":0},{"$f":"+'NO SOCIOS'!C145","v":0},"CUIT/CUIL –sin puntos ni barras-:",{"$f":"IF('NO SOCIOS'!E145>0,'NO SOCIOS'!E145,\"<<<<>>>>NO COMPLETADO\")","v":"<<<<>>>>NO COMPLETADO"},258]
[{"$f":"+'NO SOCIOS'!A146","v":"NS"},{"$f":"+'NO SOCIOS'!B146","v":0},{"$f":"+'NO SOCIOS'!C146","v":0},"FECHA DE NACIMIENTO –dd/mm/aa-:",{"$f":"IF('NO SOCIOS'!E146>0,'NO SOCIOS'!E146,\"<<<<>>>>NO COMPLETADO\")","v":"<<<<>>>>NO COMPLETADO"},259]
[{"$f":"+'NO SOCIOS'!A147","v":"NS"},{"$f":"+'NO SOCIOS'!B147","v":0},{"$f":"+'NO SOCIOS'!C147","v":0},"LUGAR DE NACIMIENTO:",{"$f":"IF('NO SOCIOS'!E147>0,'NO SOCIOS'!E147,\"<<<<>>>>NO COMPLETADO\")","v":"<<<<>>>>NO COMPLETADO"},260]
[{"$f":"+'NO SOCIOS'!A148","v":"NS"},{"$f":"+'NO SOCIOS'!B148","v":0},{"$f":"+'NO SOCIOS'!C148","v":0},"NACIONALIDAD:",{"$f":"IF('NO SOCIOS'!E148>0,'NO SOCIOS'!E148,\"<<<<>>>>NO COMPLETADO\")","v":"<<<<>>>>NO COMPLETADO"},261]
[{"$f":"+'NO SOCIOS'!A149","v":"NS"},{"$f":"+'NO SOCIOS'!B149","v":0},{"$f":"+'NO SOCIOS'!C149","v":0},"PROFESIÓN:",{"$f":"IF('NO SOCIOS'!E149>0,'NO SOCIOS'!E149,\"<<<<>>>>NO COMPLETADO\")","v":"<<<<>>>>NO COMPLETADO"},262]
[{"$f":"+'NO SOCIOS'!A150","v":"NS"},{"$f":"+'NO SOCIOS'!B150","v":0},{"$f":"+'NO SOCIOS'!C150","v":0},"DOMICILIO REAL:",{"$f":"IF('NO SOCIOS'!E150>0,'NO SOCIOS'!E150,\"<<<<>>>>NO COMPLETADO\")","v":"<<<<>>>>NO COMPLETADO"},263]
[{"$f":"+'NO SOCIOS'!A151","v":"NS"},{"$f":"+'NO SOCIOS'!B151","v":0},{"$f":"+'NO SOCIOS'!C151","v":0},"CEL/TEL –sin puntos ni barras-:",{"$f":"IF('NO SOCIOS'!E151>0,'NO SOCIOS'!E151,\"<<<<>>>>NO COMPLETADO\")","v":"<<<<>>>>NO COMPLETADO"},264]
[{"$f":"+'NO SOCIOS'!A152","v":"NS"},{"$f":"+'NO SOCIOS'!B152","v":0},{"$f":"+'NO SOCIOS'!C152","v":0},"EMAIL:",{"$f":"IF('NO SOCIOS'!E152>0,'NO SOCIOS'!E152,\"<<<<>>>>NO COMPLETADO\")","v":"<<<<>>>>NO COMPLETADO"},265]
[{"$f":"+'NO SOCIOS'!A153","v":"NS"},{"$f":"+'NO SOCIOS'!B153","v":0},{"$f":"+'NO SOCIOS'!C153","v":0},"ESTADO CIVIL:",{"$f":"IF('NO SOCIOS'!E153>0,'NO SOCIOS'!E153,\"<<<<>>>>NO COMPLETADO\")","v":"<<<<>>>>NO COMPLETADO"},266]
[{"$f":"+'NO SOCIOS'!A154","v":"NS"},{"$f":"+'NO SOCIOS'!B154","v":0},{"$f":"+'NO SOCIOS'!C154","v":0},"APELLIDO/S CÓNYUGE:",{"$f":"IF('NO SOCIOS'!E154>0,'NO SOCIOS'!E154,\"<<<<>>>>NO COMPLETADO\")","v":"<<<<>>>>NO COMPLETADO"},267]
[{"$f":"+'NO SOCIOS'!A155","v":"NS"},{"$f":"+'NO SOCIOS'!B155","v":0},{"$f":"+'NO SOCIOS'!C155","v":0},"NOMBRE/S CÓNYUGE",{"$f":"IF('NO SOCIOS'!E155>0,'NO SOCIOS'!E155,\"<<<<>>>>NO COMPLETADO\")","v":"<<<<>>>>NO COMPLETADO"},268]
[{"$f":"+'NO SOCIOS'!A156","v":"NS"},{"$f":"+'NO SOCIOS'!B156","v":0},{"$f":"+'NO SOCIOS'!C156","v":0},"DOC. IDENTIDAD (cónyuge) –sin puntos ni barras-: ",{"$f":"IF('NO SOCIOS'!E156>0,'NO SOCIOS'!E156,\"<<<<>>>>NO COMPLETADO\")","v":"<<<<>>>>NO COMPLETADO"},269]
[{"$f":"+'NO SOCIOS'!A160","v":"NS"},{"$f":"+'NO SOCIOS'!B160","v":0},{"$f":"+'NO SOCIOS'!C160","v":0},"NOTA/OBSERVACIÓN.",{"$f":"IF('NO SOCIOS'!E160>0,'NO SOCIOS'!E160,\"<<<<>>>>NO COMPLETADO\")","v":"<<<<>>>>NO COMPLETADO"},270]
[{"$f":"+'NO SOCIOS'!A161","v":"NS"},{"$f":"+'NO SOCIOS'!B161","v":0},{"$f":"+'NO SOCIOS'!C161","v":0},"DOC. IDENTIDAD –sin puntos-: ……………………",{"$f":"IF('NO SOCIOS'!E161>0,'NO SOCIOS'!E161,\"<<<<>>>>NO COMPLETADO\")","v":"<<<<>>>>NO COMPLETADO"},271]
[{"$f":"+'NO SOCIOS'!A162","v":"NS"},{"$f":"+'NO SOCIOS'!B162","v":0},{"$f":"+'NO SOCIOS'!C162","v":0},"CUIT/CUIL –sin puntos ni barras-:",{"$f":"IF('NO SOCIOS'!E162>0,'NO SOCIOS'!E162,\"<<<<>>>>NO COMPLETADO\")","v":"<<<<>>>>NO COMPLETADO"},272]
[{"$f":"+'NO SOCIOS'!A163","v":"NS"},{"$f":"+'NO SOCIOS'!B163","v":0},{"$f":"+'NO SOCIOS'!C163","v":0},"FECHA DE NACIMIENTO –dd/mm/aa-:",{"$f":"IF('NO SOCIOS'!E163>0,'NO SOCIOS'!E163,\"<<<<>>>>NO COMPLETADO\")","v":"<<<<>>>>NO COMPLETADO"},273]
[{"$f":"+'NO SOCIOS'!A164","v":"NS"},{"$f":"+'NO SOCIOS'!B164","v":0},{"$f":"+'NO SOCIOS'!C164","v":0},"LUGAR DE NACIMIENTO:",{"$f":"IF('NO SOCIOS'!E164>0,'NO SOCIOS'!E164,\"<<<<>>>>NO COMPLETADO\")","v":"<<<<>>>>NO COMPLETADO"},274]
[{"$f":"+'NO SOCIOS'!A165","v":"NS"},{"$f":"+'NO SOCIOS'!B165","v":0},{"$f":"+'NO SOCIOS'!C165","v":0},"NACIONALIDAD:",{"$f":"IF('NO SOCIOS'!E165>0,'NO SOCIOS'!E165,\"<<<<>>>>NO COMPLETADO\")","v":"<<<<>>>>NO COMPLETADO"},275]
[{"$f":"+'NO SOCIOS'!A166","v":"NS"},{"$f":"+'NO SOCIOS'!B166","v":0},{"$f":"+'NO SOCIOS'!C166","v":0},"PROFESIÓN:",{"$f":"IF('NO SOCIOS'!E166>0,'NO SOCIOS'!E166,\"<<<<>>>>NO COMPLETADO\")","v":"<<<<>>>>NO COMPLETADO"},276]
[{"$f":"+'NO SOCIOS'!A167","v":"NS"},{"$f":"+'NO SOCIOS'!B167","v":0},{"$f":"+'NO SOCIOS'!C167","v":0},"DOMICILIO REAL:",{"$f":"IF('NO SOCIOS'!E167>0,'NO SOCIOS'!E167,\"<<<<>>>>NO COMPLETADO\")","v":"<<<<>>>>NO COMPLETADO"},277]
[{"$f":"+'NO SOCIOS'!A168","v":"NS"},{"$f":"+'NO SOCIOS'!B168","v":0},{"$f":"+'NO SOCIOS'!C168","v":0},"CEL/TEL –sin puntos ni barras-:",{"$f":"IF('NO SOCIOS'!E168>0,'NO SOCIOS'!E168,\"<<<<>>>>NO COMPLETADO\")","v":"<<<<>>>>NO COMPLETADO"},278]
[{"$f":"+'NO SOCIOS'!A169","v":"NS"},{"$f":"+'NO SOCIOS'!B169","v":0},{"$f":"+'NO SOCIOS'!C169","v":0},"EMAIL:",{"$f":"IF('NO SOCIOS'!E169>0,'NO SOCIOS'!E169,\"<<<<>>>>NO COMPLETADO\")","v":"<<<<>>>>NO COMPLETADO"},279]
[{"$f":"+'NO SOCIOS'!A170","v":"NS"},{"$f":"+'NO SOCIOS'!B170","v":0},{"$f":"+'NO SOCIOS'!C170","v":0},"ESTADO CIVIL:",{"$f":"IF('NO SOCIOS'!E170>0,'NO SOCIOS'!E170,\"<<<<>>>>NO COMPLETADO\")","v":"<<<<>>>>NO COMPLETADO"},280]
[{"$f":"+'NO SOCIOS'!A171","v":"NS"},{"$f":"+'NO SOCIOS'!B171","v":0},{"$f":"+'NO SOCIOS'!C171","v":0},"APELLIDO/S CÓNYUGE:",{"$f":"IF('NO SOCIOS'!E171>0,'NO SOCIOS'!E171,\"<<<<>>>>NO COMPLETADO\")","v":"<<<<>>>>NO COMPLETADO"},281]
[{"$f":"+'NO SOCIOS'!A172","v":"NS"},{"$f":"+'NO SOCIOS'!B172","v":0},{"$f":"+'NO SOCIOS'!C172","v":0},"NOMBRE/S CÓNYUGE",{"$f":"IF('NO SOCIOS'!E172>0,'NO SOCIOS'!E172,\"<<<<>>>>NO COMPLETADO\")","v":"<<<<>>>>NO COMPLETADO"},282]
[{"$f":"+'NO SOCIOS'!A173","v":"NS"},{"$f":"+'NO SOCIOS'!B173","v":0},{"$f":"+'NO SOCIOS'!C173","v":0},"DOC. IDENTIDAD (cónyuge) –sin puntos ni barras-: ",{"$f":"IF('NO SOCIOS'!E173>0,'NO SOCIOS'!E173,\"<<<<>>>>NO COMPLETADO\")","v":"<<<<>>>>NO COMPLETADO"},283]
[{"$f":"+'NO SOCIOS'!A177","v":"NS"},{"$f":"+'NO SOCIOS'!B177","v":0},{"$f":"+'NO SOCIOS'!C177","v":0},"NOTA/OBSERVACIÓN.",{"$f":"IF('NO SOCIOS'!E177>0,'NO SOCIOS'!E177,\"<<<<>>>>NO COMPLETADO\")","v":"<<<<>>>>NO COMPLETADO"},284]
[{"$f":"+'NO SOCIOS'!A178","v":"NS"},{"$f":"+'NO SOCIOS'!B178","v":0},{"$f":"+'NO SOCIOS'!C178","v":0},"DOC. IDENTIDAD –sin puntos-: ……………………",{"$f":"IF('NO SOCIOS'!E178>0,'NO SOCIOS'!E178,\"<<<<>>>>NO COMPLETADO\")","v":"<<<<>>>>NO COMPLETADO"},285]
[{"$f":"+'NO SOCIOS'!A179","v":"NS"},{"$f":"+'NO SOCIOS'!B179","v":0},{"$f":"+'NO SOCIOS'!C179","v":0},"CUIT/CUIL –sin puntos ni barras-:",{"$f":"IF('NO SOCIOS'!E179>0,'NO SOCIOS'!E179,\"<<<<>>>>NO COMPLETADO\")","v":"<<<<>>>>NO COMPLETADO"},286]
[{"$f":"+'NO SOCIOS'!A180","v":"NS"},{"$f":"+'NO SOCIOS'!B180","v":0},{"$f":"+'NO SOCIOS'!C180","v":0},"FECHA DE NACIMIENTO –dd/mm/aa-:",{"$f":"IF('NO SOCIOS'!E180>0,'NO SOCIOS'!E180,\"<<<<>>>>NO COMPLETADO\")","v":"<<<<>>>>NO COMPLETADO"},287]
[{"$f":"+'NO SOCIOS'!A181","v":"NS"},{"$f":"+'NO SOCIOS'!B181","v":0},{"$f":"+'NO SOCIOS'!C181","v":0},"LUGAR DE NACIMIENTO:",{"$f":"IF('NO SOCIOS'!E181>0,'NO SOCIOS'!E181,\"<<<<>>>>NO COMPLETADO\")","v":"<<<<>>>>NO COMPLETADO"},288]
[{"$f":"+'NO SOCIOS'!A182","v":"NS"},{"$f":"+'NO SOCIOS'!B182","v":0},{"$f":"+'NO SOCIOS'!C182","v":0},"NACIONALIDAD:",{"$f":"IF('NO SOCIOS'!E182>0,'NO SOCIOS'!E182,\"<<<<>>>>NO COMPLETADO\")","v":"<<<<>>>>NO COMPLETADO"},289]
[{"$f":"+'NO SOCIOS'!A183","v":"NS"},{"$f":"+'NO SOCIOS'!B183","v":0},{"$f":"+'NO SOCIOS'!C183","v":0},"PROFESIÓN:",{"$f":"IF('NO SOCIOS'!E183>0,'NO SOCIOS'!E183,\"<<<<>>>>NO COMPLETADO\")","v":"<<<<>>>>NO COMPLETADO"},290]
[{"$f":"+'NO SOCIOS'!A184","v":"NS"},{"$f":"+'NO SOCIOS'!B184","v":0},{"$f":"+'NO SOCIOS'!C184","v":0},"DOMICILIO REAL:",{"$f":"IF('NO SOCIOS'!E184>0,'NO SOCIOS'!E184,\"<<<<>>>>NO COMPLETADO\")","v":"<<<<>>>>NO COMPLETADO"},291]
[{"$f":"+'NO SOCIOS'!A185","v":"NS"},{"$f":"+'NO SOCIOS'!B185","v":0},{"$f":"+'NO SOCIOS'!C185","v":0},"CEL/TEL –sin puntos ni barras-:",{"$f":"IF('NO SOCIOS'!E185>0,'NO SOCIOS'!E185,\"<<<<>>>>NO COMPLETADO\")","v":"<<<<>>>>NO COMPLETADO"},292]
[{"$f":"+'NO SOCIOS'!A186","v":"NS"},{"$f":"+'NO SOCIOS'!B186","v":0},{"$f":"+'NO SOCIOS'!C186","v":0},"EMAIL:",{"$f":"IF('NO SOCIOS'!E186>0,'NO SOCIOS'!E186,\"<<<<>>>>NO COMPLETADO\")","v":"<<<<>>>>NO COMPLETADO"},293]
[{"$f":"+'NO SOCIOS'!A187","v":"NS"},{"$f":"+'NO SOCIOS'!B187","v":0},{"$f":"+'NO SOCIOS'!C187","v":0},"ESTADO CIVIL:",{"$f":"IF('NO SOCIOS'!E187>0,'NO SOCIOS'!E187,\"<<<<>>>>NO COMPLETADO\")","v":"<<<<>>>>NO COMPLETADO"},294]
[{"$f":"+'NO SOCIOS'!A188","v":"NS"},{"$f":"+'NO SOCIOS'!B188","v":0},{"$f":"+'NO SOCIOS'!C188","v":0},"APELLIDO/S CÓNYUGE:",{"$f":"IF('NO SOCIOS'!E188>0,'NO SOCIOS'!E188,\"<<<<>>>>NO COMPLETADO\")","v":"<<<<>>>>NO COMPLETADO"},295]
[{"$f":"+'NO SOCIOS'!A189","v":"NS"},{"$f":"+'NO SOCIOS'!B189","v":0},{"$f":"+'NO SOCIOS'!C189","v":0},"NOMBRE/S CÓNYUGE",{"$f":"IF('NO SOCIOS'!E189>0,'NO SOCIOS'!E189,\"<<<<>>>>NO COMPLETADO\")","v":"<<<<>>>>NO COMPLETADO"},296]
[{"$f":"+'NO SOCIOS'!A190","v":"NS"},{"$f":"+'NO SOCIOS'!B190","v":0},{"$f":"+'NO SOCIOS'!C190","v":0},"DOC. IDENTIDAD (cónyuge) –sin puntos ni barras-: ",{"$f":"IF('NO SOCIOS'!E190>0,'NO SOCIOS'!E190,\"<<<<>>>>NO COMPLETADO\")","v":"<<<<>>>>NO COMPLETADO"},297]
[{"$f":"+'NO SOCIOS'!A194","v":"NS"},{"$f":"+'NO SOCIOS'!B194","v":0},{"$f":"+'NO SOCIOS'!C194","v":0},"NOTA/OBSERVACIÓN.",{"$f":"IF('NO SOCIOS'!E194>0,'NO SOCIOS'!E194,\"<<<<>>>>NO COMPLETADO\")","v":"<<<<>>>>NO COMPLETADO"},298]
[{"$f":"+'NO SOCIOS'!A195","v":"NS"},{"$f":"+'NO SOCIOS'!B195","v":0},{"$f":"+'NO SOCIOS'!C195","v":0},"DOC. IDENTIDAD –sin puntos-: ……………………",{"$f":"IF('NO SOCIOS'!E195>0,'NO SOCIOS'!E195,\"<<<<>>>>NO COMPLETADO\")","v":"<<<<>>>>NO COMPLETADO"},299]
[{"$f":"+'NO SOCIOS'!A196","v":"NS"},{"$f":"+'NO SOCIOS'!B196","v":0},{"$f":"+'NO SOCIOS'!C196","v":0},"CUIT/CUIL –sin puntos ni barras-:",{"$f":"IF('NO SOCIOS'!E196>0,'NO SOCIOS'!E196,\"<<<<>>>>NO COMPLETADO\")","v":"<<<<>>>>NO COMPLETADO"},300]
[{"$f":"+'NO SOCIOS'!A197","v":"NS"},{"$f":"+'NO SOCIOS'!B197","v":0},{"$f":"+'NO SOCIOS'!C197","v":0},"FECHA DE NACIMIENTO –dd/mm/aa-:",{"$f":"IF('NO SOCIOS'!E197>0,'NO SOCIOS'!E197,\"<<<<>>>>NO COMPLETADO\")","v":"<<<<>>>>NO COMPLETADO"},301]
[{"$f":"+'NO SOCIOS'!A198","v":"NS"},{"$f":"+'NO SOCIOS'!B198","v":0},{"$f":"+'NO SOCIOS'!C198","v":0},"LUGAR DE NACIMIENTO:",{"$f":"IF('NO SOCIOS'!E198>0,'NO SOCIOS'!E198,\"<<<<>>>>NO COMPLETADO\")","v":"<<<<>>>>NO COMPLETADO"},302]
[{"$f":"+'NO SOCIOS'!A199","v":"NS"},{"$f":"+'NO SOCIOS'!B199","v":0},{"$f":"+'NO SOCIOS'!C199","v":0},"NACIONALIDAD:",{"$f":"IF('NO SOCIOS'!E199>0,'NO SOCIOS'!E199,\"<<<<>>>>NO COMPLETADO\")","v":"<<<<>>>>NO COMPLETADO"},303]
[{"$f":"+'NO SOCIOS'!A200","v":"NS"},{"$f":"+'NO SOCIOS'!B200","v":0},{"$f":"+'NO SOCIOS'!C200","v":0},"PROFESIÓN:",{"$f":"IF('NO SOCIOS'!E200>0,'NO SOCIOS'!E200,\"<<<<>>>>NO COMPLETADO\")","v":"<<<<>>>>NO COMPLETADO"},304]
[{"$f":"+'NO SOCIOS'!A201","v":"NS"},{"$f":"+'NO SOCIOS'!B201","v":0},{"$f":"+'NO SOCIOS'!C201","v":0},"DOMICILIO REAL:",{"$f":"IF('NO SOCIOS'!E201>0,'NO SOCIOS'!E201,\"<<<<>>>>NO COMPLETADO\")","v":"<<<<>>>>NO COMPLETADO"},305]
[{"$f":"+'NO SOCIOS'!A202","v":"NS"},{"$f":"+'NO SOCIOS'!B202","v":0},{"$f":"+'NO SOCIOS'!C202","v":0},"CEL/TEL –sin puntos ni barras-:",{"$f":"IF('NO SOCIOS'!E202>0,'NO SOCIOS'!E202,\"<<<<>>>>NO COMPLETADO\")","v":"<<<<>>>>NO COMPLETADO"},306]
[{"$f":"+'NO SOCIOS'!A203","v":"NS"},{"$f":"+'NO SOCIOS'!B203","v":0},{"$f":"+'NO SOCIOS'!C203","v":0},"EMAIL:",{"$f":"IF('NO SOCIOS'!E203>0,'NO SOCIOS'!E203,\"<<<<>>>>NO COMPLETADO\")","v":"<<<<>>>>NO COMPLETADO"},307]
[{"$f":"+'NO SOCIOS'!A204","v":"NS"},{"$f":"+'NO SOCIOS'!B204","v":0},{"$f":"+'NO SOCIOS'!C204","v":0},"ESTADO CIVIL:",{"$f":"IF('NO SOCIOS'!E204>0,'NO SOCIOS'!E204,\"<<<<>>>>NO COMPLETADO\")","v":"<<<<>>>>NO COMPLETADO"},308]
[{"$f":"+'NO SOCIOS'!A205","v":"NS"},{"$f":"+'NO SOCIOS'!B205","v":0},{"$f":"+'NO SOCIOS'!C205","v":0},"APELLIDO/S CÓNYUGE:",{"$f":"IF('NO SOCIOS'!E205>0,'NO SOCIOS'!E205,\"<<<<>>>>NO COMPLETADO\")","v":"<<<<>>>>NO COMPLETADO"},309]
[{"$f":"+'NO SOCIOS'!A206","v":"NS"},{"$f":"+'NO SOCIOS'!B206","v":0},{"$f":"+'NO SOCIOS'!C206","v":0},"NOMBRE/S CÓNYUGE",{"$f":"IF('NO SOCIOS'!E206>0,'NO SOCIOS'!E206,\"<<<<>>>>NO COMPLETADO\")","v":"<<<<>>>>NO COMPLETADO"},310]
[{"$f":"+'NO SOCIOS'!A207","v":"NS"},{"$f":"+'NO SOCIOS'!B207","v":0},{"$f":"+'NO SOCIOS'!C207","v":0},"DOC. IDENTIDAD (cónyuge) –sin puntos ni barras-: ",{"$f":"IF('NO SOCIOS'!E207>0,'NO SOCIOS'!E207,\"<<<<>>>>NO COMPLETADO\")","v":"<<<<>>>>NO COMPLETADO"},311]
[{"$f":"+'NO SOCIOS'!A211","v":"NS"},{"$f":"+'NO SOCIOS'!B211","v":0},{"$f":"+'NO SOCIOS'!C211","v":0},"NOTA/OBSERVACIÓN.",{"$f":"IF('NO SOCIOS'!E211>0,'NO SOCIOS'!E211,\"<<<<>>>>NO COMPLETADO\")","v":"<<<<>>>>NO COMPLETADO"},312]
[{"$f":"+'NO SOCIOS'!A212","v":"NS"},{"$f":"+'NO SOCIOS'!B212","v":0},{"$f":"+'NO SOCIOS'!C212","v":0},"DOC. IDENTIDAD –sin puntos-: ……………………",{"$f":"IF('NO SOCIOS'!E212>0,'NO SOCIOS'!E212,\"<<<<>>>>NO COMPLETADO\")","v":"<<<<>>>>NO COMPLETADO"},313]
[{"$f":"+'NO SOCIOS'!A213","v":"NS"},{"$f":"+'NO SOCIOS'!B213","v":0},{"$f":"+'NO SOCIOS'!C213","v":0},"CUIT/CUIL –sin puntos ni barras-:",{"$f":"IF('NO SOCIOS'!E213>0,'NO SOCIOS'!E213,\"<<<<>>>>NO COMPLETADO\")","v":"<<<<>>>>NO COMPLETADO"},314]
[{"$f":"+'NO SOCIOS'!A214","v":"NS"},{"$f":"+'NO SOCIOS'!B214","v":0},{"$f":"+'NO SOCIOS'!C214","v":0},"FECHA DE NACIMIENTO –dd/mm/aa-:",{"$f":"IF('NO SOCIOS'!E214>0,'NO SOCIOS'!E214,\"<<<<>>>>NO COMPLETADO\")","v":"<<<<>>>>NO COMPLETADO"},315]
[{"$f":"+'NO SOCIOS'!A215","v":"NS"},{"$f":"+'NO SOCIOS'!B215","v":0},{"$f":"+'NO SOCIOS'!C215","v":0},"LUGAR DE NACIMIENTO:",{"$f":"IF('NO SOCIOS'!E215>0,'NO SOCIOS'!E215,\"<<<<>>>>NO COMPLETADO\")","v":"<<<<>>>>NO COMPLETADO"},316]
[{"$f":"+'NO SOCIOS'!A216","v":"NS"},{"$f":"+'NO SOCIOS'!B216","v":0},{"$f":"+'NO SOCIOS'!C216","v":0},"NACIONALIDAD:",{"$f":"IF('NO SOCIOS'!E216>0,'NO SOCIOS'!E216,\"<<<<>>>>NO COMPLETADO\")","v":"<<<<>>>>NO COMPLETADO"},317]
[{"$f":"+'NO SOCIOS'!A217","v":"NS"},{"$f":"+'NO SOCIOS'!B217","v":0},{"$f":"+'NO SOCIOS'!C217","v":0},"PROFESIÓN:",{"$f":"IF('NO SOCIOS'!E217>0,'NO SOCIOS'!E217,\"<<<<>>>>NO COMPLETADO\")","v":"<<<<>>>>NO COMPLETADO"},318]
[{"$f":"+'NO SOCIOS'!A218","v":"NS"},{"$f":"+'NO SOCIOS'!B218","v":0},{"$f":"+'NO SOCIOS'!C218","v":0},"DOMICILIO REAL:",{"$f":"IF('NO SOCIOS'!E218>0,'NO SOCIOS'!E218,\"<<<<>>>>NO COMPLETADO\")","v":"<<<<>>>>NO COMPLETADO"},319]
[{"$f":"+'NO SOCIOS'!A219","v":"NS"},{"$f":"+'NO SOCIOS'!B219","v":0},{"$f":"+'NO SOCIOS'!C219","v":0},"CEL/TEL –sin puntos ni barras-:",{"$f":"IF('NO SOCIOS'!E219>0,'NO SOCIOS'!E219,\"<<<<>>>>NO COMPLETADO\")","v":"<<<<>>>>NO COMPLETADO"},320]
[{"$f":"+'NO SOCIOS'!A220","v":"NS"},{"$f":"+'NO SOCIOS'!B220","v":0},{"$f":"+'NO SOCIOS'!C220","v":0},"EMAIL:",{"$f":"IF('NO SOCIOS'!E220>0,'NO SOCIOS'!E220,\"<<<<>>>>NO COMPLETADO\")","v":"<<<<>>>>NO COMPLETADO"},321]
[{"$f":"+'NO SOCIOS'!A221","v":"NS"},{"$f":"+'NO SOCIOS'!B221","v":0},{"$f":"+'NO SOCIOS'!C221","v":0},"ESTADO CIVIL:",{"$f":"IF('NO SOCIOS'!E221>0,'NO SOCIOS'!E221,\"<<<<>>>>NO COMPLETADO\")","v":"<<<<>>>>NO COMPLETADO"},322]
[{"$f":"+'NO SOCIOS'!A222","v":"NS"},{"$f":"+'NO SOCIOS'!B222","v":0},{"$f":"+'NO SOCIOS'!C222","v":0},"APELLIDO/S CÓNYUGE:",{"$f":"IF('NO SOCIOS'!E222>0,'NO SOCIOS'!E222,\"<<<<>>>>NO COMPLETADO\")","v":"<<<<>>>>NO COMPLETADO"},323]
[{"$f":"+'NO SOCIOS'!A223","v":"NS"},{"$f":"+'NO SOCIOS'!B223","v":0},{"$f":"+'NO SOCIOS'!C223","v":0},"NOMBRE/S CÓNYUGE",{"$f":"IF('NO SOCIOS'!E223>0,'NO SOCIOS'!E223,\"<<<<>>>>NO COMPLETADO\")","v":"<<<<>>>>NO COMPLETADO"},324]
[{"$f":"+'NO SOCIOS'!A224","v":"NS"},{"$f":"+'NO SOCIOS'!B224","v":0},{"$f":"+'NO SOCIOS'!C224","v":0},"DOC. IDENTIDAD (cónyuge) –sin puntos ni barras-: ",{"$f":"IF('NO SOCIOS'!E224>0,'NO SOCIOS'!E224,\"<<<<>>>>NO COMPLETADO\")","v":"<<<<>>>>NO COMPLETADO"},325]
[{"$f":"+'NO SOCIOS'!A228","v":"NS"},{"$f":"+'NO SOCIOS'!B228","v":0},{"$f":"+'NO SOCIOS'!C228","v":0},"NOTA/OBSERVACIÓN.",{"$f":"IF('NO SOCIOS'!E228>0,'NO SOCIOS'!E228,\"<<<<>>>>NO COMPLETADO\")","v":"<<<<>>>>NO COMPLETADO"},326]
[{"$f":"+'NO SOCIOS'!A229","v":"NS"},{"$f":"+'NO SOCIOS'!B229","v":0},{"$f":"+'NO SOCIOS'!C229","v":0},"DOC. IDENTIDAD –sin puntos-: ……………………",{"$f":"IF('NO SOCIOS'!E229>0,'NO SOCIOS'!E229,\"<<<<>>>>NO COMPLETADO\")","v":"<<<<>>>>NO COMPLETADO"},327]
[{"$f":"+'NO SOCIOS'!A230","v":"NS"},{"$f":"+'NO SOCIOS'!B230","v":0},{"$f":"+'NO SOCIOS'!C230","v":0},"CUIT/CUIL –sin puntos ni barras-:",{"$f":"IF('NO SOCIOS'!E230>0,'NO SOCIOS'!E230,\"<<<<>>>>NO COMPLETADO\")","v":"<<<<>>>>NO COMPLETADO"},328]
[{"$f":"+'NO SOCIOS'!A231","v":"NS"},{"$f":"+'NO SOCIOS'!B231","v":0},{"$f":"+'NO SOCIOS'!C231","v":0},"FECHA DE NACIMIENTO –dd/mm/aa-:",{"$f":"IF('NO SOCIOS'!E231>0,'NO SOCIOS'!E231,\"<<<<>>>>NO COMPLETADO\")","v":"<<<<>>>>NO COMPLETADO"},329]
[{"$f":"+'NO SOCIOS'!A232","v":"NS"},{"$f":"+'NO SOCIOS'!B232","v":0},{"$f":"+'NO SOCIOS'!C232","v":0},"LUGAR DE NACIMIENTO:",{"$f":"IF('NO SOCIOS'!E232>0,'NO SOCIOS'!E232,\"<<<<>>>>NO COMPLETADO\")","v":"<<<<>>>>NO COMPLETADO"},330]
[{"$f":"+'NO SOCIOS'!A233","v":"NS"},{"$f":"+'NO SOCIOS'!B233","v":0},{"$f":"+'NO SOCIOS'!C233","v":0},"NACIONALIDAD:",{"$f":"IF('NO SOCIOS'!E233>0,'NO SOCIOS'!E233,\"<<<<>>>>NO COMPLETADO\")","v":"<<<<>>>>NO COMPLETADO"},331]
[{"$f":"+'NO SOCIOS'!A234","v":"NS"},{"$f":"+'NO SOCIOS'!B234","v":0},{"$f":"+'NO SOCIOS'!C234","v":0},"PROFESIÓN:",{"$f":"IF('NO SOCIOS'!E234>0,'NO SOCIOS'!E234,\"<<<<>>>>NO COMPLETADO\")","v":"<<<<>>>>NO COMPLETADO"},332]
[{"$f":"+'NO SOCIOS'!A235","v":"NS"},{"$f":"+'NO SOCIOS'!B235","v":0},{"$f":"+'NO SOCIOS'!C235","v":0},"DOMICILIO REAL:",{"$f":"IF('NO SOCIOS'!E235>0,'NO SOCIOS'!E235,\"<<<<>>>>NO COMPLETADO\")","v":"<<<<>>>>NO COMPLETADO"},333]
[{"$f":"+'NO SOCIOS'!A236","v":"NS"},{"$f":"+'NO SOCIOS'!B236","v":0},{"$f":"+'NO SOCIOS'!C236","v":0},"CEL/TEL –sin puntos ni barras-:",{"$f":"IF('NO SOCIOS'!E236>0,'NO SOCIOS'!E236,\"<<<<>>>>NO COMPLETADO\")","v":"<<<<>>>>NO COMPLETADO"},334]
[{"$f":"+'NO SOCIOS'!A237","v":"NS"},{"$f":"+'NO SOCIOS'!B237","v":0},{"$f":"+'NO SOCIOS'!C237","v":0},"EMAIL:",{"$f":"IF('NO SOCIOS'!E237>0,'NO SOCIOS'!E237,\"<<<<>>>>NO COMPLETADO\")","v":"<<<<>>>>NO COMPLETADO"},335]
[{"$f":"+'NO SOCIOS'!A238","v":"NS"},{"$f":"+'NO SOCIOS'!B238","v":0},{"$f":"+'NO SOCIOS'!C238","v":0},"ESTADO CIVIL:",{"$f":"IF('NO SOCIOS'!E238>0,'NO SOCIOS'!E238,\"<<<<>>>>NO COMPLETADO\")","v":"<<<<>>>>NO COMPLETADO"},336]
[{"$f":"+'NO SOCIOS'!A239","v":"NS"},{"$f":"+'NO SOCIOS'!B239","v":0},{"$f":"+'NO SOCIOS'!C239","v":0},"APELLIDO/S CÓNYUGE:",{"$f":"IF('NO SOCIOS'!E239>0,'NO SOCIOS'!E239,\"<<<<>>>>NO COMPLETADO\")","v":"<<<<>>>>NO COMPLETADO"},337]
[{"$f":"+'NO SOCIOS'!A240","v":"NS"},{"$f":"+'NO SOCIOS'!B240","v":0},{"$f":"+'NO SOCIOS'!C240","v":0},"NOMBRE/S CÓNYUGE",{"$f":"IF('NO SOCIOS'!E240>0,'NO SOCIOS'!E240,\"<<<<>>>>NO COMPLETADO\")","v":"<<<<>>>>NO COMPLETADO"},338]
[{"$f":"+'NO SOCIOS'!A241","v":"NS"},{"$f":"+'NO SOCIOS'!B241","v":0},{"$f":"+'NO SOCIOS'!C241","v":0},"DOC. IDENTIDAD (cónyuge) –sin puntos ni barras-: ",{"$f":"IF('NO SOCIOS'!E241>0,'NO SOCIOS'!E241,\"<<<<>>>>NO COMPLETADO\")","v":"<<<<>>>>NO COMPLETADO"},339]
[{"$f":"+'NO SOCIOS'!A245","v":"NS"},{"$f":"+'NO SOCIOS'!B245","v":0},{"$f":"+'NO SOCIOS'!C245","v":0},"NOTA/OBSERVACIÓN.",{"$f":"IF('NO SOCIOS'!E245>0,'NO SOCIOS'!E245,\"<<<<>>>>NO COMPLETADO\")","v":"<<<<>>>>NO COMPLETADO"},340]
[{"$f":"+'NO SOCIOS'!A246","v":"NS"},{"$f":"+'NO SOCIOS'!B246","v":0},{"$f":"+'NO SOCIOS'!C246","v":0},"DOC. IDENTIDAD –sin puntos-: ……………………",{"$f":"IF('NO SOCIOS'!E246>0,'NO SOCIOS'!E246,\"<<<<>>>>NO COMPLETADO\")","v":"<<<<>>>>NO COMPLETADO"},341]
[{"$f":"+'NO SOCIOS'!A247","v":"NS"},{"$f":"+'NO SOCIOS'!B247","v":0},{"$f":"+'NO SOCIOS'!C247","v":0},"CUIT/CUIL –sin puntos ni barras-:",{"$f":"IF('NO SOCIOS'!E247>0,'NO SOCIOS'!E247,\"<<<<>>>>NO COMPLETADO\")","v":"<<<<>>>>NO COMPLETADO"},342]
[{"$f":"+'NO SOCIOS'!A248","v":"NS"},{"$f":"+'NO SOCIOS'!B248","v":0},{"$f":"+'NO SOCIOS'!C248","v":0},"FECHA DE NACIMIENTO –dd/mm/aa-:",{"$f":"IF('NO SOCIOS'!E248>0,'NO SOCIOS'!E248,\"<<<<>>>>NO COMPLETADO\")","v":"<<<<>>>>NO COMPLETADO"},343]
[{"$f":"+'NO SOCIOS'!A249","v":"NS"},{"$f":"+'NO SOCIOS'!B249","v":0},{"$f":"+'NO SOCIOS'!C249","v":0},"LUGAR DE NACIMIENTO:",{"$f":"IF('NO SOCIOS'!E249>0,'NO SOCIOS'!E249,\"<<<<>>>>NO COMPLETADO\")","v":"<<<<>>>>NO COMPLETADO"},344]
[{"$f":"+'NO SOCIOS'!A250","v":"NS"},{"$f":"+'NO SOCIOS'!B250","v":0},{"$f":"+'NO SOCIOS'!C250","v":0},"NACIONALIDAD:",{"$f":"IF('NO SOCIOS'!E250>0,'NO SOCIOS'!E250,\"<<<<>>>>NO COMPLETADO\")","v":"<<<<>>>>NO COMPLETADO"},345]
[{"$f":"+'NO SOCIOS'!A251","v":"NS"},{"$f":"+'NO SOCIOS'!B251","v":0},{"$f":"+'NO SOCIOS'!C251","v":0},"PROFESIÓN:",{"$f":"IF('NO SOCIOS'!E251>0,'NO SOCIOS'!E251,\"<<<<>>>>NO COMPLETADO\")","v":"<<<<>>>>NO COMPLETADO"},346]
[{"$f":"+'NO SOCIOS'!A252","v":"NS"},{"$f":"+'NO SOCIOS'!B252","v":0},{"$f":"+'NO SOCIOS'!C252","v":0},"DOMICILIO REAL:",{"$f":"IF('NO SOCIOS'!E252>0,'NO SOCIOS'!E252,\"<<<<>>>>NO COMPLETADO\")","v":"<<<<>>>>NO COMPLETADO"},347]
[{"$f":"+'NO SOCIOS'!A253","v":"NS"},{"$f":"+'NO SOCIOS'!B253","v":0},{"$f":"+'NO SOCIOS'!C253","v":0},"CEL/TEL –sin puntos ni barras-:",{"$f":"IF('NO SOCIOS'!E253>0,'NO SOCIOS'!E253,\"<<<<>>>>NO COMPLETADO\")","v":"<<<<>>>>NO COMPLETADO"},348]
[{"$f":"+'NO SOCIOS'!A254","v":"NS"},{"$f":"+'NO SOCIOS'!B254","v":0},{"$f":"+'NO SOCIOS'!C254","v":0},"EMAIL:",{"$f":"IF('NO SOCIOS'!E254>0,'NO SOCIOS'!E254,\"<<<<>>>>NO COMPLETADO\")","v":"<<<<>>>>NO COMPLETADO"},349]
[{"$f":"+'NO SOCIOS'!A255","v":"NS"},{"$f":"+'NO SOCIOS'!B255","v":0},{"$f":"+'NO SOCIOS'!C255","v":0},"ESTADO CIVIL:",{"$f":"IF('NO SOCIOS'!E255>0,'NO SOCIOS'!E255,\"<<<<>>>>NO COMPLETADO\")","v":"<<<<>>>>NO COMPLETADO"},350]
[{"$f":"+'NO SOCIOS'!A256","v":"NS"},{"$f":"+'NO SOCIOS'!B256","v":0},{"$f":"+'NO SOCIOS'!C256","v":0},"APELLIDO/S CÓNYUGE:",{"$f":"IF('NO SOCIOS'!E256>0,'NO SOCIOS'!E256,\"<<<<>>>>NO COMPLETADO\")","v":"<<<<>>>>NO COMPLETADO"},351]
[{"$f":"+'NO SOCIOS'!A257","v":"NS"},{"$f":"+'NO SOCIOS'!B257","v":0},{"$f":"+'NO SOCIOS'!C257","v":0},"NOMBRE/S CÓNYUGE",{"$f":"IF('NO SOCIOS'!E257>0,'NO SOCIOS'!E257,\"<<<<>>>>NO COMPLETADO\")","v":"<<<<>>>>NO COMPLETADO"},352]
[{"$f":"+'NO SOCIOS'!A258","v":"NS"},{"$f":"+'NO SOCIOS'!B258","v":0},{"$f":"+'NO SOCIOS'!C258","v":0},"DOC. IDENTIDAD (cónyuge) –sin puntos ni barras-: ",{"$f":"IF('NO SOCIOS'!E258>0,'NO SOCIOS'!E258,\"<<<<>>>>NO COMPLETADO\")","v":"<<<<>>>>NO COMPLETADO"},353]
[{"$f":"+'NO SOCIOS'!A262","v":"NS"},{"$f":"+'NO SOCIOS'!B262","v":0},{"$f":"+'NO SOCIOS'!C262","v":0},"NOTA/OBSERVACIÓN.",{"$f":"IF('NO SOCIOS'!E262>0,'NO SOCIOS'!E262,\"<<<<>>>>NO COMPLETADO\")","v":"<<<<>>>>NO COMPLETADO"},354]
[{"$f":"+SOCIOS!A36","v":"V"},{"$f":"+SOCIOS!B36","v":0},{"$f":"+SOCIOS!C36","v":0},"NOMBRE CARGO ADMINISTRACIÓN QUE OCUPA:",{"$f":"IF(SOCIOS!E36>0,SOCIOS!E36,\"<<<<>>>>NO COMPLETADO\")","v":"<<<<>>>>NO COMPLETADO"},355]
[{"$f":"+SOCIOS!A59","v":"V"},{"$f":"+SOCIOS!B59","v":0},{"$f":"+SOCIOS!C59","v":0},"NOMBRE CARGO ADMINISTRACIÓN QUE OCUPA:",{"$f":"IF(SOCIOS!E59>0,SOCIOS!E59,\"<<<<>>>>NO COMPLETADO\")","v":"<<<<>>>>NO COMPLETADO"},356]
[{"$f":"+SOCIOS!A82","v":"V"},{"$f":"+SOCIOS!B82","v":0},{"$f":"+SOCIOS!C82","v":0},"NOMBRE CARGO ADMINISTRACIÓN QUE OCUPA:",{"$f":"IF(SOCIOS!E82>0,SOCIOS!E82,\"<<<<>>>>NO COMPLETADO\")","v":"<<<<>>>>NO COMPLETADO"},357]
[{"$f":"+SOCIOS!A105","v":"V"},{"$f":"+SOCIOS!B105","v":0},{"$f":"+SOCIOS!C105","v":0},"NOMBRE CARGO ADMINISTRACIÓN QUE OCUPA:",{"$f":"IF(SOCIOS!E105>0,SOCIOS!E105,\"<<<<>>>>NO COMPLETADO\")","v":"<<<<>>>>NO COMPLETADO"},358]
[{"$f":"+SOCIOS!A128","v":"V"},{"$f":"+SOCIOS!B128","v":0},{"$f":"+SOCIOS!C128","v":0},"NOMBRE CARGO ADMINISTRACIÓN QUE OCUPA:",{"$f":"IF(SOCIOS!E128>0,SOCIOS!E128,\"<<<<>>>>NO COMPLETADO\")","v":"<<<<>>>>NO COMPLETADO"},359]
[{"$f":"+SOCIOS!A151","v":"V"},{"$f":"+SOCIOS!B151","v":0},{"$f":"+SOCIOS!C151","v":0},"NOMBRE CARGO ADMINISTRACIÓN QUE OCUPA:",{"$f":"IF(SOCIOS!E151>0,SOCIOS!E151,\"<<<<>>>>NO COMPLETADO\")","v":"<<<<>>>>NO COMPLETADO"},360]
[{"$f":"+SOCIOS!A174","v":"V"},{"$f":"+SOCIOS!B174","v":0},{"$f":"+SOCIOS!C174","v":0},"NOMBRE CARGO ADMINISTRACIÓN QUE OCUPA:",{"$f":"IF(SOCIOS!E174>0,SOCIOS!E174,\"<<<<>>>>NO COMPLETADO\")","v":"<<<<>>>>NO COMPLETADO"},361]
[{"$f":"+SOCIOS!A197","v":"V"},{"$f":"+SOCIOS!B197","v":0},{"$f":"+SOCIOS!C197","v":0},"NOMBRE CARGO ADMINISTRACIÓN QUE OCUPA:",{"$f":"IF(SOCIOS!E197>0,SOCIOS!E197,\"<<<<>>>>NO COMPLETADO\")","v":"<<<<>>>>NO COMPLETADO"},362]
[{"$f":"+SOCIOS!A220","v":"V"},{"$f":"+SOCIOS!B220","v":0},{"$f":"+SOCIOS!C220","v":0},"NOMBRE CARGO ADMINISTRACIÓN QUE OCUPA:",{"$f":"IF(SOCIOS!E220>0,SOCIOS!E220,\"<<<<>>>>NO COMPLETADO\")","v":"<<<<>>>>NO COMPLETADO"},363]
[{"$f":"+SOCIOS!A243","v":"V"},{"$f":"+SOCIOS!B243","v":0},{"$f":"+SOCIOS!C243","v":0},"NOMBRE CARGO ADMINISTRACIÓN QUE OCUPA:",{"$f":"IF(SOCIOS!E243>0,SOCIOS!E243,\"<<<<>>>>NO COMPLETADO\")","v":"<<<<>>>>NO COMPLETADO"},364]
[{"$f":"+SOCIOS!A266","v":"V"},{"$f":"+SOCIOS!B266","v":0},{"$f":"+SOCIOS!C266","v":0},"NOMBRE CARGO ADMINISTRACIÓN QUE OCUPA:",{"$f":"IF(SOCIOS!E266>0,SOCIOS!E266,\"<<<<>>>>NO COMPLETADO\")","v":"<<<<>>>>NO COMPLETADO"},365]
[{"$f":"+SOCIOS!A289","v":"V"},{"$f":"+SOCIOS!B289","v":0},{"$f":"+SOCIOS!C289","v":0},"NOMBRE CARGO ADMINISTRACIÓN QUE OCUPA:",{"$f":"IF(SOCIOS!E289>0,SOCIOS!E289,\"<<<<>>>>NO COMPLETADO\")","v":"<<<<>>>>NO COMPLETADO"},366]
[{"$f":"+SOCIOS!A312","v":"V"},{"$f":"+SOCIOS!B312","v":0},{"$f":"+SOCIOS!C312","v":0},"NOMBRE CARGO ADMINISTRACIÓN QUE OCUPA:",{"$f":"IF(SOCIOS!E312>0,SOCIOS!E312,\"<<<<>>>>NO COMPLETADO\")","v":"<<<<>>>>NO COMPLETADO"},367]
[{"$f":"+SOCIOS!A335","v":"V"},{"$f":"+SOCIOS!B335","v":0},{"$f":"+SOCIOS!C335","v":0},"NOMBRE CARGO ADMINISTRACIÓN QUE OCUPA:",{"$f":"IF(SOCIOS!E335>0,SOCIOS!E335,\"<<<<>>>>NO COMPLETADO\")","v":"<<<<>>>>NO COMPLETADO"},368]
[{"$f":"+'NO SOCIOS'!A22","v":"V"},{"$f":"+'NO SOCIOS'!B22","v":0},{"$f":"+'NO SOCIOS'!C22","v":0},"NOMBRE CARGO ADMINISTRACIÓN QUE OCUPA:",{"$f":"IF('NO SOCIOS'!E22>0,'NO SOCIOS'!E22,\"<<<<>>>>NO COMPLETADO\")","v":"<<<<>>>>NO COMPLETADO"},369]
[{"$f":"+'NO SOCIOS'!A39","v":"V"},{"$f":"+'NO SOCIOS'!B39","v":0},{"$f":"+'NO SOCIOS'!C39","v":0},"NOMBRE CARGO ADMINISTRACIÓN QUE OCUPA:",{"$f":"IF('NO SOCIOS'!E39>0,'NO SOCIOS'!E39,\"<<<<>>>>NO COMPLETADO\")","v":"<<<<>>>>NO COMPLETADO"},370]
[{"$f":"+'NO SOCIOS'!A56","v":"V"},{"$f":"+'NO SOCIOS'!B56","v":0},{"$f":"+'NO SOCIOS'!C56","v":0},"NOMBRE CARGO ADMINISTRACIÓN QUE OCUPA:",{"$f":"IF('NO SOCIOS'!E56>0,'NO SOCIOS'!E56,\"<<<<>>>>NO COMPLETADO\")","v":"<<<<>>>>NO COMPLETADO"},371]
[{"$f":"+'NO SOCIOS'!A73","v":"V"},{"$f":"+'NO SOCIOS'!B73","v":0},{"$f":"+'NO SOCIOS'!C73","v":0},"NOMBRE CARGO ADMINISTRACIÓN QUE OCUPA:",{"$f":"IF('NO SOCIOS'!E73>0,'NO SOCIOS'!E73,\"<<<<>>>>NO COMPLETADO\")","v":"<<<<>>>>NO COMPLETADO"},372]
[{"$f":"+'NO SOCIOS'!A90","v":"V"},{"$f":"+'NO SOCIOS'!B90","v":0},{"$f":"+'NO SOCIOS'!C90","v":0},"NOMBRE CARGO ADMINISTRACIÓN QUE OCUPA:",{"$f":"IF('NO SOCIOS'!E90>0,'NO SOCIOS'!E90,\"<<<<>>>>NO COMPLETADO\")","v":"<<<<>>>>NO COMPLETADO"},373]
[{"$f":"+'NO SOCIOS'!A107","v":"V"},{"$f":"+'NO SOCIOS'!B107","v":0},{"$f":"+'NO SOCIOS'!C107","v":0},"NOMBRE CARGO ADMINISTRACIÓN QUE OCUPA:",{"$f":"IF('NO SOCIOS'!E107>0,'NO SOCIOS'!E107,\"<<<<>>>>NO COMPLETADO\")","v":"<<<<>>>>NO COMPLETADO"},374]
[{"$f":"+'NO SOCIOS'!A124","v":"V"},{"$f":"+'NO SOCIOS'!B124","v":0},{"$f":"+'NO SOCIOS'!C124","v":0},"NOMBRE CARGO ADMINISTRACIÓN QUE OCUPA:",{"$f":"IF('NO SOCIOS'!E124>0,'NO SOCIOS'!E124,\"<<<<>>>>NO COMPLETADO\")","v":"<<<<>>>>NO COMPLETADO"},375]
[{"$f":"+'NO SOCIOS'!A141","v":"V"},{"$f":"+'NO SOCIOS'!B141","v":0},{"$f":"+'NO SOCIOS'!C141","v":0},"NOMBRE CARGO ADMINISTRACIÓN QUE OCUPA:",{"$f":"IF('NO SOCIOS'!E141>0,'NO SOCIOS'!E141,\"<<<<>>>>NO COMPLETADO\")","v":"<<<<>>>>NO COMPLETADO"},376]
[{"$f":"+'NO SOCIOS'!A158","v":"V"},{"$f":"+'NO SOCIOS'!B158","v":0},{"$f":"+'NO SOCIOS'!C158","v":0},"NOMBRE CARGO ADMINISTRACIÓN QUE OCUPA:",{"$f":"IF('NO SOCIOS'!E158>0,'NO SOCIOS'!E158,\"<<<<>>>>NO COMPLETADO\")","v":"<<<<>>>>NO COMPLETADO"},377]
[{"$f":"+'NO SOCIOS'!A175","v":"V"},{"$f":"+'NO SOCIOS'!B175","v":0},{"$f":"+'NO SOCIOS'!C175","v":0},"NOMBRE CARGO ADMINISTRACIÓN QUE OCUPA:",{"$f":"IF('NO SOCIOS'!E175>0,'NO SOCIOS'!E175,\"<<<<>>>>NO COMPLETADO\")","v":"<<<<>>>>NO COMPLETADO"},378]
[{"$f":"+'NO SOCIOS'!A192","v":"V"},{"$f":"+'NO SOCIOS'!B192","v":0},{"$f":"+'NO SOCIOS'!C192","v":0},"NOMBRE CARGO ADMINISTRACIÓN QUE OCUPA:",{"$f":"IF('NO SOCIOS'!E192>0,'NO SOCIOS'!E192,\"<<<<>>>>NO COMPLETADO\")","v":"<<<<>>>>NO COMPLETADO"},379]
[{"$f":"+'NO SOCIOS'!A209","v":"V"},{"$f":"+'NO SOCIOS'!B209","v":0},{"$f":"+'NO SOCIOS'!C209","v":0},"NOMBRE CARGO ADMINISTRACIÓN QUE OCUPA:",{"$f":"IF('NO SOCIOS'!E209>0,'NO SOCIOS'!E209,\"<<<<>>>>NO COMPLETADO\")","v":"<<<<>>>>NO COMPLETADO"},380]
[{"$f":"+'NO SOCIOS'!A226","v":"V"},{"$f":"+'NO SOCIOS'!B226","v":0},{"$f":"+'NO SOCIOS'!C226","v":0},"NOMBRE CARGO ADMINISTRACIÓN QUE OCUPA:",{"$f":"IF('NO SOCIOS'!E226>0,'NO SOCIOS'!E226,\"<<<<>>>>NO COMPLETADO\")","v":"<<<<>>>>NO COMPLETADO"},381]
[{"$f":"+'NO SOCIOS'!A243","v":"V"},{"$f":"+'NO SOCIOS'!B243","v":0},{"$f":"+'NO SOCIOS'!C243","v":0},"NOMBRE CARGO ADMINISTRACIÓN QUE OCUPA:",{"$f":"IF('NO SOCIOS'!E243>0,'NO SOCIOS'!E243,\"<<<<>>>>NO COMPLETADO\")","v":"<<<<>>>>NO COMPLETADO"},382]
[{"$f":"+'NO SOCIOS'!A260","v":"V"},{"$f":"+'NO SOCIOS'!B260","v":0},{"$f":"+'NO SOCIOS'!C260","v":0},"NOMBRE CARGO ADMINISTRACIÓN QUE OCUPA:",{"$f":"IF('NO SOCIOS'!E260>0,'NO SOCIOS'!E260,\"<<<<>>>>NO COMPLETADO\")","v":"<<<<>>>>NO COMPLETADO"},383]
[{"$f":"+SOCIOS!A37","v":"VI"},{"$f":"+SOCIOS!B37","v":0},{"$f":"+SOCIOS!C37","v":0},"NOMBRE CARGO FISCALIZACIÓN QUE OCUPA:",{"$f":"IF(SOCIOS!E37>0,SOCIOS!E37,\"<<<<>>>>NO COMPLETADO\")","v":"<<<<>>>>NO COMPLETADO"},384]
[{"$f":"+SOCIOS!A60","v":"VI"},{"$f":"+SOCIOS!B60","v":0},{"$f":"+SOCIOS!C60","v":0},"NOMBRE CARGO FISCALIZACIÓN QUE OCUPA:",{"$f":"IF(SOCIOS!E60>0,SOCIOS!E60,\"<<<<>>>>NO COMPLETADO\")","v":"<<<<>>>>NO COMPLETADO"},385]
[{"$f":"+SOCIOS!A83","v":"VI"},{"$f":"+SOCIOS!B83","v":0},{"$f":"+SOCIOS!C83","v":0},"NOMBRE CARGO FISCALIZACIÓN QUE OCUPA:",{"$f":"IF(SOCIOS!E83>0,SOCIOS!E83,\"<<<<>>>>NO COMPLETADO\")","v":"<<<<>>>>NO COMPLETADO"},386]
[{"$f":"+SOCIOS!A106","v":"VI"},{"$f":"+SOCIOS!B106","v":0},{"$f":"+SOCIOS!C106","v":0},"NOMBRE CARGO FISCALIZACIÓN QUE OCUPA:",{"$f":"IF(SOCIOS!E106>0,SOCIOS!E106,\"<<<<>>>>NO COMPLETADO\")","v":"<<<<>>>>NO COMPLETADO"},387]
[{"$f":"+SOCIOS!A129","v":"VI"},{"$f":"+SOCIOS!B129","v":0},{"$f":"+SOCIOS!C129","v":0},"NOMBRE CARGO FISCALIZACIÓN QUE OCUPA:",{"$f":"IF(SOCIOS!E129>0,SOCIOS!E129,\"<<<<>>>>NO COMPLETADO\")","v":"<<<<>>>>NO COMPLETADO"},388]
[{"$f":"+SOCIOS!A152","v":"VI"},{"$f":"+SOCIOS!B152","v":0},{"$f":"+SOCIOS!C152","v":0},"NOMBRE CARGO FISCALIZACIÓN QUE OCUPA:",{"$f":"IF(SOCIOS!E152>0,SOCIOS!E152,\"<<<<>>>>NO COMPLETADO\")","v":"<<<<>>>>NO COMPLETADO"},389]
[{"$f":"+SOCIOS!A175","v":"VI"},{"$f":"+SOCIOS!B175","v":0},{"$f":"+SOCIOS!C175","v":0},"NOMBRE CARGO FISCALIZACIÓN QUE OCUPA:",{"$f":"IF(SOCIOS!E175>0,SOCIOS!E175,\"<<<<>>>>NO COMPLETADO\")","v":"<<<<>>>>NO COMPLETADO"},390]
[{"$f":"+SOCIOS!A198","v":"VI"},{"$f":"+SOCIOS!B198","v":0},{"$f":"+SOCIOS!C198","v":0},"NOMBRE CARGO FISCALIZACIÓN QUE OCUPA:",{"$f":"IF(SOCIOS!E198>0,SOCIOS!E198,\"<<<<>>>>NO COMPLETADO\")","v":"<<<<>>>>NO COMPLETADO"},391]
[{"$f":"+SOCIOS!A221","v":"VI"},{"$f":"+SOCIOS!B221","v":0},{"$f":"+SOCIOS!C221","v":0},"NOMBRE CARGO FISCALIZACIÓN QUE OCUPA:",{"$f":"IF(SOCIOS!E221>0,SOCIOS!E221,\"<<<<>>>>NO COMPLETADO\")","v":"<<<<>>>>NO COMPLETADO"},392]
[{"$f":"+SOCIOS!A244","v":"VI"},{"$f":"+SOCIOS!B244","v":0},{"$f":"+SOCIOS!C244","v":0},"NOMBRE CARGO FISCALIZACIÓN QUE OCUPA:",{"$f":"IF(SOCIOS!E244>0,SOCIOS!E244,\"<<<<>>>>NO COMPLETADO\")","v":"<<<<>>>>NO COMPLETADO"},393]
[{"$f":"+SOCIOS!A267","v":"VI"},{"$f":"+SOCIOS!B267","v":0},{"$f":"+SOCIOS!C267","v":0},"NOMBRE CARGO FISCALIZACIÓN QUE OCUPA:",{"$f":"IF(SOCIOS!E267>0,SOCIOS!E267,\"<<<<>>>>NO COMPLETADO\")","v":"<<<<>>>>NO COMPLETADO"},394]
[{"$f":"+SOCIOS!A290","v":"VI"},{"$f":"+SOCIOS!B290","v":0},{"$f":"+SOCIOS!C290","v":0},"NOMBRE CARGO FISCALIZACIÓN QUE OCUPA:",{"$f":"IF(SOCIOS!E290>0,SOCIOS!E290,\"<<<<>>>>NO COMPLETADO\")","v":"<<<<>>>>NO COMPLETADO"},395]
[{"$f":"+SOCIOS!A313","v":"VI"},{"$f":"+SOCIOS!B313","v":0},{"$f":"+SOCIOS!C313","v":0},"NOMBRE CARGO FISCALIZACIÓN QUE OCUPA:",{"$f":"IF(SOCIOS!E313>0,SOCIOS!E313,\"<<<<>>>>NO COMPLETADO\")","v":"<<<<>>>>NO COMPLETADO"},396]
[{"$f":"+SOCIOS!A336","v":"VI"},{"$f":"+SOCIOS!B336","v":0},{"$f":"+SOCIOS!C336","v":0},"NOMBRE CARGO FISCALIZACIÓN QUE OCUPA:",{"$f":"IF(SOCIOS!E336>0,SOCIOS!E336,\"<<<<>>>>NO COMPLETADO\")","v":"<<<<>>>>NO COMPLETADO"},397]
[{"$f":"+'NO SOCIOS'!A23","v":"VI"},{"$f":"+'NO SOCIOS'!B23","v":0},{"$f":"+'NO SOCIOS'!C23","v":0},"NOMBRE CARGO FISCALIZACIÓN QUE OCUPA:",{"$f":"IF('NO SOCIOS'!E23>0,'NO SOCIOS'!E23,\"<<<<>>>>NO COMPLETADO\")","v":"<<<<>>>>NO COMPLETADO"},398]
[{"$f":"+'NO SOCIOS'!A40","v":"VI"},{"$f":"+'NO SOCIOS'!B40","v":0},{"$f":"+'NO SOCIOS'!C40","v":0},"NOMBRE CARGO FISCALIZACIÓN QUE OCUPA:",{"$f":"IF('NO SOCIOS'!E40>0,'NO SOCIOS'!E40,\"<<<<>>>>NO COMPLETADO\")","v":"<<<<>>>>NO COMPLETADO"},399]
[{"$f":"+'NO SOCIOS'!A57","v":"VI"},{"$f":"+'NO SOCIOS'!B57","v":0},{"$f":"+'NO SOCIOS'!C57","v":0},"NOMBRE CARGO FISCALIZACIÓN QUE OCUPA:",{"$f":"IF('NO SOCIOS'!E57>0,'NO SOCIOS'!E57,\"<<<<>>>>NO COMPLETADO\")","v":"<<<<>>>>NO COMPLETADO"},400]
[{"$f":"+'NO SOCIOS'!A74","v":"VI"},{"$f":"+'NO SOCIOS'!B74","v":0},{"$f":"+'NO SOCIOS'!C74","v":0},"NOMBRE CARGO FISCALIZACIÓN QUE OCUPA:",{"$f":"IF('NO SOCIOS'!E74>0,'NO SOCIOS'!E74,\"<<<<>>>>NO COMPLETADO\")","v":"<<<<>>>>NO COMPLETADO"},401]
[{"$f":"+'NO SOCIOS'!A91","v":"VI"},{"$f":"+'NO SOCIOS'!B91","v":0},{"$f":"+'NO SOCIOS'!C91","v":0},"NOMBRE CARGO FISCALIZACIÓN QUE OCUPA:",{"$f":"IF('NO SOCIOS'!E91>0,'NO SOCIOS'!E91,\"<<<<>>>>NO COMPLETADO\")","v":"<<<<>>>>NO COMPLETADO"},402]
[{"$f":"+'NO SOCIOS'!A108","v":"VI"},{"$f":"+'NO SOCIOS'!B108","v":0},{"$f":"+'NO SOCIOS'!C108","v":0},"NOMBRE CARGO FISCALIZACIÓN QUE OCUPA:",{"$f":"IF('NO SOCIOS'!E108>0,'NO SOCIOS'!E108,\"<<<<>>>>NO COMPLETADO\")","v":"<<<<>>>>NO COMPLETADO"},403]
[{"$f":"+'NO SOCIOS'!A125","v":"VI"},{"$f":"+'NO SOCIOS'!B125","v":0},{"$f":"+'NO SOCIOS'!C125","v":0},"NOMBRE CARGO FISCALIZACIÓN QUE OCUPA:",{"$f":"IF('NO SOCIOS'!E125>0,'NO SOCIOS'!E125,\"<<<<>>>>NO COMPLETADO\")","v":"<<<<>>>>NO COMPLETADO"},404]
[{"$f":"+'NO SOCIOS'!A142","v":"VI"},{"$f":"+'NO SOCIOS'!B142","v":0},{"$f":"+'NO SOCIOS'!C142","v":0},"NOMBRE CARGO FISCALIZACIÓN QUE OCUPA:",{"$f":"IF('NO SOCIOS'!E142>0,'NO SOCIOS'!E142,\"<<<<>>>>NO COMPLETADO\")","v":"<<<<>>>>NO COMPLETADO"},405]
[{"$f":"+'NO SOCIOS'!A159","v":"VI"},{"$f":"+'NO SOCIOS'!B159","v":0},{"$f":"+'NO SOCIOS'!C159","v":0},"NOMBRE CARGO FISCALIZACIÓN QUE OCUPA:",{"$f":"IF('NO SOCIOS'!E159>0,'NO SOCIOS'!E159,\"<<<<>>>>NO COMPLETADO\")","v":"<<<<>>>>NO COMPLETADO"},406]
[{"$f":"+'NO SOCIOS'!A176","v":"VI"},{"$f":"+'NO SOCIOS'!B176","v":0},{"$f":"+'NO SOCIOS'!C176","v":0},"NOMBRE CARGO FISCALIZACIÓN QUE OCUPA:",{"$f":"IF('NO SOCIOS'!E176>0,'NO SOCIOS'!E176,\"<<<<>>>>NO COMPLETADO\")","v":"<<<<>>>>NO COMPLETADO"},407]
[{"$f":"+'NO SOCIOS'!A193","v":"VI"},{"$f":"+'NO SOCIOS'!B193","v":0},{"$f":"+'NO SOCIOS'!C193","v":0},"NOMBRE CARGO FISCALIZACIÓN QUE OCUPA:",{"$f":"IF('NO SOCIOS'!E193>0,'NO SOCIOS'!E193,\"<<<<>>>>NO COMPLETADO\")","v":"<<<<>>>>NO COMPLETADO"},408]
[{"$f":"+'NO SOCIOS'!A210","v":"VI"},{"$f":"+'NO SOCIOS'!B210","v":0},{"$f":"+'NO SOCIOS'!C210","v":0},"NOMBRE CARGO FISCALIZACIÓN QUE OCUPA:",{"$f":"IF('NO SOCIOS'!E210>0,'NO SOCIOS'!E210,\"<<<<>>>>NO COMPLETADO\")","v":"<<<<>>>>NO COMPLETADO"},409]
[{"$f":"+'NO SOCIOS'!A227","v":"VI"},{"$f":"+'NO SOCIOS'!B227","v":0},{"$f":"+'NO SOCIOS'!C227","v":0},"NOMBRE CARGO FISCALIZACIÓN QUE OCUPA:",{"$f":"IF('NO SOCIOS'!E227>0,'NO SOCIOS'!E227,\"<<<<>>>>NO COMPLETADO\")","v":"<<<<>>>>NO COMPLETADO"},410]
[{"$f":"+'NO SOCIOS'!A244","v":"VI"},{"$f":"+'NO SOCIOS'!B244","v":0},{"$f":"+'NO SOCIOS'!C244","v":0},"NOMBRE CARGO FISCALIZACIÓN QUE OCUPA:",{"$f":"IF('NO SOCIOS'!E244>0,'NO SOCIOS'!E244,\"<<<<>>>>NO COMPLETADO\")","v":"<<<<>>>>NO COMPLETADO"},411]
[{"$f":"+'NO SOCIOS'!A261","v":"VI"},{"$f":"+'NO SOCIOS'!B261","v":0},{"$f":"+'NO SOCIOS'!C261","v":0},"NOMBRE CARGO FISCALIZACIÓN QUE OCUPA:",{"$f":"IF('NO SOCIOS'!E261>0,'NO SOCIOS'!E261,\"<<<<>>>>NO COMPLETADO\")","v":"<<<<>>>>NO COMPLETADO"},412]
[{"$f":"+SOCIOS!A16","v":"VII.A"},{"$f":"+SOCIOS!B16","v":0},{"$f":"+SOCIOS!C16","v":0},"DOC. IDENTIDAD –sin puntos-: ……………………",{"$f":"IF(SOCIOS!E16>0,SOCIOS!E16,\"<<<<>>>>NO COMPLETADO\")","v":"<<<<>>>>NO COMPLETADO"},413]
[{"$f":"+SOCIOS!A17","v":"VII.A"},{"$f":"+SOCIOS!B17","v":0},{"$f":"+SOCIOS!C17","v":0},"CUIT/CUIL –sin puntos ni barras-:",{"$f":"IF(SOCIOS!E17>0,SOCIOS!E17,\"<<<<>>>>NO COMPLETADO\")","v":"<<<<>>>>NO COMPLETADO"},414]
[{"$f":"+SOCIOS!A18","v":"VII.A"},{"$f":"+SOCIOS!B18","v":0},{"$f":"+SOCIOS!C18","v":0},"FECHA DE NACIMIENTO –dd/mm/aa-:",{"$f":"IF(SOCIOS!E18>0,SOCIOS!E18,\"<<<<>>>>NO COMPLETADO\")","v":"<<<<>>>>NO COMPLETADO"},415]
[{"$f":"+SOCIOS!A19","v":"VII.A"},{"$f":"+SOCIOS!B19","v":0},{"$f":"+SOCIOS!C19","v":0},"LUGAR DE NACIMIENTO:",{"$f":"IF(SOCIOS!E19>0,SOCIOS!E19,\"<<<<>>>>NO COMPLETADO\")","v":"<<<<>>>>NO COMPLETADO"},416]
[{"$f":"+SOCIOS!A20","v":"VII.A"},{"$f":"+SOCIOS!B20","v":0},{"$f":"+SOCIOS!C20","v":0},"NACIONALIDAD:",{"$f":"IF(SOCIOS!E20>0,SOCIOS!E20,\"<<<<>>>>NO COMPLETADO\")","v":"<<<<>>>>NO COMPLETADO"},417]
[{"$f":"+SOCIOS!A21","v":"VII.A"},{"$f":"+SOCIOS!B21","v":0},{"$f":"+SOCIOS!C21","v":0},"PROFESIÓN:",{"$f":"IF(SOCIOS!E21>0,SOCIOS!E21,\"<<<<>>>>NO COMPLETADO\")","v":"<<<<>>>>NO COMPLETADO"},418]
[{"$f":"+SOCIOS!A22","v":"VII.A"},{"$f":"+SOCIOS!B22","v":0},{"$f":"+SOCIOS!C22","v":0},"DOMICILIO REAL:",{"$f":"IF(SOCIOS!E22>0,SOCIOS!E22,\"<<<<>>>>NO COMPLETADO\")","v":"<<<<>>>>NO COMPLETADO"},419]
[{"$f":"+SOCIOS!A23","v":"VII.A"},{"$f":"+SOCIOS!B23","v":0},{"$f":"+SOCIOS!C23","v":0},"CEL/TEL –sin puntos ni barras-:",{"$f":"IF(SOCIOS!E23>0,SOCIOS!E23,\"<<<<>>>>NO COMPLETADO\")","v":"<<<<>>>>NO COMPLETADO"},420]
[{"$f":"+SOCIOS!A24","v":"VII.A"},{"$f":"+SOCIOS!B24","v":0},{"$f":"+SOCIOS!C24","v":0},"EMAIL:",{"$f":"IF(SOCIOS!E24>0,SOCIOS!E24,\"<<<<>>>>NO COMPLETADO\")","v":"<<<<>>>>NO COMPLETADO"},421]
[{"$f":"+SOCIOS!A25","v":"VII.A"},{"$f":"+SOCIOS!B25","v":0},{"$f":"+SOCIOS!C25","v":0},"ESTADO CIVIL:",{"$f":"IF(SOCIOS!E25>0,SOCIOS!E25,\"<<<<>>>>NO COMPLETADO\")","v":"<<<<>>>>NO COMPLETADO"},422]
[{"$f":"+SOCIOS!A26","v":"VII.A"},{"$f":"+SOCIOS!B26","v":0},{"$f":"+SOCIOS!C26","v":0},"APELLIDO/S CÓNYUGE:",{"$f":"IF(SOCIOS!E26>0,SOCIOS!E26,\"<<<<>>>>NO COMPLETADO\")","v":"<<<<>>>>NO COMPLETADO"},423]
[{"$f":"+SOCIOS!A27","v":"VII.A"},{"$f":"+SOCIOS!B27","v":0},{"$f":"+SOCIOS!C27","v":0},"NOMBRE/S CÓNYUGE",{"$f":"IF(SOCIOS!E27>0,SOCIOS!E27,\"<<<<>>>>NO COMPLETADO\")","v":"<<<<>>>>NO COMPLETADO"},424]
[{"$f":"+SOCIOS!A28","v":"VII.A"},{"$f":"+SOCIOS!B28","v":0},{"$f":"+SOCIOS!C28","v":0},"DOC. IDENTIDAD (cónyuge) –sin puntos ni barras-: ",{"$f":"IF(SOCIOS!E28>0,SOCIOS!E28,\"<<<<>>>>NO COMPLETADO\")","v":"<<<<>>>>NO COMPLETADO"},425]
[{"$f":"+SOCIOS!A39","v":"VII.A"},{"$f":"+SOCIOS!B39","v":0},{"$f":"+SOCIOS!C39","v":0},"DOC. IDENTIDAD –sin puntos-: ……………………",{"$f":"IF(SOCIOS!E39>0,SOCIOS!E39,\"<<<<>>>>NO COMPLETADO\")","v":"<<<<>>>>NO COMPLETADO"},426]
[{"$f":"+SOCIOS!A40","v":"VII.A"},{"$f":"+SOCIOS!B40","v":0},{"$f":"+SOCIOS!C40","v":0},"CUIT/CUIL –sin puntos ni barras-:",{"$f":"IF(SOCIOS!E40>0,SOCIOS!E40,\"<<<<>>>>NO COMPLETADO\")","v":"<<<<>>>>NO COMPLETADO"},427]
[{"$f":"+SOCIOS!A41","v":"VII.A"},{"$f":"+SOCIOS!B41","v":0},{"$f":"+SOCIOS!C41","v":0},"FECHA DE NACIMIENTO –dd/mm/aa-:",{"$f":"IF(SOCIOS!E41>0,SOCIOS!E41,\"<<<<>>>>NO COMPLETADO\")","v":"<<<<>>>>NO COMPLETADO"},428]
[{"$f":"+SOCIOS!A42","v":"VII.A"},{"$f":"+SOCIOS!B42","v":0},{"$f":"+SOCIOS!C42","v":0},"LUGAR DE NACIMIENTO:",{"$f":"IF(SOCIOS!E42>0,SOCIOS!E42,\"<<<<>>>>NO COMPLETADO\")","v":"<<<<>>>>NO COMPLETADO"},429]
[{"$f":"+SOCIOS!A43","v":"VII.A"},{"$f":"+SOCIOS!B43","v":0},{"$f":"+SOCIOS!C43","v":0},"NACIONALIDAD:",{"$f":"IF(SOCIOS!E43>0,SOCIOS!E43,\"<<<<>>>>NO COMPLETADO\")","v":"<<<<>>>>NO COMPLETADO"},430]
[{"$f":"+SOCIOS!A44","v":"VII.A"},{"$f":"+SOCIOS!B44","v":0},{"$f":"+SOCIOS!C44","v":0},"PROFESIÓN:",{"$f":"IF(SOCIOS!E44>0,SOCIOS!E44,\"<<<<>>>>NO COMPLETADO\")","v":"<<<<>>>>NO COMPLETADO"},431]
[{"$f":"+SOCIOS!A45","v":"VII.A"},{"$f":"+SOCIOS!B45","v":0},{"$f":"+SOCIOS!C45","v":0},"DOMICILIO REAL:",{"$f":"IF(SOCIOS!E45>0,SOCIOS!E45,\"<<<<>>>>NO COMPLETADO\")","v":"<<<<>>>>NO COMPLETADO"},432]
[{"$f":"+SOCIOS!A46","v":"VII.A"},{"$f":"+SOCIOS!B46","v":0},{"$f":"+SOCIOS!C46","v":0},"CEL/TEL –sin puntos ni barras-:",{"$f":"IF(SOCIOS!E46>0,SOCIOS!E46,\"<<<<>>>>NO COMPLETADO\")","v":"<<<<>>>>NO COMPLETADO"},433]
[{"$f":"+SOCIOS!A47","v":"VII.A"},{"$f":"+SOCIOS!B47","v":0},{"$f":"+SOCIOS!C47","v":0},"EMAIL:",{"$f":"IF(SOCIOS!E47>0,SOCIOS!E47,\"<<<<>>>>NO COMPLETADO\")","v":"<<<<>>>>NO COMPLETADO"},434]
[{"$f":"+SOCIOS!A48","v":"VII.A"},{"$f":"+SOCIOS!B48","v":0},{"$f":"+SOCIOS!C48","v":0},"ESTADO CIVIL:",{"$f":"IF(SOCIOS!E48>0,SOCIOS!E48,\"<<<<>>>>NO COMPLETADO\")","v":"<<<<>>>>NO COMPLETADO"},435]
[{"$f":"+SOCIOS!A49","v":"VII.A"},{"$f":"+SOCIOS!B49","v":0},{"$f":"+SOCIOS!C49","v":0},"APELLIDO/S CÓNYUGE:",{"$f":"IF(SOCIOS!E49>0,SOCIOS!E49,\"<<<<>>>>NO COMPLETADO\")","v":"<<<<>>>>NO COMPLETADO"},436]
[{"$f":"+SOCIOS!A50","v":"VII.A"},{"$f":"+SOCIOS!B50","v":0},{"$f":"+SOCIOS!C50","v":0},"NOMBRE/S CÓNYUGE",{"$f":"IF(SOCIOS!E50>0,SOCIOS!E50,\"<<<<>>>>NO COMPLETADO\")","v":"<<<<>>>>NO COMPLETADO"},437]
[{"$f":"+SOCIOS!A51","v":"VII.A"},{"$f":"+SOCIOS!B51","v":0},{"$f":"+SOCIOS!C51","v":0},"DOC. IDENTIDAD (cónyuge) –sin puntos ni barras-: ",{"$f":"IF(SOCIOS!E51>0,SOCIOS!E51,\"<<<<>>>>NO COMPLETADO\")","v":"<<<<>>>>NO COMPLETADO"},438]
[{"$f":"+SOCIOS!A62","v":"VII.A"},{"$f":"+SOCIOS!B62","v":0},{"$f":"+SOCIOS!C62","v":0},"DOC. IDENTIDAD –sin puntos-: ……………………",{"$f":"IF(SOCIOS!E62>0,SOCIOS!E62,\"<<<<>>>>NO COMPLETADO\")","v":"<<<<>>>>NO COMPLETADO"},439]
[{"$f":"+SOCIOS!A63","v":"VII.A"},{"$f":"+SOCIOS!B63","v":0},{"$f":"+SOCIOS!C63","v":0},"CUIT/CUIL –sin puntos ni barras-:",{"$f":"IF(SOCIOS!E63>0,SOCIOS!E63,\"<<<<>>>>NO COMPLETADO\")","v":"<<<<>>>>NO COMPLETADO"},440]
[{"$f":"+SOCIOS!A64","v":"VII.A"},{"$f":"+SOCIOS!B64","v":0},{"$f":"+SOCIOS!C64","v":0},"FECHA DE NACIMIENTO –dd/mm/aa-:",{"$f":"IF(SOCIOS!E64>0,SOCIOS!E64,\"<<<<>>>>NO COMPLETADO\")","v":"<<<<>>>>NO COMPLETADO"},441]
[{"$f":"+SOCIOS!A65","v":"VII.A"},{"$f":"+SOCIOS!B65","v":0},{"$f":"+SOCIOS!C65","v":0},"LUGAR DE NACIMIENTO:",{"$f":"IF(SOCIOS!E65>0,SOCIOS!E65,\"<<<<>>>>NO COMPLETADO\")","v":"<<<<>>>>NO COMPLETADO"},442]
[{"$f":"+SOCIOS!A66","v":"VII.A"},{"$f":"+SOCIOS!B66","v":0},{"$f":"+SOCIOS!C66","v":0},"NACIONALIDAD:",{"$f":"IF(SOCIOS!E66>0,SOCIOS!E66,\"<<<<>>>>NO COMPLETADO\")","v":"<<<<>>>>NO COMPLETADO"},443]
[{"$f":"+SOCIOS!A67","v":"VII.A"},{"$f":"+SOCIOS!B67","v":0},{"$f":"+SOCIOS!C67","v":0},"PROFESIÓN:",{"$f":"IF(SOCIOS!E67>0,SOCIOS!E67,\"<<<<>>>>NO COMPLETADO\")","v":"<<<<>>>>NO COMPLETADO"},444]
[{"$f":"+SOCIOS!A68","v":"VII.A"},{"$f":"+SOCIOS!B68","v":0},{"$f":"+SOCIOS!C68","v":0},"DOMICILIO REAL:",{"$f":"IF(SOCIOS!E68>0,SOCIOS!E68,\"<<<<>>>>NO COMPLETADO\")","v":"<<<<>>>>NO COMPLETADO"},445]
[{"$f":"+SOCIOS!A69","v":"VII.A"},{"$f":"+SOCIOS!B69","v":0},{"$f":"+SOCIOS!C69","v":0},"CEL/TEL –sin puntos ni barras-:",{"$f":"IF(SOCIOS!E69>0,SOCIOS!E69,\"<<<<>>>>NO COMPLETADO\")","v":"<<<<>>>>NO COMPLETADO"},446]
[{"$f":"+SOCIOS!A70","v":"VII.A"},{"$f":"+SOCIOS!B70","v":0},{"$f":"+SOCIOS!C70","v":0},"EMAIL:",{"$f":"IF(SOCIOS!E70>0,SOCIOS!E70,\"<<<<>>>>NO COMPLETADO\")","v":"<<<<>>>>NO COMPLETADO"},447]
[{"$f":"+SOCIOS!A71","v":"VII.A"},{"$f":"+SOCIOS!B71","v":0},{"$f":"+SOCIOS!C71","v":0},"ESTADO CIVIL:",{"$f":"IF(SOCIOS!E71>0,SOCIOS!E71,\"<<<<>>>>NO COMPLETADO\")","v":"<<<<>>>>NO COMPLETADO"},448]
[{"$f":"+SOCIOS!A72","v":"VII.A"},{"$f":"+SOCIOS!B72","v":0},{"$f":"+SOCIOS!C72","v":0},"APELLIDO/S CÓNYUGE:",{"$f":"IF(SOCIOS!E72>0,SOCIOS!E72,\"<<<<>>>>NO COMPLETADO\")","v":"<<<<>>>>NO COMPLETADO"},449]
[{"$f":"+SOCIOS!A73","v":"VII.A"},{"$f":"+SOCIOS!B73","v":0},{"$f":"+SOCIOS!C73","v":0},"NOMBRE/S CÓNYUGE",{"$f":"IF(SOCIOS!E73>0,SOCIOS!E73,\"<<<<>>>>NO COMPLETADO\")","v":"<<<<>>>>NO COMPLETADO"},450]
[{"$f":"+SOCIOS!A74","v":"VII.A"},{"$f":"+SOCIOS!B74","v":0},{"$f":"+SOCIOS!C74","v":0},"DOC. IDENTIDAD (cónyuge) –sin puntos ni barras-: ",{"$f":"IF(SOCIOS!E74>0,SOCIOS!E74,\"<<<<>>>>NO COMPLETADO\")","v":"<<<<>>>>NO COMPLETADO"},451]
[{"$f":"+SOCIOS!A85","v":"VII.A"},{"$f":"+SOCIOS!B85","v":0},{"$f":"+SOCIOS!C85","v":0},"DOC. IDENTIDAD –sin puntos-: ……………………",{"$f":"IF(SOCIOS!E85>0,SOCIOS!E85,\"<<<<>>>>NO COMPLETADO\")","v":"<<<<>>>>NO COMPLETADO"},452]
[{"$f":"+SOCIOS!A86","v":"VII.A"},{"$f":"+SOCIOS!B86","v":0},{"$f":"+SOCIOS!C86","v":0},"CUIT/CUIL –sin puntos ni barras-:",{"$f":"IF(SOCIOS!E86>0,SOCIOS!E86,\"<<<<>>>>NO COMPLETADO\")","v":"<<<<>>>>NO COMPLETADO"},453]
[{"$f":"+SOCIOS!A87","v":"VII.A"},{"$f":"+SOCIOS!B87","v":0},{"$f":"+SOCIOS!C87","v":0},"FECHA DE NACIMIENTO –dd/mm/aa-:",{"$f":"IF(SOCIOS!E87>0,SOCIOS!E87,\"<<<<>>>>NO COMPLETADO\")","v":"<<<<>>>>NO COMPLETADO"},454]
[{"$f":"+SOCIOS!A88","v":"VII.A"},{"$f":"+SOCIOS!B88","v":0},{"$f":"+SOCIOS!C88","v":0},"LUGAR DE NACIMIENTO:",{"$f":"IF(SOCIOS!E88>0,SOCIOS!E88,\"<<<<>>>>NO COMPLETADO\")","v":"<<<<>>>>NO COMPLETADO"},455]
[{"$f":"+SOCIOS!A89","v":"VII.A"},{"$f":"+SOCIOS!B89","v":0},{"$f":"+SOCIOS!C89","v":0},"NACIONALIDAD:",{"$f":"IF(SOCIOS!E89>0,SOCIOS!E89,\"<<<<>>>>NO COMPLETADO\")","v":"<<<<>>>>NO COMPLETADO"},456]
[{"$f":"+SOCIOS!A90","v":"VII.A"},{"$f":"+SOCIOS!B90","v":0},{"$f":"+SOCIOS!C90","v":0},"PROFESIÓN:",{"$f":"IF(SOCIOS!E90>0,SOCIOS!E90,\"<<<<>>>>NO COMPLETADO\")","v":"<<<<>>>>NO COMPLETADO"},457]
[{"$f":"+SOCIOS!A91","v":"VII.A"},{"$f":"+SOCIOS!B91","v":0},{"$f":"+SOCIOS!C91","v":0},"DOMICILIO REAL:",{"$f":"IF(SOCIOS!E91>0,SOCIOS!E91,\"<<<<>>>>NO COMPLETADO\")","v":"<<<<>>>>NO COMPLETADO"},458]
[{"$f":"+SOCIOS!A92","v":"VII.A"},{"$f":"+SOCIOS!B92","v":0},{"$f":"+SOCIOS!C92","v":0},"CEL/TEL –sin puntos ni barras-:",{"$f":"IF(SOCIOS!E92>0,SOCIOS!E92,\"<<<<>>>>NO COMPLETADO\")","v":"<<<<>>>>NO COMPLETADO"},459]
[{"$f":"+SOCIOS!A93","v":"VII.A"},{"$f":"+SOCIOS!B93","v":0},{"$f":"+SOCIOS!C93","v":0},"EMAIL:",{"$f":"IF(SOCIOS!E93>0,SOCIOS!E93,\"<<<<>>>>NO COMPLETADO\")","v":"<<<<>>>>NO COMPLETADO"},460]
[{"$f":"+SOCIOS!A94","v":"VII.A"},{"$f":"+SOCIOS!B94","v":0},{"$f":"+SOCIOS!C94","v":0},"ESTADO CIVIL:",{"$f":"IF(SOCIOS!E94>0,SOCIOS!E94,\"<<<<>>>>NO COMPLETADO\")","v":"<<<<>>>>NO COMPLETADO"},461]
[{"$f":"+SOCIOS!A95","v":"VII.A"},{"$f":"+SOCIOS!B95","v":0},{"$f":"+SOCIOS!C95","v":0},"APELLIDO/S CÓNYUGE:",{"$f":"IF(SOCIOS!E95>0,SOCIOS!E95,\"<<<<>>>>NO COMPLETADO\")","v":"<<<<>>>>NO COMPLETADO"},462]
[{"$f":"+SOCIOS!A96","v":"VII.A"},{"$f":"+SOCIOS!B96","v":0},{"$f":"+SOCIOS!C96","v":0},"NOMBRE/S CÓNYUGE",{"$f":"IF(SOCIOS!E96>0,SOCIOS!E96,\"<<<<>>>>NO COMPLETADO\")","v":"<<<<>>>>NO COMPLETADO"},463]
[{"$f":"+SOCIOS!A97","v":"VII.A"},{"$f":"+SOCIOS!B97","v":0},{"$f":"+SOCIOS!C97","v":0},"DOC. IDENTIDAD (cónyuge) –sin puntos ni barras-: ",{"$f":"IF(SOCIOS!E97>0,SOCIOS!E97,\"<<<<>>>>NO COMPLETADO\")","v":"<<<<>>>>NO COMPLETADO"},464]
[{"$f":"+SOCIOS!A108","v":"VII.A"},{"$f":"+SOCIOS!B108","v":0},{"$f":"+SOCIOS!C108","v":0},"DOC. IDENTIDAD –sin puntos-: ……………………",{"$f":"IF(SOCIOS!E108>0,SOCIOS!E108,\"<<<<>>>>NO COMPLETADO\")","v":"<<<<>>>>NO COMPLETADO"},465]
[{"$f":"+SOCIOS!A109","v":"VII.A"},{"$f":"+SOCIOS!B109","v":0},{"$f":"+SOCIOS!C109","v":0},"CUIT/CUIL –sin puntos ni barras-:",{"$f":"IF(SOCIOS!E109>0,SOCIOS!E109,\"<<<<>>>>NO COMPLETADO\")","v":"<<<<>>>>NO COMPLETADO"},466]
[{"$f":"+SOCIOS!A110","v":"VII.A"},{"$f":"+SOCIOS!B110","v":0},{"$f":"+SOCIOS!C110","v":0},"FECHA DE NACIMIENTO –dd/mm/aa-:",{"$f":"IF(SOCIOS!E110>0,SOCIOS!E110,\"<<<<>>>>NO COMPLETADO\")","v":"<<<<>>>>NO COMPLETADO"},467]
[{"$f":"+SOCIOS!A111","v":"VII.A"},{"$f":"+SOCIOS!B111","v":0},{"$f":"+SOCIOS!C111","v":0},"LUGAR DE NACIMIENTO:",{"$f":"IF(SOCIOS!E111>0,SOCIOS!E111,\"<<<<>>>>NO COMPLETADO\")","v":"<<<<>>>>NO COMPLETADO"},468]
[{"$f":"+SOCIOS!A112","v":"VII.A"},{"$f":"+SOCIOS!B112","v":0},{"$f":"+SOCIOS!C112","v":0},"NACIONALIDAD:",{"$f":"IF(SOCIOS!E112>0,SOCIOS!E112,\"<<<<>>>>NO COMPLETADO\")","v":"<<<<>>>>NO COMPLETADO"},469]
[{"$f":"+SOCIOS!A113","v":"VII.A"},{"$f":"+SOCIOS!B113","v":0},{"$f":"+SOCIOS!C113","v":0},"PROFESIÓN:",{"$f":"IF(SOCIOS!E113>0,SOCIOS!E113,\"<<<<>>>>NO COMPLETADO\")","v":"<<<<>>>>NO COMPLETADO"},470]
[{"$f":"+SOCIOS!A114","v":"VII.A"},{"$f":"+SOCIOS!B114","v":0},{"$f":"+SOCIOS!C114","v":0},"DOMICILIO REAL:",{"$f":"IF(SOCIOS!E114>0,SOCIOS!E114,\"<<<<>>>>NO COMPLETADO\")","v":"<<<<>>>>NO COMPLETADO"},471]
[{"$f":"+SOCIOS!A115","v":"VII.A"},{"$f":"+SOCIOS!B115","v":0},{"$f":"+SOCIOS!C115","v":0},"CEL/TEL –sin puntos ni barras-:",{"$f":"IF(SOCIOS!E115>0,SOCIOS!E115,\"<<<<>>>>NO COMPLETADO\")","v":"<<<<>>>>NO COMPLETADO"},472]
[{"$f":"+SOCIOS!A116","v":"VII.A"},{"$f":"+SOCIOS!B116","v":0},{"$f":"+SOCIOS!C116","v":0},"EMAIL:",{"$f":"IF(SOCIOS!E116>0,SOCIOS!E116,\"<<<<>>>>NO COMPLETADO\")","v":"<<<<>>>>NO COMPLETADO"},473]
[{"$f":"+SOCIOS!A117","v":"VII.A"},{"$f":"+SOCIOS!B117","v":0},{"$f":"+SOCIOS!C117","v":0},"ESTADO CIVIL:",{"$f":"IF(SOCIOS!E117>0,SOCIOS!E117,\"<<<<>>>>NO COMPLETADO\")","v":"<<<<>>>>NO COMPLETADO"},474]
[{"$f":"+SOCIOS!A118","v":"VII.A"},{"$f":"+SOCIOS!B118","v":0},{"$f":"+SOCIOS!C118","v":0},"APELLIDO/S CÓNYUGE:",{"$f":"IF(SOCIOS!E118>0,SOCIOS!E118,\"<<<<>>>>NO COMPLETADO\")","v":"<<<<>>>>NO COMPLETADO"},475]
[{"$f":"+SOCIOS!A119","v":"VII.A"},{"$f":"+SOCIOS!B119","v":0},{"$f":"+SOCIOS!C119","v":0},"NOMBRE/S CÓNYUGE",{"$f":"IF(SOCIOS!E119>0,SOCIOS!E119,\"<<<<>>>>NO COMPLETADO\")","v":"<<<<>>>>NO COMPLETADO"},476]
[{"$f":"+SOCIOS!A120","v":"VII.A"},{"$f":"+SOCIOS!B120","v":0},{"$f":"+SOCIOS!C120","v":0},"DOC. IDENTIDAD (cónyuge) –sin puntos ni barras-: ",{"$f":"IF(SOCIOS!E120>0,SOCIOS!E120,\"<<<<>>>>NO COMPLETADO\")","v":"<<<<>>>>NO COMPLETADO"},477]
[{"$f":"+SOCIOS!A131","v":"VII.A"},{"$f":"+SOCIOS!B131","v":0},{"$f":"+SOCIOS!C131","v":0},"DOC. IDENTIDAD –sin puntos-: ……………………",{"$f":"IF(SOCIOS!E131>0,SOCIOS!E131,\"<<<<>>>>NO COMPLETADO\")","v":"<<<<>>>>NO COMPLETADO"},478]
[{"$f":"+SOCIOS!A132","v":"VII.A"},{"$f":"+SOCIOS!B132","v":0},{"$f":"+SOCIOS!C132","v":0},"CUIT/CUIL –sin puntos ni barras-:",{"$f":"IF(SOCIOS!E132>0,SOCIOS!E132,\"<<<<>>>>NO COMPLETADO\")","v":"<<<<>>>>NO COMPLETADO"},479]
[{"$f":"+SOCIOS!A133","v":"VII.A"},{"$f":"+SOCIOS!B133","v":0},{"$f":"+SOCIOS!C133","v":0},"FECHA DE NACIMIENTO –dd/mm/aa-:",{"$f":"IF(SOCIOS!E133>0,SOCIOS!E133,\"<<<<>>>>NO COMPLETADO\")","v":"<<<<>>>>NO COMPLETADO"},480]
[{"$f":"+SOCIOS!A134","v":"VII.A"},{"$f":"+SOCIOS!B134","v":0},{"$f":"+SOCIOS!C134","v":0},"LUGAR DE NACIMIENTO:",{"$f":"IF(SOCIOS!E134>0,SOCIOS!E134,\"<<<<>>>>NO COMPLETADO\")","v":"<<<<>>>>NO COMPLETADO"},481]
[{"$f":"+SOCIOS!A135","v":"VII.A"},{"$f":"+SOCIOS!B135","v":0},{"$f":"+SOCIOS!C135","v":0},"NACIONALIDAD:",{"$f":"IF(SOCIOS!E135>0,SOCIOS!E135,\"<<<<>>>>NO COMPLETADO\")","v":"<<<<>>>>NO COMPLETADO"},482]
[{"$f":"+SOCIOS!A136","v":"VII.A"},{"$f":"+SOCIOS!B136","v":0},{"$f":"+SOCIOS!C136","v":0},"PROFESIÓN:",{"$f":"IF(SOCIOS!E136>0,SOCIOS!E136,\"<<<<>>>>NO COMPLETADO\")","v":"<<<<>>>>NO COMPLETADO"},483]
[{"$f":"+SOCIOS!A137","v":"VII.A"},{"$f":"+SOCIOS!B137","v":0},{"$f":"+SOCIOS!C137","v":0},"DOMICILIO REAL:",{"$f":"IF(SOCIOS!E137>0,SOCIOS!E137,\"<<<<>>>>NO COMPLETADO\")","v":"<<<<>>>>NO COMPLETADO"},484]
[{"$f":"+SOCIOS!A138","v":"VII.A"},{"$f":"+SOCIOS!B138","v":0},{"$f":"+SOCIOS!C138","v":0},"CEL/TEL –sin puntos ni barras-:",{"$f":"IF(SOCIOS!E138>0,SOCIOS!E138,\"<<<<>>>>NO COMPLETADO\")","v":"<<<<>>>>NO COMPLETADO"},485]
[{"$f":"+SOCIOS!A139","v":"VII.A"},{"$f":"+SOCIOS!B139","v":0},{"$f":"+SOCIOS!C139","v":0},"EMAIL:",{"$f":"IF(SOCIOS!E139>0,SOCIOS!E139,\"<<<<>>>>NO COMPLETADO\")","v":"<<<<>>>>NO COMPLETADO"},486]
[{"$f":"+SOCIOS!A140","v":"VII.A"},{"$f":"+SOCIOS!B140","v":0},{"$f":"+SOCIOS!C140","v":0},"ESTADO CIVIL:",{"$f":"IF(SOCIOS!E140>0,SOCIOS!E140,\"<<<<>>>>NO COMPLETADO\")","v":"<<<<>>>>NO COMPLETADO"},487]
[{"$f":"+SOCIOS!A141","v":"VII.A"},{"$f":"+SOCIOS!B141","v":0},{"$f":"+SOCIOS!C141","v":0},"APELLIDO/S CÓNYUGE:",{"$f":"IF(SOCIOS!E141>0,SOCIOS!E141,\"<<<<>>>>NO COMPLETADO\")","v":"<<<<>>>>NO COMPLETADO"},488]
[{"$f":"+SOCIOS!A142","v":"VII.A"},{"$f":"+SOCIOS!B142","v":0},{"$f":"+SOCIOS!C142","v":0},"NOMBRE/S CÓNYUGE",{"$f":"IF(SOCIOS!E142>0,SOCIOS!E142,\"<<<<>>>>NO COMPLETADO\")","v":"<<<<>>>>NO COMPLETADO"},489]
[{"$f":"+SOCIOS!A143","v":"VII.A"},{"$f":"+SOCIOS!B143","v":0},{"$f":"+SOCIOS!C143","v":0},"DOC. IDENTIDAD (cónyuge) –sin puntos ni barras-: ",{"$f":"IF(SOCIOS!E143>0,SOCIOS!E143,\"<<<<>>>>NO COMPLETADO\")","v":"<<<<>>>>NO COMPLETADO"},490]
[{"$f":"+SOCIOS!A154","v":"VII.A"},{"$f":"+SOCIOS!B154","v":0},{"$f":"+SOCIOS!C154","v":0},"DOC. IDENTIDAD –sin puntos-: ……………………",{"$f":"IF(SOCIOS!E154>0,SOCIOS!E154,\"<<<<>>>>NO COMPLETADO\")","v":"<<<<>>>>NO COMPLETADO"},491]
[{"$f":"+SOCIOS!A155","v":"VII.A"},{"$f":"+SOCIOS!B155","v":0},{"$f":"+SOCIOS!C155","v":0},"CUIT/CUIL –sin puntos ni barras-:",{"$f":"IF(SOCIOS!E155>0,SOCIOS!E155,\"<<<<>>>>NO COMPLETADO\")","v":"<<<<>>>>NO COMPLETADO"},492]
[{"$f":"+SOCIOS!A156","v":"VII.A"},{"$f":"+SOCIOS!B156","v":0},{"$f":"+SOCIOS!C156","v":0},"FECHA DE NACIMIENTO –dd/mm/aa-:",{"$f":"IF(SOCIOS!E156>0,SOCIOS!E156,\"<<<<>>>>NO COMPLETADO\")","v":"<<<<>>>>NO COMPLETADO"},493]
[{"$f":"+SOCIOS!A157","v":"VII.A"},{"$f":"+SOCIOS!B157","v":0},{"$f":"+SOCIOS!C157","v":0},"LUGAR DE NACIMIENTO:",{"$f":"IF(SOCIOS!E157>0,SOCIOS!E157,\"<<<<>>>>NO COMPLETADO\")","v":"<<<<>>>>NO COMPLETADO"},494]
[{"$f":"+SOCIOS!A158","v":"VII.A"},{"$f":"+SOCIOS!B158","v":0},{"$f":"+SOCIOS!C158","v":0},"NACIONALIDAD:",{"$f":"IF(SOCIOS!E158>0,SOCIOS!E158,\"<<<<>>>>NO COMPLETADO\")","v":"<<<<>>>>NO COMPLETADO"},495]
[{"$f":"+SOCIOS!A159","v":"VII.A"},{"$f":"+SOCIOS!B159","v":0},{"$f":"+SOCIOS!C159","v":0},"PROFESIÓN:",{"$f":"IF(SOCIOS!E159>0,SOCIOS!E159,\"<<<<>>>>NO COMPLETADO\")","v":"<<<<>>>>NO COMPLETADO"},496]
[{"$f":"+SOCIOS!A160","v":"VII.A"},{"$f":"+SOCIOS!B160","v":0},{"$f":"+SOCIOS!C160","v":0},"DOMICILIO REAL:",{"$f":"IF(SOCIOS!E160>0,SOCIOS!E160,\"<<<<>>>>NO COMPLETADO\")","v":"<<<<>>>>NO COMPLETADO"},497]
[{"$f":"+SOCIOS!A161","v":"VII.A"},{"$f":"+SOCIOS!B161","v":0},{"$f":"+SOCIOS!C161","v":0},"CEL/TEL –sin puntos ni barras-:",{"$f":"IF(SOCIOS!E161>0,SOCIOS!E161,\"<<<<>>>>NO COMPLETADO\")","v":"<<<<>>>>NO COMPLETADO"},498]
[{"$f":"+SOCIOS!A162","v":"VII.A"},{"$f":"+SOCIOS!B162","v":0},{"$f":"+SOCIOS!C162","v":0},"EMAIL:",{"$f":"IF(SOCIOS!E162>0,SOCIOS!E162,\"<<<<>>>>NO COMPLETADO\")","v":"<<<<>>>>NO COMPLETADO"},499]
[{"$f":"+SOCIOS!A163","v":"VII.A"},{"$f":"+SOCIOS!B163","v":0},{"$f":"+SOCIOS!C163","v":0},"ESTADO CIVIL:",{"$f":"IF(SOCIOS!E163>0,SOCIOS!E163,\"<<<<>>>>NO COMPLETADO\")","v":"<<<<>>>>NO COMPLETADO"},500]
[{"$f":"+SOCIOS!A164","v":"VII.A"},{"$f":"+SOCIOS!B164","v":0},{"$f":"+SOCIOS!C164","v":0},"APELLIDO/S CÓNYUGE:",{"$f":"IF(SOCIOS!E164>0,SOCIOS!E164,\"<<<<>>>>NO COMPLETADO\")","v":"<<<<>>>>NO COMPLETADO"},501]
[{"$f":"+SOCIOS!A165","v":"VII.A"},{"$f":"+SOCIOS!B165","v":0},{"$f":"+SOCIOS!C165","v":0},"NOMBRE/S CÓNYUGE",{"$f":"IF(SOCIOS!E165>0,SOCIOS!E165,\"<<<<>>>>NO COMPLETADO\")","v":"<<<<>>>>NO COMPLETADO"},502]
[{"$f":"+SOCIOS!A166","v":"VII.A"},{"$f":"+SOCIOS!B166","v":0},{"$f":"+SOCIOS!C166","v":0},"DOC. IDENTIDAD (cónyuge) –sin puntos ni barras-: ",{"$f":"IF(SOCIOS!E166>0,SOCIOS!E166,\"<<<<>>>>NO COMPLETADO\")","v":"<<<<>>>>NO COMPLETADO"},503]
[{"$f":"+SOCIOS!A177","v":"VII.A"},{"$f":"+SOCIOS!B177","v":0},{"$f":"+SOCIOS!C177","v":0},"DOC. IDENTIDAD –sin puntos-: ……………………",{"$f":"IF(SOCIOS!E177>0,SOCIOS!E177,\"<<<<>>>>NO COMPLETADO\")","v":"<<<<>>>>NO COMPLETADO"},504]
[{"$f":"+SOCIOS!A178","v":"VII.A"},{"$f":"+SOCIOS!B178","v":0},{"$f":"+SOCIOS!C178","v":0},"CUIT/CUIL –sin puntos ni barras-:",{"$f":"IF(SOCIOS!E178>0,SOCIOS!E178,\"<<<<>>>>NO COMPLETADO\")","v":"<<<<>>>>NO COMPLETADO"},505]
[{"$f":"+SOCIOS!A179","v":"VII.A"},{"$f":"+SOCIOS!B179","v":0},{"$f":"+SOCIOS!C179","v":0},"FECHA DE NACIMIENTO –dd/mm/aa-:",{"$f":"IF(SOCIOS!E179>0,SOCIOS!E179,\"<<<<>>>>NO COMPLETADO\")","v":"<<<<>>>>NO COMPLETADO"},506]
[{"$f":"+SOCIOS!A180","v":"VII.A"},{"$f":"+SOCIOS!B180","v":0},{"$f":"+SOCIOS!C180","v":0},"LUGAR DE NACIMIENTO:",{"$f":"IF(SOCIOS!E180>0,SOCIOS!E180,\"<<<<>>>>NO COMPLETADO\")","v":"<<<<>>>>NO COMPLETADO"},507]
[{"$f":"+SOCIOS!A181","v":"VII.A"},{"$f":"+SOCIOS!B181","v":0},{"$f":"+SOCIOS!C181","v":0},"NACIONALIDAD:",{"$f":"IF(SOCIOS!E181>0,SOCIOS!E181,\"<<<<>>>>NO COMPLETADO\")","v":"<<<<>>>>NO COMPLETADO"},508]
[{"$f":"+SOCIOS!A182","v":"VII.A"},{"$f":"+SOCIOS!B182","v":0},{"$f":"+SOCIOS!C182","v":0},"PROFESIÓN:",{"$f":"IF(SOCIOS!E182>0,SOCIOS!E182,\"<<<<>>>>NO COMPLETADO\")","v":"<<<<>>>>NO COMPLETADO"},509]
[{"$f":"+SOCIOS!A183","v":"VII.A"},{"$f":"+SOCIOS!B183","v":0},{"$f":"+SOCIOS!C183","v":0},"DOMICILIO REAL:",{"$f":"IF(SOCIOS!E183>0,SOCIOS!E183,\"<<<<>>>>NO COMPLETADO\")","v":"<<<<>>>>NO COMPLETADO"},510]
[{"$f":"+SOCIOS!A184","v":"VII.A"},{"$f":"+SOCIOS!B184","v":0},{"$f":"+SOCIOS!C184","v":0},"CEL/TEL –sin puntos ni barras-:",{"$f":"IF(SOCIOS!E184>0,SOCIOS!E184,\"<<<<>>>>NO COMPLETADO\")","v":"<<<<>>>>NO COMPLETADO"},511]
[{"$f":"+SOCIOS!A185","v":"VII.A"},{"$f":"+SOCIOS!B185","v":0},{"$f":"+SOCIOS!C185","v":0},"EMAIL:",{"$f":"IF(SOCIOS!E185>0,SOCIOS!E185,\"<<<<>>>>NO COMPLETADO\")","v":"<<<<>>>>NO COMPLETADO"},512]
[{"$f":"+SOCIOS!A186","v":"VII.A"},{"$f":"+SOCIOS!B186","v":0},{"$f":"+SOCIOS!C186","v":0},"ESTADO CIVIL:",{"$f":"IF(SOCIOS!E186>0,SOCIOS!E186,\"<<<<>>>>NO COMPLETADO\")","v":"<<<<>>>>NO COMPLETADO"},513]
[{"$f":"+SOCIOS!A187","v":"VII.A"},{"$f":"+SOCIOS!B187","v":0},{"$f":"+SOCIOS!C187","v":0},"APELLIDO/S CÓNYUGE:",{"$f":"IF(SOCIOS!E187>0,SOCIOS!E187,\"<<<<>>>>NO COMPLETADO\")","v":"<<<<>>>>NO COMPLETADO"},514]
[{"$f":"+SOCIOS!A188","v":"VII.A"},{"$f":"+SOCIOS!B188","v":0},{"$f":"+SOCIOS!C188","v":0},"NOMBRE/S CÓNYUGE",{"$f":"IF(SOCIOS!E188>0,SOCIOS!E188,\"<<<<>>>>NO COMPLETADO\")","v":"<<<<>>>>NO COMPLETADO"},515]
[{"$f":"+SOCIOS!A189","v":"VII.A"},{"$f":"+SOCIOS!B189","v":0},{"$f":"+SOCIOS!C189","v":0},"DOC. IDENTIDAD (cónyuge) –sin puntos ni barras-: ",{"$f":"IF(SOCIOS!E189>0,SOCIOS!E189,\"<<<<>>>>NO COMPLETADO\")","v":"<<<<>>>>NO COMPLETADO"},516]
[{"$f":"+SOCIOS!A200","v":"VII.A"},{"$f":"+SOCIOS!B200","v":0},{"$f":"+SOCIOS!C200","v":0},"DOC. IDENTIDAD –sin puntos-: ……………………",{"$f":"IF(SOCIOS!E200>0,SOCIOS!E200,\"<<<<>>>>NO COMPLETADO\")","v":"<<<<>>>>NO COMPLETADO"},517]
[{"$f":"+SOCIOS!A201","v":"VII.A"},{"$f":"+SOCIOS!B201","v":0},{"$f":"+SOCIOS!C201","v":0},"CUIT/CUIL –sin puntos ni barras-:",{"$f":"IF(SOCIOS!E201>0,SOCIOS!E201,\"<<<<>>>>NO COMPLETADO\")","v":"<<<<>>>>NO COMPLETADO"},518]
[{"$f":"+SOCIOS!A202","v":"VII.A"},{"$f":"+SOCIOS!B202","v":0},{"$f":"+SOCIOS!C202","v":0},"FECHA DE NACIMIENTO –dd/mm/aa-:",{"$f":"IF(SOCIOS!E202>0,SOCIOS!E202,\"<<<<>>>>NO COMPLETADO\")","v":"<<<<>>>>NO COMPLETADO"},519]
[{"$f":"+SOCIOS!A203","v":"VII.A"},{"$f":"+SOCIOS!B203","v":0},{"$f":"+SOCIOS!C203","v":0},"LUGAR DE NACIMIENTO:",{"$f":"IF(SOCIOS!E203>0,SOCIOS!E203,\"<<<<>>>>NO COMPLETADO\")","v":"<<<<>>>>NO COMPLETADO"},520]
[{"$f":"+SOCIOS!A204","v":"VII.A"},{"$f":"+SOCIOS!B204","v":0},{"$f":"+SOCIOS!C204","v":0},"NACIONALIDAD:",{"$f":"IF(SOCIOS!E204>0,SOCIOS!E204,\"<<<<>>>>NO COMPLETADO\")","v":"<<<<>>>>NO COMPLETADO"},521]
[{"$f":"+SOCIOS!A205","v":"VII.A"},{"$f":"+SOCIOS!B205","v":0},{"$f":"+SOCIOS!C205","v":0},"PROFESIÓN:",{"$f":"IF(SOCIOS!E205>0,SOCIOS!E205,\"<<<<>>>>NO COMPLETADO\")","v":"<<<<>>>>NO COMPLETADO"},522]
[{"$f":"+SOCIOS!A206","v":"VII.A"},{"$f":"+SOCIOS!B206","v":0},{"$f":"+SOCIOS!C206","v":0},"DOMICILIO REAL:",{"$f":"IF(SOCIOS!E206>0,SOCIOS!E206,\"<<<<>>>>NO COMPLETADO\")","v":"<<<<>>>>NO COMPLETADO"},523]
[{"$f":"+SOCIOS!A207","v":"VII.A"},{"$f":"+SOCIOS!B207","v":0},{"$f":"+SOCIOS!C207","v":0},"CEL/TEL –sin puntos ni barras-:",{"$f":"IF(SOCIOS!E207>0,SOCIOS!E207,\"<<<<>>>>NO COMPLETADO\")","v":"<<<<>>>>NO COMPLETADO"},524]
[{"$f":"+SOCIOS!A208","v":"VII.A"},{"$f":"+SOCIOS!B208","v":0},{"$f":"+SOCIOS!C208","v":0},"EMAIL:",{"$f":"IF(SOCIOS!E208>0,SOCIOS!E208,\"<<<<>>>>NO COMPLETADO\")","v":"<<<<>>>>NO COMPLETADO"},525]
[{"$f":"+SOCIOS!A209","v":"VII.A"},{"$f":"+SOCIOS!B209","v":0},{"$f":"+SOCIOS!C209","v":0},"ESTADO CIVIL:",{"$f":"IF(SOCIOS!E209>0,SOCIOS!E209,\"<<<<>>>>NO COMPLETADO\")","v":"<<<<>>>>NO COMPLETADO"},526]
[{"$f":"+SOCIOS!A210","v":"VII.A"},{"$f":"+SOCIOS!B210","v":0},{"$f":"+SOCIOS!C210","v":0},"APELLIDO/S CÓNYUGE:",{"$f":"IF(SOCIOS!E210>0,SOCIOS!E210,\"<<<<>>>>NO COMPLETADO\")","v":"<<<<>>>>NO COMPLETADO"},527]
[{"$f":"+SOCIOS!A211","v":"VII.A"},{"$f":"+SOCIOS!B211","v":0},{"$f":"+SOCIOS!C211","v":0},"NOMBRE/S CÓNYUGE",{"$f":"IF(SOCIOS!E211>0,SOCIOS!E211,\"<<<<>>>>NO COMPLETADO\")","v":"<<<<>>>>NO COMPLETADO"},528]
[{"$f":"+SOCIOS!A212","v":"VII.A"},{"$f":"+SOCIOS!B212","v":0},{"$f":"+SOCIOS!C212","v":0},"DOC. IDENTIDAD (cónyuge) –sin puntos ni barras-: ",{"$f":"IF(SOCIOS!E212>0,SOCIOS!E212,\"<<<<>>>>NO COMPLETADO\")","v":"<<<<>>>>NO COMPLETADO"},529]
[{"$f":"+SOCIOS!A223","v":"VII.A"},{"$f":"+SOCIOS!B223","v":0},{"$f":"+SOCIOS!C223","v":0},"DOC. IDENTIDAD –sin puntos-: ……………………",{"$f":"IF(SOCIOS!E223>0,SOCIOS!E223,\"<<<<>>>>NO COMPLETADO\")","v":"<<<<>>>>NO COMPLETADO"},530]
[{"$f":"+SOCIOS!A224","v":"VII.A"},{"$f":"+SOCIOS!B224","v":0},{"$f":"+SOCIOS!C224","v":0},"CUIT/CUIL –sin puntos ni barras-:",{"$f":"IF(SOCIOS!E224>0,SOCIOS!E224,\"<<<<>>>>NO COMPLETADO\")","v":"<<<<>>>>NO COMPLETADO"},531]
[{"$f":"+SOCIOS!A225","v":"VII.A"},{"$f":"+SOCIOS!B225","v":0},{"$f":"+SOCIOS!C225","v":0},"FECHA DE NACIMIENTO –dd/mm/aa-:",{"$f":"IF(SOCIOS!E225>0,SOCIOS!E225,\"<<<<>>>>NO COMPLETADO\")","v":"<<<<>>>>NO COMPLETADO"},532]
[{"$f":"+SOCIOS!A226","v":"VII.A"},{"$f":"+SOCIOS!B226","v":0},{"$f":"+SOCIOS!C226","v":0},"LUGAR DE NACIMIENTO:",{"$f":"IF(SOCIOS!E226>0,SOCIOS!E226,\"<<<<>>>>NO COMPLETADO\")","v":"<<<<>>>>NO COMPLETADO"},533]
[{"$f":"+SOCIOS!A227","v":"VII.A"},{"$f":"+SOCIOS!B227","v":0},{"$f":"+SOCIOS!C227","v":0},"NACIONALIDAD:",{"$f":"IF(SOCIOS!E227>0,SOCIOS!E227,\"<<<<>>>>NO COMPLETADO\")","v":"<<<<>>>>NO COMPLETADO"},534]
[{"$f":"+SOCIOS!A228","v":"VII.A"},{"$f":"+SOCIOS!B228","v":0},{"$f":"+SOCIOS!C228","v":0},"PROFESIÓN:",{"$f":"IF(SOCIOS!E228>0,SOCIOS!E228,\"<<<<>>>>NO COMPLETADO\")","v":"<<<<>>>>NO COMPLETADO"},535]
[{"$f":"+SOCIOS!A229","v":"VII.A"},{"$f":"+SOCIOS!B229","v":0},{"$f":"+SOCIOS!C229","v":0},"DOMICILIO REAL:",{"$f":"IF(SOCIOS!E229>0,SOCIOS!E229,\"<<<<>>>>NO COMPLETADO\")","v":"<<<<>>>>NO COMPLETADO"},536]
[{"$f":"+SOCIOS!A230","v":"VII.A"},{"$f":"+SOCIOS!B230","v":0},{"$f":"+SOCIOS!C230","v":0},"CEL/TEL –sin puntos ni barras-:",{"$f":"IF(SOCIOS!E230>0,SOCIOS!E230,\"<<<<>>>>NO COMPLETADO\")","v":"<<<<>>>>NO COMPLETADO"},537]
[{"$f":"+SOCIOS!A231","v":"VII.A"},{"$f":"+SOCIOS!B231","v":0},{"$f":"+SOCIOS!C231","v":0},"EMAIL:",{"$f":"IF(SOCIOS!E231>0,SOCIOS!E231,\"<<<<>>>>NO COMPLETADO\")","v":"<<<<>>>>NO COMPLETADO"},538]
[{"$f":"+SOCIOS!A232","v":"VII.A"},{"$f":"+SOCIOS!B232","v":0},{"$f":"+SOCIOS!C232","v":0},"ESTADO CIVIL:",{"$f":"IF(SOCIOS!E232>0,SOCIOS!E232,\"<<<<>>>>NO COMPLETADO\")","v":"<<<<>>>>NO COMPLETADO"},539]
[{"$f":"+SOCIOS!A233","v":"VII.A"},{"$f":"+SOCIOS!B233","v":0},{"$f":"+SOCIOS!C233","v":0},"APELLIDO/S CÓNYUGE:",{"$f":"IF(SOCIOS!E233>0,SOCIOS!E233,\"<<<<>>>>NO COMPLETADO\")","v":"<<<<>>>>NO COMPLETADO"},540]
[{"$f":"+SOCIOS!A234","v":"VII.A"},{"$f":"+SOCIOS!B234","v":0},{"$f":"+SOCIOS!C234","v":0},"NOMBRE/S CÓNYUGE",{"$f":"IF(SOCIOS!E234>0,SOCIOS!E234,\"<<<<>>>>NO COMPLETADO\")","v":"<<<<>>>>NO COMPLETADO"},541]
[{"$f":"+SOCIOS!A235","v":"VII.A"},{"$f":"+SOCIOS!B235","v":0},{"$f":"+SOCIOS!C235","v":0},"DOC. IDENTIDAD (cónyuge) –sin puntos ni barras-: ",{"$f":"IF(SOCIOS!E235>0,SOCIOS!E235,\"<<<<>>>>NO COMPLETADO\")","v":"<<<<>>>>NO COMPLETADO"},542]
[{"$f":"+SOCIOS!A246","v":"VII.A"},{"$f":"+SOCIOS!B246","v":0},{"$f":"+SOCIOS!C246","v":0},"DOC. IDENTIDAD –sin puntos-: ……………………",{"$f":"IF(SOCIOS!E246>0,SOCIOS!E246,\"<<<<>>>>NO COMPLETADO\")","v":"<<<<>>>>NO COMPLETADO"},543]
[{"$f":"+SOCIOS!A247","v":"VII.A"},{"$f":"+SOCIOS!B247","v":0},{"$f":"+SOCIOS!C247","v":0},"CUIT/CUIL –sin puntos ni barras-:",{"$f":"IF(SOCIOS!E247>0,SOCIOS!E247,\"<<<<>>>>NO COMPLETADO\")","v":"<<<<>>>>NO COMPLETADO"},544]
[{"$f":"+SOCIOS!A248","v":"VII.A"},{"$f":"+SOCIOS!B248","v":0},{"$f":"+SOCIOS!C248","v":0},"FECHA DE NACIMIENTO –dd/mm/aa-:",{"$f":"IF(SOCIOS!E248>0,SOCIOS!E248,\"<<<<>>>>NO COMPLETADO\")","v":"<<<<>>>>NO COMPLETADO"},545]
[{"$f":"+SOCIOS!A249","v":"VII.A"},{"$f":"+SOCIOS!B249","v":0},{"$f":"+SOCIOS!C249","v":0},"LUGAR DE NACIMIENTO:",{"$f":"IF(SOCIOS!E249>0,SOCIOS!E249,\"<<<<>>>>NO COMPLETADO\")","v":"<<<<>>>>NO COMPLETADO"},546]
[{"$f":"+SOCIOS!A250","v":"VII.A"},{"$f":"+SOCIOS!B250","v":0},{"$f":"+SOCIOS!C250","v":0},"NACIONALIDAD:",{"$f":"IF(SOCIOS!E250>0,SOCIOS!E250,\"<<<<>>>>NO COMPLETADO\")","v":"<<<<>>>>NO COMPLETADO"},547]
[{"$f":"+SOCIOS!A251","v":"VII.A"},{"$f":"+SOCIOS!B251","v":0},{"$f":"+SOCIOS!C251","v":0},"PROFESIÓN:",{"$f":"IF(SOCIOS!E251>0,SOCIOS!E251,\"<<<<>>>>NO COMPLETADO\")","v":"<<<<>>>>NO COMPLETADO"},548]
[{"$f":"+SOCIOS!A252","v":"VII.A"},{"$f":"+SOCIOS!B252","v":0},{"$f":"+SOCIOS!C252","v":0},"DOMICILIO REAL:",{"$f":"IF(SOCIOS!E252>0,SOCIOS!E252,\"<<<<>>>>NO COMPLETADO\")","v":"<<<<>>>>NO COMPLETADO"},549]
[{"$f":"+SOCIOS!A253","v":"VII.A"},{"$f":"+SOCIOS!B253","v":0},{"$f":"+SOCIOS!C253","v":0},"CEL/TEL –sin puntos ni barras-:",{"$f":"IF(SOCIOS!E253>0,SOCIOS!E253,\"<<<<>>>>NO COMPLETADO\")","v":"<<<<>>>>NO COMPLETADO"},550]
[{"$f":"+SOCIOS!A254","v":"VII.A"},{"$f":"+SOCIOS!B254","v":0},{"$f":"+SOCIOS!C254","v":0},"EMAIL:",{"$f":"IF(SOCIOS!E254>0,SOCIOS!E254,\"<<<<>>>>NO COMPLETADO\")","v":"<<<<>>>>NO COMPLETADO"},551]
[{"$f":"+SOCIOS!A255","v":"VII.A"},{"$f":"+SOCIOS!B255","v":0},{"$f":"+SOCIOS!C255","v":0},"ESTADO CIVIL:",{"$f":"IF(SOCIOS!E255>0,SOCIOS!E255,\"<<<<>>>>NO COMPLETADO\")","v":"<<<<>>>>NO COMPLETADO"},552]
[{"$f":"+SOCIOS!A256","v":"VII.A"},{"$f":"+SOCIOS!B256","v":0},{"$f":"+SOCIOS!C256","v":0},"APELLIDO/S CÓNYUGE:",{"$f":"IF(SOCIOS!E256>0,SOCIOS!E256,\"<<<<>>>>NO COMPLETADO\")","v":"<<<<>>>>NO COMPLETADO"},553]
[{"$f":"+SOCIOS!A257","v":"VII.A"},{"$f":"+SOCIOS!B257","v":0},{"$f":"+SOCIOS!C257","v":0},"NOMBRE/S CÓNYUGE",{"$f":"IF(SOCIOS!E257>0,SOCIOS!E257,\"<<<<>>>>NO COMPLETADO\")","v":"<<<<>>>>NO COMPLETADO"},554]
[{"$f":"+SOCIOS!A258","v":"VII.A"},{"$f":"+SOCIOS!B258","v":0},{"$f":"+SOCIOS!C258","v":0},"DOC. IDENTIDAD (cónyuge) –sin puntos ni barras-: ",{"$f":"IF(SOCIOS!E258>0,SOCIOS!E258,\"<<<<>>>>NO COMPLETADO\")","v":"<<<<>>>>NO COMPLETADO"},555]
[{"$f":"+SOCIOS!A269","v":"VII.A"},{"$f":"+SOCIOS!B269","v":0},{"$f":"+SOCIOS!C269","v":0},"DOC. IDENTIDAD –sin puntos-: ……………………",{"$f":"IF(SOCIOS!E269>0,SOCIOS!E269,\"<<<<>>>>NO COMPLETADO\")","v":"<<<<>>>>NO COMPLETADO"},556]
[{"$f":"+SOCIOS!A270","v":"VII.A"},{"$f":"+SOCIOS!B270","v":0},{"$f":"+SOCIOS!C270","v":0},"CUIT/CUIL –sin puntos ni barras-:",{"$f":"IF(SOCIOS!E270>0,SOCIOS!E270,\"<<<<>>>>NO COMPLETADO\")","v":"<<<<>>>>NO COMPLETADO"},557]
[{"$f":"+SOCIOS!A271","v":"VII.A"},{"$f":"+SOCIOS!B271","v":0},{"$f":"+SOCIOS!C271","v":0},"FECHA DE NACIMIENTO –dd/mm/aa-:",{"$f":"IF(SOCIOS!E271>0,SOCIOS!E271,\"<<<<>>>>NO COMPLETADO\")","v":"<<<<>>>>NO COMPLETADO"},558]
[{"$f":"+SOCIOS!A272","v":"VII.A"},{"$f":"+SOCIOS!B272","v":0},{"$f":"+SOCIOS!C272","v":0},"LUGAR DE NACIMIENTO:",{"$f":"IF(SOCIOS!E272>0,SOCIOS!E272,\"<<<<>>>>NO COMPLETADO\")","v":"<<<<>>>>NO COMPLETADO"},559]
[{"$f":"+SOCIOS!A273","v":"VII.A"},{"$f":"+SOCIOS!B273","v":0},{"$f":"+SOCIOS!C273","v":0},"NACIONALIDAD:",{"$f":"IF(SOCIOS!E273>0,SOCIOS!E273,\"<<<<>>>>NO COMPLETADO\")","v":"<<<<>>>>NO COMPLETADO"},560]
[{"$f":"+SOCIOS!A274","v":"VII.A"},{"$f":"+SOCIOS!B274","v":0},{"$f":"+SOCIOS!C274","v":0},"PROFESIÓN:",{"$f":"IF(SOCIOS!E274>0,SOCIOS!E274,\"<<<<>>>>NO COMPLETADO\")","v":"<<<<>>>>NO COMPLETADO"},561]
[{"$f":"+SOCIOS!A275","v":"VII.A"},{"$f":"+SOCIOS!B275","v":0},{"$f":"+SOCIOS!C275","v":0},"DOMICILIO REAL:",{"$f":"IF(SOCIOS!E275>0,SOCIOS!E275,\"<<<<>>>>NO COMPLETADO\")","v":"<<<<>>>>NO COMPLETADO"},562]
[{"$f":"+SOCIOS!A276","v":"VII.A"},{"$f":"+SOCIOS!B276","v":0},{"$f":"+SOCIOS!C276","v":0},"CEL/TEL –sin puntos ni barras-:",{"$f":"IF(SOCIOS!E276>0,SOCIOS!E276,\"<<<<>>>>NO COMPLETADO\")","v":"<<<<>>>>NO COMPLETADO"},563]
[{"$f":"+SOCIOS!A277","v":"VII.A"},{"$f":"+SOCIOS!B277","v":0},{"$f":"+SOCIOS!C277","v":0},"EMAIL:",{"$f":"IF(SOCIOS!E277>0,SOCIOS!E277,\"<<<<>>>>NO COMPLETADO\")","v":"<<<<>>>>NO COMPLETADO"},564]
[{"$f":"+SOCIOS!A278","v":"VII.A"},{"$f":"+SOCIOS!B278","v":0},{"$f":"+SOCIOS!C278","v":0},"ESTADO CIVIL:",{"$f":"IF(SOCIOS!E278>0,SOCIOS!E278,\"<<<<>>>>NO COMPLETADO\")","v":"<<<<>>>>NO COMPLETADO"},565]
[{"$f":"+SOCIOS!A279","v":"VII.A"},{"$f":"+SOCIOS!B279","v":0},{"$f":"+SOCIOS!C279","v":0},"APELLIDO/S CÓNYUGE:",{"$f":"IF(SOCIOS!E279>0,SOCIOS!E279,\"<<<<>>>>NO COMPLETADO\")","v":"<<<<>>>>NO COMPLETADO"},566]
[{"$f":"+SOCIOS!A280","v":"VII.A"},{"$f":"+SOCIOS!B280","v":0},{"$f":"+SOCIOS!C280","v":0},"NOMBRE/S CÓNYUGE",{"$f":"IF(SOCIOS!E280>0,SOCIOS!E280,\"<<<<>>>>NO COMPLETADO\")","v":"<<<<>>>>NO COMPLETADO"},567]
[{"$f":"+SOCIOS!A281","v":"VII.A"},{"$f":"+SOCIOS!B281","v":0},{"$f":"+SOCIOS!C281","v":0},"DOC. IDENTIDAD (cónyuge) –sin puntos ni barras-: ",{"$f":"IF(SOCIOS!E281>0,SOCIOS!E281,\"<<<<>>>>NO COMPLETADO\")","v":"<<<<>>>>NO COMPLETADO"},568]
[{"$f":"+SOCIOS!A292","v":"VII.A"},{"$f":"+SOCIOS!B292","v":0},{"$f":"+SOCIOS!C292","v":0},"DOC. IDENTIDAD –sin puntos-: ……………………",{"$f":"IF(SOCIOS!E292>0,SOCIOS!E292,\"<<<<>>>>NO COMPLETADO\")","v":"<<<<>>>>NO COMPLETADO"},569]
[{"$f":"+SOCIOS!A293","v":"VII.A"},{"$f":"+SOCIOS!B293","v":0},{"$f":"+SOCIOS!C293","v":0},"CUIT/CUIL –sin puntos ni barras-:",{"$f":"IF(SOCIOS!E293>0,SOCIOS!E293,\"<<<<>>>>NO COMPLETADO\")","v":"<<<<>>>>NO COMPLETADO"},570]
[{"$f":"+SOCIOS!A294","v":"VII.A"},{"$f":"+SOCIOS!B294","v":0},{"$f":"+SOCIOS!C294","v":0},"FECHA DE NACIMIENTO –dd/mm/aa-:",{"$f":"IF(SOCIOS!E294>0,SOCIOS!E294,\"<<<<>>>>NO COMPLETADO\")","v":"<<<<>>>>NO COMPLETADO"},571]
[{"$f":"+SOCIOS!A295","v":"VII.A"},{"$f":"+SOCIOS!B295","v":0},{"$f":"+SOCIOS!C295","v":0},"LUGAR DE NACIMIENTO:",{"$f":"IF(SOCIOS!E295>0,SOCIOS!E295,\"<<<<>>>>NO COMPLETADO\")","v":"<<<<>>>>NO COMPLETADO"},572]
[{"$f":"+SOCIOS!A296","v":"VII.A"},{"$f":"+SOCIOS!B296","v":0},{"$f":"+SOCIOS!C296","v":0},"NACIONALIDAD:",{"$f":"IF(SOCIOS!E296>0,SOCIOS!E296,\"<<<<>>>>NO COMPLETADO\")","v":"<<<<>>>>NO COMPLETADO"},573]
[{"$f":"+SOCIOS!A297","v":"VII.A"},{"$f":"+SOCIOS!B297","v":0},{"$f":"+SOCIOS!C297","v":0},"PROFESIÓN:",{"$f":"IF(SOCIOS!E297>0,SOCIOS!E297,\"<<<<>>>>NO COMPLETADO\")","v":"<<<<>>>>NO COMPLETADO"},574]
[{"$f":"+SOCIOS!A298","v":"VII.A"},{"$f":"+SOCIOS!B298","v":0},{"$f":"+SOCIOS!C298","v":0},"DOMICILIO REAL:",{"$f":"IF(SOCIOS!E298>0,SOCIOS!E298,\"<<<<>>>>NO COMPLETADO\")","v":"<<<<>>>>NO COMPLETADO"},575]
[{"$f":"+SOCIOS!A299","v":"VII.A"},{"$f":"+SOCIOS!B299","v":0},{"$f":"+SOCIOS!C299","v":0},"CEL/TEL –sin puntos ni barras-:",{"$f":"IF(SOCIOS!E299>0,SOCIOS!E299,\"<<<<>>>>NO COMPLETADO\")","v":"<<<<>>>>NO COMPLETADO"},576]
[{"$f":"+SOCIOS!A300","v":"VII.A"},{"$f":"+SOCIOS!B300","v":0},{"$f":"+SOCIOS!C300","v":0},"EMAIL:",{"$f":"IF(SOCIOS!E300>0,SOCIOS!E300,\"<<<<>>>>NO COMPLETADO\")","v":"<<<<>>>>NO COMPLETADO"},577]
[{"$f":"+SOCIOS!A301","v":"VII.A"},{"$f":"+SOCIOS!B301","v":0},{"$f":"+SOCIOS!C301","v":0},"ESTADO CIVIL:",{"$f":"IF(SOCIOS!E301>0,SOCIOS!E301,\"<<<<>>>>NO COMPLETADO\")","v":"<<<<>>>>NO COMPLETADO"},578]
[{"$f":"+SOCIOS!A302","v":"VII.A"},{"$f":"+SOCIOS!B302","v":0},{"$f":"+SOCIOS!C302","v":0},"APELLIDO/S CÓNYUGE:",{"$f":"IF(SOCIOS!E302>0,SOCIOS!E302,\"<<<<>>>>NO COMPLETADO\")","v":"<<<<>>>>NO COMPLETADO"},579]
[{"$f":"+SOCIOS!A303","v":"VII.A"},{"$f":"+SOCIOS!B303","v":0},{"$f":"+SOCIOS!C303","v":0},"NOMBRE/S CÓNYUGE",{"$f":"IF(SOCIOS!E303>0,SOCIOS!E303,\"<<<<>>>>NO COMPLETADO\")","v":"<<<<>>>>NO COMPLETADO"},580]
[{"$f":"+SOCIOS!A304","v":"VII.A"},{"$f":"+SOCIOS!B304","v":0},{"$f":"+SOCIOS!C304","v":0},"DOC. IDENTIDAD (cónyuge) –sin puntos ni barras-: ",{"$f":"IF(SOCIOS!E304>0,SOCIOS!E304,\"<<<<>>>>NO COMPLETADO\")","v":"<<<<>>>>NO COMPLETADO"},581]
[{"$f":"+SOCIOS!A315","v":"VII.A"},{"$f":"+SOCIOS!B315","v":0},{"$f":"+SOCIOS!C315","v":0},"DOC. IDENTIDAD –sin puntos-: ……………………",{"$f":"IF(SOCIOS!E315>0,SOCIOS!E315,\"<<<<>>>>NO COMPLETADO\")","v":"<<<<>>>>NO COMPLETADO"},582]
[{"$f":"+SOCIOS!A316","v":"VII.A"},{"$f":"+SOCIOS!B316","v":0},{"$f":"+SOCIOS!C316","v":0},"CUIT/CUIL –sin puntos ni barras-:",{"$f":"IF(SOCIOS!E316>0,SOCIOS!E316,\"<<<<>>>>NO COMPLETADO\")","v":"<<<<>>>>NO COMPLETADO"},583]
[{"$f":"+SOCIOS!A317","v":"VII.A"},{"$f":"+SOCIOS!B317","v":0},{"$f":"+SOCIOS!C317","v":0},"FECHA DE NACIMIENTO –dd/mm/aa-:",{"$f":"IF(SOCIOS!E317>0,SOCIOS!E317,\"<<<<>>>>NO COMPLETADO\")","v":"<<<<>>>>NO COMPLETADO"},584]
[{"$f":"+SOCIOS!A318","v":"VII.A"},{"$f":"+SOCIOS!B318","v":0},{"$f":"+SOCIOS!C318","v":0},"LUGAR DE NACIMIENTO:",{"$f":"IF(SOCIOS!E318>0,SOCIOS!E318,\"<<<<>>>>NO COMPLETADO\")","v":"<<<<>>>>NO COMPLETADO"},585]
[{"$f":"+SOCIOS!A319","v":"VII.A"},{"$f":"+SOCIOS!B319","v":0},{"$f":"+SOCIOS!C319","v":0},"NACIONALIDAD:",{"$f":"IF(SOCIOS!E319>0,SOCIOS!E319,\"<<<<>>>>NO COMPLETADO\")","v":"<<<<>>>>NO COMPLETADO"},586]
[{"$f":"+SOCIOS!A320","v":"VII.A"},{"$f":"+SOCIOS!B320","v":0},{"$f":"+SOCIOS!C320","v":0},"PROFESIÓN:",{"$f":"IF(SOCIOS!E320>0,SOCIOS!E320,\"<<<<>>>>NO COMPLETADO\")","v":"<<<<>>>>NO COMPLETADO"},587]
[{"$f":"+SOCIOS!A321","v":"VII.A"},{"$f":"+SOCIOS!B321","v":0},{"$f":"+SOCIOS!C321","v":0},"DOMICILIO REAL:",{"$f":"IF(SOCIOS!E321>0,SOCIOS!E321,\"<<<<>>>>NO COMPLETADO\")","v":"<<<<>>>>NO COMPLETADO"},588]
[{"$f":"+SOCIOS!A322","v":"VII.A"},{"$f":"+SOCIOS!B322","v":0},{"$f":"+SOCIOS!C322","v":0},"CEL/TEL –sin puntos ni barras-:",{"$f":"IF(SOCIOS!E322>0,SOCIOS!E322,\"<<<<>>>>NO COMPLETADO\")","v":"<<<<>>>>NO COMPLETADO"},589]
[{"$f":"+SOCIOS!A323","v":"VII.A"},{"$f":"+SOCIOS!B323","v":0},{"$f":"+SOCIOS!C323","v":0},"EMAIL:",{"$f":"IF(SOCIOS!E323>0,SOCIOS!E323,\"<<<<>>>>NO COMPLETADO\")","v":"<<<<>>>>NO COMPLETADO"},590]
[{"$f":"+SOCIOS!A324","v":"VII.A"},{"$f":"+SOCIOS!B324","v":0},{"$f":"+SOCIOS!C324","v":0},"ESTADO CIVIL:",{"$f":"IF(SOCIOS!E324>0,SOCIOS!E324,\"<<<<>>>>NO COMPLETADO\")","v":"<<<<>>>>NO COMPLETADO"},591]
[{"$f":"+SOCIOS!A325","v":"VII.A"},{"$f":"+SOCIOS!B325","v":0},{"$f":"+SOCIOS!C325","v":0},"APELLIDO/S CÓNYUGE:",{"$f":"IF(SOCIOS!E325>0,SOCIOS!E325,\"<<<<>>>>NO COMPLETADO\")","v":"<<<<>>>>NO COMPLETADO"},592]
[{"$f":"+SOCIOS!A326","v":"VII.A"},{"$f":"+SOCIOS!B326","v":0},{"$f":"+SOCIOS!C326","v":0},"NOMBRE/S CÓNYUGE",{"$f":"IF(SOCIOS!E326>0,SOCIOS!E326,\"<<<<>>>>NO COMPLETADO\")","v":"<<<<>>>>NO COMPLETADO"},593]
[{"$f":"+SOCIOS!A327","v":"VII.A"},{"$f":"+SOCIOS!B327","v":0},{"$f":"+SOCIOS!C327","v":0},"DOC. IDENTIDAD (cónyuge) –sin puntos ni barras-: ",{"$f":"IF(SOCIOS!E327>0,SOCIOS!E327,\"<<<<>>>>NO COMPLETADO\")","v":"<<<<>>>>NO COMPLETADO"},594]
[{"$f":"+SOCIOS!G16","v":"VII.B"},{"$f":"+SOCIOS!H16","v":0},{"$f":"+SOCIOS!H16","v":0},"CUIT –sin puntos ni barras-:",{"$f":"IF(SOCIOS!J16,SOCIOS!J16,\"<<<<>>>>NO COMPLETADO\")","v":"<<<<>>>>NO COMPLETADO"},595]
[{"$f":"+SOCIOS!G17","v":"VII.B"},{"$f":"+SOCIOS!H17","v":0},{"$f":"+SOCIOS!H17","v":0},"TIPO DE PERSONA JCA -sociedad, asociación, mutual, etc-:",{"$f":"IF(SOCIOS!J17,SOCIOS!J17,\"<<<<>>>>NO COMPLETADO\")","v":"<<<<>>>>NO COMPLETADO"},596]
[{"$f":"+SOCIOS!G18","v":"VII.B"},{"$f":"+SOCIOS!H18","v":0},{"$f":"+SOCIOS!H18","v":0},"ORGANISMO /s DONDE SE INSCRIBIÓ CONSTITUCIÓN:",{"$f":"IF(SOCIOS!J18,SOCIOS!J18,\"<<<<>>>>NO COMPLETADO\")","v":"<<<<>>>>NO COMPLETADO"},597]
[{"$f":"+SOCIOS!G19","v":"VII.B"},{"$f":"+SOCIOS!H19","v":0},{"$f":"+SOCIOS!H19","v":0},"DATOS DE RESOLUCIÓN/OTROS INSCRIPCIÓN:",{"$f":"IF(SOCIOS!J19,SOCIOS!J19,\"<<<<>>>>NO COMPLETADO\")","v":"<<<<>>>>NO COMPLETADO"},598]
[{"$f":"+SOCIOS!G20","v":"VII.B"},{"$f":"+SOCIOS!H20","v":0},{"$f":"+SOCIOS!H20","v":0},"FECHA DE INSCRIPCIÓN:",{"$f":"IF(SOCIOS!J20,SOCIOS!J20,\"<<<<>>>>NO COMPLETADO\")","v":"<<<<>>>>NO COMPLETADO"},599]
[{"$f":"+SOCIOS!G21","v":"VII.B"},{"$f":"+SOCIOS!H21","v":0},{"$f":"+SOCIOS!H21","v":0},"LUGAR DE INSCRIPCIÓN:",{"$f":"IF(SOCIOS!J21,SOCIOS!J21,\"<<<<>>>>NO COMPLETADO\")","v":"<<<<>>>>NO COMPLETADO"},600]
[{"$f":"+SOCIOS!G22","v":"VII.B"},{"$f":"+SOCIOS!H22","v":0},{"$f":"+SOCIOS!H22","v":0},"DOMICILIOS SOCIAL:",{"$f":"IF(SOCIOS!J22,SOCIOS!J22,\"<<<<>>>>NO COMPLETADO\")","v":"<<<<>>>>NO COMPLETADO"},601]
[{"$f":"+SOCIOS!G23","v":"VII.B"},{"$f":"+SOCIOS!H23","v":0},{"$f":"+SOCIOS!H23","v":0},"SEDE SOCIAL:",{"$f":"IF(SOCIOS!J23,SOCIOS!J23,\"<<<<>>>>NO COMPLETADO\")","v":"<<<<>>>>NO COMPLETADO"},602]
[{"$f":"+SOCIOS!G24","v":"VII.B"},{"$f":"+SOCIOS!H24","v":0},{"$f":"+SOCIOS!H24","v":0},"TEL/CEL –sin puntos ni barras-:",{"$f":"IF(SOCIOS!J24,SOCIOS!J24,\"<<<<>>>>NO COMPLETADO\")","v":"<<<<>>>>NO COMPLETADO"},603]
[{"$f":"+SOCIOS!G25","v":"VII.B"},{"$f":"+SOCIOS!H25","v":0},{"$f":"+SOCIOS!H25","v":0},"EMAIL:",{"$f":"IF(SOCIOS!J25,SOCIOS!J25,\"<<<<>>>>NO COMPLETADO\")","v":"<<<<>>>>NO COMPLETADO"},604]
[{"$f":"+SOCIOS!G26","v":"III.Q"},{"$f":"+SOCIOS!H26","v":0},{"$f":"+SOCIOS!H26","v":0},"NROS DE ACCIONES/CUOTAS TITULAR:",{"$f":"IF(SOCIOS!J26,SOCIOS!J26,\"<<<<>>>>NO COMPLETADO\")","v":"<<<<>>>>NO COMPLETADO"},605]
[{"$f":"+SOCIOS!G27","v":"III.%"},{"$f":"+SOCIOS!H27","v":0},{"$f":"+SOCIOS!H27","v":0},"PARTICIPACIÓN S/CAPITAL (%):",{"$f":"IF(SOCIOS!J27,SOCIOS!J27,\"<<<<>>>>NO COMPLETADO\")","v":"<<<<>>>>NO COMPLETADO"},606]
[{"$f":"+SOCIOS!G28","v":"III.CS"},{"$f":"+SOCIOS!H28","v":0},{"$f":"+SOCIOS!H28","v":0},"CAPITAL SUSCRIPTO:",{"$f":"IF(SOCIOS!J28,SOCIOS!J28,\"<<<<>>>>NO COMPLETADO\")","v":"<<<<>>>>NO COMPLETADO"},607]
[{"$f":"+SOCIOS!G29","v":"III.CI"},{"$f":"+SOCIOS!H29","v":0},{"$f":"+SOCIOS!H29","v":0},"CAPITAL INTEGRADO:",{"$f":"IF(SOCIOS!J29,SOCIOS!J29,\"<<<<>>>>NO COMPLETADO\")","v":"<<<<>>>>NO COMPLETADO"},608]
[{"$f":"+SOCIOS!G30","v":"III"},{"$f":"+SOCIOS!H30","v":0},{"$f":"+SOCIOS!H30","v":0},"¿SOCIO/ACC. FUNDADOR? -SI/NO-:",{"$f":"IF(SOCIOS!J30,SOCIOS!J30,\"<<<<>>>>NO COMPLETADO\")","v":"<<<<>>>>NO COMPLETADO"},609]
[{"$f":"+SOCIOS!G31","v":"III"},{"$f":"+SOCIOS!H31","v":0},{"$f":"+SOCIOS!H31","v":0},"NOMBRE/S Y APLELLIDO/S DE QUIEN/ES ES CESIONARIO:",{"$f":"IF(SOCIOS!J31,SOCIOS!J31,\"<<<<>>>>NO COMPLETADO\")","v":"<<<<>>>>NO COMPLETADO"},610]
[{"$f":"+SOCIOS!G32","v":"VII.B"},{"$f":"+SOCIOS!H32","v":0},{"$f":"+SOCIOS!H32","v":0},"NOTA/OBSERVACIÓN.",{"$f":"IF(SOCIOS!J32,SOCIOS!J32,\"<<<<>>>>NO COMPLETADO\")","v":"<<<<>>>>NO COMPLETADO"},611]
[{"$f":"+SOCIOS!G33","v":"VII.B"},{"$f":"+SOCIOS!H33","v":0},{"$f":"+SOCIOS!H33","v":0},"CUIT –sin puntos ni barras-:",{"$f":"IF(SOCIOS!J33,SOCIOS!J33,\"<<<<>>>>NO COMPLETADO\")","v":"<<<<>>>>NO COMPLETADO"},612]
[{"$f":"+SOCIOS!G34","v":"VII.B"},{"$f":"+SOCIOS!H34","v":0},{"$f":"+SOCIOS!H34","v":0},"TIPO DE PERSONA JCA -sociedad, asociación, mutual, etc-:",{"$f":"IF(SOCIOS!J34,SOCIOS!J34,\"<<<<>>>>NO COMPLETADO\")","v":"<<<<>>>>NO COMPLETADO"},613]
[{"$f":"+SOCIOS!G35","v":"VII.B"},{"$f":"+SOCIOS!H35","v":0},{"$f":"+SOCIOS!H35","v":0},"ORGANISMO /s DONDE SE INSCRIBIÓ CONSTITUCIÓN:",{"$f":"IF(SOCIOS!J35,SOCIOS!J35,\"<<<<>>>>NO COMPLETADO\")","v":"<<<<>>>>NO COMPLETADO"},614]
[{"$f":"+SOCIOS!G36","v":"VII.B"},{"$f":"+SOCIOS!H36","v":0},{"$f":"+SOCIOS!H36","v":0},"DATOS DE RESOLUCIÓN/OTROS INSCRIPCIÓN:",{"$f":"IF(SOCIOS!J36,SOCIOS!J36,\"<<<<>>>>NO COMPLETADO\")","v":"<<<<>>>>NO COMPLETADO"},615]
[{"$f":"+SOCIOS!G37","v":"VII.B"},{"$f":"+SOCIOS!H37","v":0},{"$f":"+SOCIOS!H37","v":0},"FECHA DE INSCRIPCIÓN:",{"$f":"IF(SOCIOS!J37,SOCIOS!J37,\"<<<<>>>>NO COMPLETADO\")","v":"<<<<>>>>NO COMPLETADO"},616]
[{"$f":"+SOCIOS!G38","v":"VII.B"},{"$f":"+SOCIOS!H38","v":0},{"$f":"+SOCIOS!H38","v":0},"LUGAR DE INSCRIPCIÓN:",{"$f":"IF(SOCIOS!J38,SOCIOS!J38,\"<<<<>>>>NO COMPLETADO\")","v":"<<<<>>>>NO COMPLETADO"},617]
[{"$f":"+SOCIOS!G39","v":"VII.B"},{"$f":"+SOCIOS!H39","v":0},{"$f":"+SOCIOS!H39","v":0},"DOMICILIOS SOCIAL:",{"$f":"IF(SOCIOS!J39,SOCIOS!J39,\"<<<<>>>>NO COMPLETADO\")","v":"<<<<>>>>NO COMPLETADO"},618]
[{"$f":"+SOCIOS!G40","v":"VII.B"},{"$f":"+SOCIOS!H40","v":0},{"$f":"+SOCIOS!H40","v":0},"SEDE SOCIAL:",{"$f":"IF(SOCIOS!J40,SOCIOS!J40,\"<<<<>>>>NO COMPLETADO\")","v":"<<<<>>>>NO COMPLETADO"},619]
[{"$f":"+SOCIOS!G41","v":"VII.B"},{"$f":"+SOCIOS!H41","v":0},{"$f":"+SOCIOS!H41","v":0},"TEL/CEL –sin puntos ni barras-:",{"$f":"IF(SOCIOS!J41,SOCIOS!J41,\"<<<<>>>>NO COMPLETADO\")","v":"<<<<>>>>NO COMPLETADO"},620]
[{"$f":"+SOCIOS!G42","v":"VII.B"},{"$f":"+SOCIOS!H42","v":0},{"$f":"+SOCIOS!H42","v":0},"EMAIL:",{"$f":"IF(SOCIOS!J42,SOCIOS!J42,\"<<<<>>>>NO COMPLETADO\")","v":"<<<<>>>>NO COMPLETADO"},621]
[{"$f":"+SOCIOS!G43","v":"III.Q"},{"$f":"+SOCIOS!H43","v":0},{"$f":"+SOCIOS!H43","v":0},"NROS DE ACCIONES/CUOTAS TITULAR:",{"$f":"IF(SOCIOS!J43,SOCIOS!J43,\"<<<<>>>>NO COMPLETADO\")","v":"<<<<>>>>NO COMPLETADO"},622]
[{"$f":"+SOCIOS!G44","v":"III.%"},{"$f":"+SOCIOS!H44","v":0},{"$f":"+SOCIOS!H44","v":0},"PARTICIPACIÓN S/CAPITAL (%):",{"$f":"IF(SOCIOS!J44,SOCIOS!J44,\"<<<<>>>>NO COMPLETADO\")","v":"<<<<>>>>NO COMPLETADO"},623]
[{"$f":"+SOCIOS!G45","v":"III.CS"},{"$f":"+SOCIOS!H45","v":0},{"$f":"+SOCIOS!H45","v":0},"CAPITAL SUSCRIPTO:",{"$f":"IF(SOCIOS!J45,SOCIOS!J45,\"<<<<>>>>NO COMPLETADO\")","v":"<<<<>>>>NO COMPLETADO"},624]
[{"$f":"+SOCIOS!G46","v":"III.CI"},{"$f":"+SOCIOS!H46","v":0},{"$f":"+SOCIOS!H46","v":0},"CAPITAL INTEGRADO:",{"$f":"IF(SOCIOS!J46,SOCIOS!J46,\"<<<<>>>>NO COMPLETADO\")","v":"<<<<>>>>NO COMPLETADO"},625]
[{"$f":"+SOCIOS!G47","v":"III"},{"$f":"+SOCIOS!H47","v":0},{"$f":"+SOCIOS!H47","v":0},"¿SOCIO/ACC. FUNDADOR? -SI/NO-:",{"$f":"IF(SOCIOS!J47,SOCIOS!J47,\"<<<<>>>>NO COMPLETADO\")","v":"<<<<>>>>NO COMPLETADO"},626]
[{"$f":"+SOCIOS!G48","v":"III"},{"$f":"+SOCIOS!H48","v":0},{"$f":"+SOCIOS!H48","v":0},"NOMBRE/S Y APLELLIDO/S DE QUIEN/ES ES CESIONARIO:",{"$f":"IF(SOCIOS!J48,SOCIOS!J48,\"<<<<>>>>NO COMPLETADO\")","v":"<<<<>>>>NO COMPLETADO"},627]
[{"$f":"+SOCIOS!G49","v":"VII.B"},{"$f":"+SOCIOS!H49","v":0},{"$f":"+SOCIOS!H49","v":0},"NOTA/OBSERVACIÓN.",{"$f":"IF(SOCIOS!J49,SOCIOS!J49,\"<<<<>>>>NO COMPLETADO\")","v":"<<<<>>>>NO COMPLETADO"},628]
[{"$f":"+SOCIOS!G50","v":"VII.B"},{"$f":"+SOCIOS!H50","v":0},{"$f":"+SOCIOS!H50","v":0},"CUIT –sin puntos ni barras-:",{"$f":"IF(SOCIOS!J50,SOCIOS!J50,\"<<<<>>>>NO COMPLETADO\")","v":"<<<<>>>>NO COMPLETADO"},629]
[{"$f":"+SOCIOS!G51","v":"VII.B"},{"$f":"+SOCIOS!H51","v":0},{"$f":"+SOCIOS!H51","v":0},"TIPO DE PERSONA JCA -sociedad, asociación, mutual, etc-:",{"$f":"IF(SOCIOS!J51,SOCIOS!J51,\"<<<<>>>>NO COMPLETADO\")","v":"<<<<>>>>NO COMPLETADO"},630]
[{"$f":"+SOCIOS!G52","v":"VII.B"},{"$f":"+SOCIOS!H52","v":0},{"$f":"+SOCIOS!H52","v":0},"ORGANISMO /s DONDE SE INSCRIBIÓ CONSTITUCIÓN:",{"$f":"IF(SOCIOS!J52,SOCIOS!J52,\"<<<<>>>>NO COMPLETADO\")","v":"<<<<>>>>NO COMPLETADO"},631]
[{"$f":"+SOCIOS!G53","v":"VII.B"},{"$f":"+SOCIOS!H53","v":0},{"$f":"+SOCIOS!H53","v":0},"DATOS DE RESOLUCIÓN/OTROS INSCRIPCIÓN:",{"$f":"IF(SOCIOS!J53,SOCIOS!J53,\"<<<<>>>>NO COMPLETADO\")","v":"<<<<>>>>NO COMPLETADO"},632]
[{"$f":"+SOCIOS!G54","v":"VII.B"},{"$f":"+SOCIOS!H54","v":0},{"$f":"+SOCIOS!H54","v":0},"FECHA DE INSCRIPCIÓN:",{"$f":"IF(SOCIOS!J54,SOCIOS!J54,\"<<<<>>>>NO COMPLETADO\")","v":"<<<<>>>>NO COMPLETADO"},633]
[{"$f":"+SOCIOS!G55","v":"VII.B"},{"$f":"+SOCIOS!H55","v":0},{"$f":"+SOCIOS!H55","v":0},"LUGAR DE INSCRIPCIÓN:",{"$f":"IF(SOCIOS!J55,SOCIOS!J55,\"<<<<>>>>NO COMPLETADO\")","v":"<<<<>>>>NO COMPLETADO"},634]
[{"$f":"+SOCIOS!G56","v":"VII.B"},{"$f":"+SOCIOS!H56","v":0},{"$f":"+SOCIOS!H56","v":0},"DOMICILIOS SOCIAL:",{"$f":"IF(SOCIOS!J56,SOCIOS!J56,\"<<<<>>>>NO COMPLETADO\")","v":"<<<<>>>>NO COMPLETADO"},635]
[{"$f":"+SOCIOS!G57","v":"VII.B"},{"$f":"+SOCIOS!H57","v":0},{"$f":"+SOCIOS!H57","v":0},"SEDE SOCIAL:",{"$f":"IF(SOCIOS!J57,SOCIOS!J57,\"<<<<>>>>NO COMPLETADO\")","v":"<<<<>>>>NO COMPLETADO"},636]
[{"$f":"+SOCIOS!G58","v":"VII.B"},{"$f":"+SOCIOS!H58","v":0},{"$f":"+SOCIOS!H58","v":0},"TEL/CEL –sin puntos ni barras-:",{"$f":"IF(SOCIOS!J58,SOCIOS!J58,\"<<<<>>>>NO COMPLETADO\")","v":"<<<<>>>>NO COMPLETADO"},637]
[{"$f":"+SOCIOS!G59","v":"VII.B"},{"$f":"+SOCIOS!H59","v":0},{"$f":"+SOCIOS!H59","v":0},"EMAIL:",{"$f":"IF(SOCIOS!J59,SOCIOS!J59,\"<<<<>>>>NO COMPLETADO\")","v":"<<<<>>>>NO COMPLETADO"},638]
[{"$f":"+SOCIOS!G60","v":"III.Q"},{"$f":"+SOCIOS!H60","v":0},{"$f":"+SOCIOS!H60","v":0},"NROS DE ACCIONES/CUOTAS TITULAR:",{"$f":"IF(SOCIOS!J60,SOCIOS!J60,\"<<<<>>>>NO COMPLETADO\")","v":"<<<<>>>>NO COMPLETADO"},639]
[{"$f":"+SOCIOS!G61","v":"III.%"},{"$f":"+SOCIOS!H61","v":0},{"$f":"+SOCIOS!H61","v":0},"PARTICIPACIÓN S/CAPITAL (%):",{"$f":"IF(SOCIOS!J61,SOCIOS!J61,\"<<<<>>>>NO COMPLETADO\")","v":"<<<<>>>>NO COMPLETADO"},640]
[{"$f":"+SOCIOS!G62","v":"III.CS"},{"$f":"+SOCIOS!H62","v":0},{"$f":"+SOCIOS!H62","v":0},"CAPITAL SUSCRIPTO:",{"$f":"IF(SOCIOS!J62,SOCIOS!J62,\"<<<<>>>>NO COMPLETADO\")","v":"<<<<>>>>NO COMPLETADO"},641]
[{"$f":"+SOCIOS!G63","v":"III.CI"},{"$f":"+SOCIOS!H63","v":0},{"$f":"+SOCIOS!H63","v":0},"CAPITAL INTEGRADO:",{"$f":"IF(SOCIOS!J63,SOCIOS!J63,\"<<<<>>>>NO COMPLETADO\")","v":"<<<<>>>>NO COMPLETADO"},642]
[{"$f":"+SOCIOS!G64","v":"III"},{"$f":"+SOCIOS!H64","v":0},{"$f":"+SOCIOS!H64","v":0},"¿SOCIO/ACC. FUNDADOR? -SI/NO-:",{"$f":"IF(SOCIOS!J64,SOCIOS!J64,\"<<<<>>>>NO COMPLETADO\")","v":"<<<<>>>>NO COMPLETADO"},643]
[{"$f":"+SOCIOS!G65","v":"III"},{"$f":"+SOCIOS!H65","v":0},{"$f":"+SOCIOS!H65","v":0},"NOMBRE/S Y APLELLIDO/S DE QUIEN/ES ES CESIONARIO:",{"$f":"IF(SOCIOS!J65,SOCIOS!J65,\"<<<<>>>>NO COMPLETADO\")","v":"<<<<>>>>NO COMPLETADO"},644]
[{"$f":"+SOCIOS!G66","v":"VII.B"},{"$f":"+SOCIOS!H66","v":0},{"$f":"+SOCIOS!H66","v":0},"NOTA/OBSERVACIÓN.",{"$f":"IF(SOCIOS!J66,SOCIOS!J66,\"<<<<>>>>NO COMPLETADO\")","v":"<<<<>>>>NO COMPLETADO"},645]
[{"$f":"+SOCIOS!G67","v":"VII.B"},{"$f":"+SOCIOS!H67","v":0},{"$f":"+SOCIOS!H67","v":0},"CUIT –sin puntos ni barras-:",{"$f":"IF(SOCIOS!J67,SOCIOS!J67,\"<<<<>>>>NO COMPLETADO\")","v":"<<<<>>>>NO COMPLETADO"},646]
[{"$f":"+SOCIOS!G68","v":"VII.B"},{"$f":"+SOCIOS!H68","v":0},{"$f":"+SOCIOS!H68","v":0},"TIPO DE PERSONA JCA -sociedad, asociación, mutual, etc-:",{"$f":"IF(SOCIOS!J68,SOCIOS!J68,\"<<<<>>>>NO COMPLETADO\")","v":"<<<<>>>>NO COMPLETADO"},647]
[{"$f":"+SOCIOS!G69","v":"VII.B"},{"$f":"+SOCIOS!H69","v":0},{"$f":"+SOCIOS!H69","v":0},"ORGANISMO /s DONDE SE INSCRIBIÓ CONSTITUCIÓN:",{"$f":"IF(SOCIOS!J69,SOCIOS!J69,\"<<<<>>>>NO COMPLETADO\")","v":"<<<<>>>>NO COMPLETADO"},648]
[{"$f":"+SOCIOS!G70","v":"VII.B"},{"$f":"+SOCIOS!H70","v":0},{"$f":"+SOCIOS!H70","v":0},"DATOS DE RESOLUCIÓN/OTROS INSCRIPCIÓN:",{"$f":"IF(SOCIOS!J70,SOCIOS!J70,\"<<<<>>>>NO COMPLETADO\")","v":"<<<<>>>>NO COMPLETADO"},649]
[{"$f":"+SOCIOS!G71","v":"VII.B"},{"$f":"+SOCIOS!H71","v":0},{"$f":"+SOCIOS!H71","v":0},"FECHA DE INSCRIPCIÓN:",{"$f":"IF(SOCIOS!J71,SOCIOS!J71,\"<<<<>>>>NO COMPLETADO\")","v":"<<<<>>>>NO COMPLETADO"},650]
[{"$f":"+SOCIOS!G72","v":"VII.B"},{"$f":"+SOCIOS!H72","v":0},{"$f":"+SOCIOS!H72","v":0},"LUGAR DE INSCRIPCIÓN:",{"$f":"IF(SOCIOS!J72,SOCIOS!J72,\"<<<<>>>>NO COMPLETADO\")","v":"<<<<>>>>NO COMPLETADO"},651]
[{"$f":"+SOCIOS!G73","v":"VII.B"},{"$f":"+SOCIOS!H73","v":0},{"$f":"+SOCIOS!H73","v":0},"DOMICILIOS SOCIAL:",{"$f":"IF(SOCIOS!J73,SOCIOS!J73,\"<<<<>>>>NO COMPLETADO\")","v":"<<<<>>>>NO COMPLETADO"},652]
[{"$f":"+SOCIOS!G74","v":"VII.B"},{"$f":"+SOCIOS!H74","v":0},{"$f":"+SOCIOS!H74","v":0},"SEDE SOCIAL:",{"$f":"IF(SOCIOS!J74,SOCIOS!J74,\"<<<<>>>>NO COMPLETADO\")","v":"<<<<>>>>NO COMPLETADO"},653]
[{"$f":"+SOCIOS!G75","v":"VII.B"},{"$f":"+SOCIOS!H75","v":0},{"$f":"+SOCIOS!H75","v":0},"TEL/CEL –sin puntos ni barras-:",{"$f":"IF(SOCIOS!J75,SOCIOS!J75,\"<<<<>>>>NO COMPLETADO\")","v":"<<<<>>>>NO COMPLETADO"},654]
[{"$f":"+SOCIOS!G76","v":"VII.B"},{"$f":"+SOCIOS!H76","v":0},{"$f":"+SOCIOS!H76","v":0},"EMAIL:",{"$f":"IF(SOCIOS!J76,SOCIOS!J76,\"<<<<>>>>NO COMPLETADO\")","v":"<<<<>>>>NO COMPLETADO"},655]
[{"$f":"+SOCIOS!G77","v":"III.Q"},{"$f":"+SOCIOS!H77","v":0},{"$f":"+SOCIOS!H77","v":0},"NROS DE ACCIONES/CUOTAS TITULAR:",{"$f":"IF(SOCIOS!J77,SOCIOS!J77,\"<<<<>>>>NO COMPLETADO\")","v":"<<<<>>>>NO COMPLETADO"},656]
[{"$f":"+SOCIOS!G78","v":"III.%"},{"$f":"+SOCIOS!H78","v":0},{"$f":"+SOCIOS!H78","v":0},"PARTICIPACIÓN S/CAPITAL (%):",{"$f":"IF(SOCIOS!J78,SOCIOS!J78,\"<<<<>>>>NO COMPLETADO\")","v":"<<<<>>>>NO COMPLETADO"},657]
[{"$f":"+SOCIOS!G79","v":"III.CS"},{"$f":"+SOCIOS!H79","v":0},{"$f":"+SOCIOS!H79","v":0},"CAPITAL SUSCRIPTO:",{"$f":"IF(SOCIOS!J79,SOCIOS!J79,\"<<<<>>>>NO COMPLETADO\")","v":"<<<<>>>>NO COMPLETADO"},658]
[{"$f":"+SOCIOS!G80","v":"III.CI"},{"$f":"+SOCIOS!H80","v":0},{"$f":"+SOCIOS!H80","v":0},"CAPITAL INTEGRADO:",{"$f":"IF(SOCIOS!J80,SOCIOS!J80,\"<<<<>>>>NO COMPLETADO\")","v":"<<<<>>>>NO COMPLETADO"},659]
[{"$f":"+SOCIOS!G81","v":"III"},{"$f":"+SOCIOS!H81","v":0},{"$f":"+SOCIOS!H81","v":0},"¿SOCIO/ACC. FUNDADOR? -SI/NO-:",{"$f":"IF(SOCIOS!J81,SOCIOS!J81,\"<<<<>>>>NO COMPLETADO\")","v":"<<<<>>>>NO COMPLETADO"},660]
[{"$f":"+SOCIOS!G82","v":"III"},{"$f":"+SOCIOS!H82","v":0},{"$f":"+SOCIOS!H82","v":0},"NOMBRE/S Y APLELLIDO/S DE QUIEN/ES ES CESIONARIO:",{"$f":"IF(SOCIOS!J82,SOCIOS!J82,\"<<<<>>>>NO COMPLETADO\")","v":"<<<<>>>>NO COMPLETADO"},661]
[{"$f":"+SOCIOS!G83","v":"VII.B"},{"$f":"+SOCIOS!H83","v":0},{"$f":"+SOCIOS!H83","v":0},"NOTA/OBSERVACIÓN.",{"$f":"IF(SOCIOS!J83,SOCIOS!J83,\"<<<<>>>>NO COMPLETADO\")","v":"<<<<>>>>NO COMPLETADO"},662]
[{"$f":"+SOCIOS!G84","v":"VII.B"},{"$f":"+SOCIOS!H84","v":0},{"$f":"+SOCIOS!H84","v":0},"CUIT –sin puntos ni barras-:",{"$f":"IF(SOCIOS!J84,SOCIOS!J84,\"<<<<>>>>NO COMPLETADO\")","v":"<<<<>>>>NO COMPLETADO"},663]
[{"$f":"+SOCIOS!G85","v":"VII.B"},{"$f":"+SOCIOS!H85","v":0},{"$f":"+SOCIOS!H85","v":0},"TIPO DE PERSONA JCA -sociedad, asociación, mutual, etc-:",{"$f":"IF(SOCIOS!J85,SOCIOS!J85,\"<<<<>>>>NO COMPLETADO\")","v":"<<<<>>>>NO COMPLETADO"},664]
[{"$f":"+SOCIOS!G86","v":"VII.B"},{"$f":"+SOCIOS!H86","v":0},{"$f":"+SOCIOS!H86","v":0},"ORGANISMO /s DONDE SE INSCRIBIÓ CONSTITUCIÓN:",{"$f":"IF(SOCIOS!J86,SOCIOS!J86,\"<<<<>>>>NO COMPLETADO\")","v":"<<<<>>>>NO COMPLETADO"},665]
[{"$f":"+SOCIOS!G87","v":"VII.B"},{"$f":"+SOCIOS!H87","v":0},{"$f":"+SOCIOS!H87","v":0},"DATOS DE RESOLUCIÓN/OTROS INSCRIPCIÓN:",{"$f":"IF(SOCIOS!J87,SOCIOS!J87,\"<<<<>>>>NO COMPLETADO\")","v":"<<<<>>>>NO COMPLETADO"},666]
[{"$f":"+SOCIOS!G88","v":"VII.B"},{"$f":"+SOCIOS!H88","v":0},{"$f":"+SOCIOS!H88","v":0},"FECHA DE INSCRIPCIÓN:",{"$f":"IF(SOCIOS!J88,SOCIOS!J88,\"<<<<>>>>NO COMPLETADO\")","v":"<<<<>>>>NO COMPLETADO"},667]
[{"$f":"+SOCIOS!G89","v":"VII.B"},{"$f":"+SOCIOS!H89","v":0},{"$f":"+SOCIOS!H89","v":0},"LUGAR DE INSCRIPCIÓN:",{"$f":"IF(SOCIOS!J89,SOCIOS!J89,\"<<<<>>>>NO COMPLETADO\")","v":"<<<<>>>>NO COMPLETADO"},668]
[{"$f":"+SOCIOS!G90","v":"VII.B"},{"$f":"+SOCIOS!H90","v":0},{"$f":"+SOCIOS!H90","v":0},"DOMICILIOS SOCIAL:",{"$f":"IF(SOCIOS!J90,SOCIOS!J90,\"<<<<>>>>NO COMPLETADO\")","v":"<<<<>>>>NO COMPLETADO"},669]
[{"$f":"+SOCIOS!G91","v":"VII.B"},{"$f":"+SOCIOS!H91","v":0},{"$f":"+SOCIOS!H91","v":0},"SEDE SOCIAL:",{"$f":"IF(SOCIOS!J91,SOCIOS!J91,\"<<<<>>>>NO COMPLETADO\")","v":"<<<<>>>>NO COMPLETADO"},670]
[{"$f":"+SOCIOS!G92","v":"VII.B"},{"$f":"+SOCIOS!H92","v":0},{"$f":"+SOCIOS!H92","v":0},"TEL/CEL –sin puntos ni barras-:",{"$f":"IF(SOCIOS!J92,SOCIOS!J92,\"<<<<>>>>NO COMPLETADO\")","v":"<<<<>>>>NO COMPLETADO"},671]
[{"$f":"+SOCIOS!G93","v":"VII.B"},{"$f":"+SOCIOS!H93","v":0},{"$f":"+SOCIOS!H93","v":0},"EMAIL:",{"$f":"IF(SOCIOS!J93,SOCIOS!J93,\"<<<<>>>>NO COMPLETADO\")","v":"<<<<>>>>NO COMPLETADO"},672]
[{"$f":"+SOCIOS!G94","v":"III.Q"},{"$f":"+SOCIOS!H94","v":0},{"$f":"+SOCIOS!H94","v":0},"NROS DE ACCIONES/CUOTAS TITULAR:",{"$f":"IF(SOCIOS!J94,SOCIOS!J94,\"<<<<>>>>NO COMPLETADO\")","v":"<<<<>>>>NO COMPLETADO"},673]
[{"$f":"+SOCIOS!G95","v":"III.%"},{"$f":"+SOCIOS!H95","v":0},{"$f":"+SOCIOS!H95","v":0},"PARTICIPACIÓN S/CAPITAL (%):",{"$f":"IF(SOCIOS!J95,SOCIOS!J95,\"<<<<>>>>NO COMPLETADO\")","v":"<<<<>>>>NO COMPLETADO"},674]
[{"$f":"+SOCIOS!G96","v":"III.CS"},{"$f":"+SOCIOS!H96","v":0},{"$f":"+SOCIOS!H96","v":0},"CAPITAL SUSCRIPTO:",{"$f":"IF(SOCIOS!J96,SOCIOS!J96,\"<<<<>>>>NO COMPLETADO\")","v":"<<<<>>>>NO COMPLETADO"},675]
[{"$f":"+SOCIOS!G97","v":"III.CI"},{"$f":"+SOCIOS!H97","v":0},{"$f":"+SOCIOS!H97","v":0},"CAPITAL INTEGRADO:",{"$f":"IF(SOCIOS!J97,SOCIOS!J97,\"<<<<>>>>NO COMPLETADO\")","v":"<<<<>>>>NO COMPLETADO"},676]
[{"$f":"+SOCIOS!G98","v":"III"},{"$f":"+SOCIOS!H98","v":0},{"$f":"+SOCIOS!H98","v":0},"¿SOCIO/ACC. FUNDADOR? -SI/NO-:",{"$f":"IF(SOCIOS!J98,SOCIOS!J98,\"<<<<>>>>NO COMPLETADO\")","v":"<<<<>>>>NO COMPLETADO"},677]
[{"$f":"+SOCIOS!G99","v":"III"},{"$f":"+SOCIOS!H99","v":0},{"$f":"+SOCIOS!H99","v":0},"NOMBRE/S Y APLELLIDO/S DE QUIEN/ES ES CESIONARIO:",{"$f":"IF(SOCIOS!J99,SOCIOS!J99,\"<<<<>>>>NO COMPLETADO\")","v":"<<<<>>>>NO COMPLETADO"},678]
[{"$f":"+SOCIOS!G100","v":"VII.B"},{"$f":"+SOCIOS!H100","v":0},{"$f":"+SOCIOS!H100","v":0},"NOTA/OBSERVACIÓN.",{"$f":"IF(SOCIOS!J100,SOCIOS!J100,\"<<<<>>>>NO COMPLETADO\")","v":"<<<<>>>>NO COMPLETADO"},679]
[{"$f":"+SOCIOS!G101","v":"VII.B"},{"$f":"+SOCIOS!H101","v":0},{"$f":"+SOCIOS!H101","v":0},"CUIT –sin puntos ni barras-:",{"$f":"IF(SOCIOS!J101,SOCIOS!J101,\"<<<<>>>>NO COMPLETADO\")","v":"<<<<>>>>NO COMPLETADO"},680]
[{"$f":"+SOCIOS!G102","v":"VII.B"},{"$f":"+SOCIOS!H102","v":0},{"$f":"+SOCIOS!H102","v":0},"TIPO DE PERSONA JCA -sociedad, asociación, mutual, etc-:",{"$f":"IF(SOCIOS!J102,SOCIOS!J102,\"<<<<>>>>NO COMPLETADO\")","v":"<<<<>>>>NO COMPLETADO"},681]
[{"$f":"+SOCIOS!G103","v":"VII.B"},{"$f":"+SOCIOS!H103","v":0},{"$f":"+SOCIOS!H103","v":0},"ORGANISMO /s DONDE SE INSCRIBIÓ CONSTITUCIÓN:",{"$f":"IF(SOCIOS!J103,SOCIOS!J103,\"<<<<>>>>NO COMPLETADO\")","v":"<<<<>>>>NO COMPLETADO"},682]
[{"$f":"+SOCIOS!G104","v":"VII.B"},{"$f":"+SOCIOS!H104","v":0},{"$f":"+SOCIOS!H104","v":0},"DATOS DE RESOLUCIÓN/OTROS INSCRIPCIÓN:",{"$f":"IF(SOCIOS!J104,SOCIOS!J104,\"<<<<>>>>NO COMPLETADO\")","v":"<<<<>>>>NO COMPLETADO"},683]
[{"$f":"+SOCIOS!G105","v":"VII.B"},{"$f":"+SOCIOS!H105","v":0},{"$f":"+SOCIOS!H105","v":0},"FECHA DE INSCRIPCIÓN:",{"$f":"IF(SOCIOS!J105,SOCIOS!J105,\"<<<<>>>>NO COMPLETADO\")","v":"<<<<>>>>NO COMPLETADO"},684]
[{"$f":"+SOCIOS!G106","v":"VII.B"},{"$f":"+SOCIOS!H106","v":0},{"$f":"+SOCIOS!H106","v":0},"LUGAR DE INSCRIPCIÓN:",{"$f":"IF(SOCIOS!J106,SOCIOS!J106,\"<<<<>>>>NO COMPLETADO\")","v":"<<<<>>>>NO COMPLETADO"},685]
[{"$f":"+SOCIOS!G107","v":"VII.B"},{"$f":"+SOCIOS!H107","v":0},{"$f":"+SOCIOS!H107","v":0},"DOMICILIOS SOCIAL:",{"$f":"IF(SOCIOS!J107,SOCIOS!J107,\"<<<<>>>>NO COMPLETADO\")","v":"<<<<>>>>NO COMPLETADO"},686]
[{"$f":"+SOCIOS!G108","v":"VII.B"},{"$f":"+SOCIOS!H108","v":0},{"$f":"+SOCIOS!H108","v":0},"SEDE SOCIAL:",{"$f":"IF(SOCIOS!J108,SOCIOS!J108,\"<<<<>>>>NO COMPLETADO\")","v":"<<<<>>>>NO COMPLETADO"},687]
[{"$f":"+SOCIOS!G109","v":"VII.B"},{"$f":"+SOCIOS!H109","v":0},{"$f":"+SOCIOS!H109","v":0},"TEL/CEL –sin puntos ni barras-:",{"$f":"IF(SOCIOS!J109,SOCIOS!J109,\"<<<<>>>>NO COMPLETADO\")","v":"<<<<>>>>NO COMPLETADO"},688]
[{"$f":"+SOCIOS!G110","v":"VII.B"},{"$f":"+SOCIOS!H110","v":0},{"$f":"+SOCIOS!H110","v":0},"EMAIL:",{"$f":"IF(SOCIOS!J110,SOCIOS!J110,\"<<<<>>>>NO COMPLETADO\")","v":"<<<<>>>>NO COMPLETADO"},689]
[{"$f":"+SOCIOS!G111","v":"III.Q"},{"$f":"+SOCIOS!H111","v":0},{"$f":"+SOCIOS!H111","v":0},"NROS DE ACCIONES/CUOTAS TITULAR:",{"$f":"IF(SOCIOS!J111,SOCIOS!J111,\"<<<<>>>>NO COMPLETADO\")","v":"<<<<>>>>NO COMPLETADO"},690]
[{"$f":"+SOCIOS!G112","v":"III.%"},{"$f":"+SOCIOS!H112","v":0},{"$f":"+SOCIOS!H112","v":0},"PARTICIPACIÓN S/CAPITAL (%):",{"$f":"IF(SOCIOS!J112,SOCIOS!J112,\"<<<<>>>>NO COMPLETADO\")","v":"<<<<>>>>NO COMPLETADO"},691]
[{"$f":"+SOCIOS!G113","v":"III.CS"},{"$f":"+SOCIOS!H113","v":0},{"$f":"+SOCIOS!H113","v":0},"CAPITAL SUSCRIPTO:",{"$f":"IF(SOCIOS!J113,SOCIOS!J113,\"<<<<>>>>NO COMPLETADO\")","v":"<<<<>>>>NO COMPLETADO"},692]
[{"$f":"+SOCIOS!G114","v":"III.CI"},{"$f":"+SOCIOS!H114","v":0},{"$f":"+SOCIOS!H114","v":0},"CAPITAL INTEGRADO:",{"$f":"IF(SOCIOS!J114,SOCIOS!J114,\"<<<<>>>>NO COMPLETADO\")","v":"<<<<>>>>NO COMPLETADO"},693]
[{"$f":"+SOCIOS!G115","v":"III"},{"$f":"+SOCIOS!H115","v":0},{"$f":"+SOCIOS!H115","v":0},"¿SOCIO/ACC. FUNDADOR? -SI/NO-:",{"$f":"IF(SOCIOS!J115,SOCIOS!J115,\"<<<<>>>>NO COMPLETADO\")","v":"<<<<>>>>NO COMPLETADO"},694]
[{"$f":"+SOCIOS!G116","v":"III"},{"$f":"+SOCIOS!H116","v":0},{"$f":"+SOCIOS!H116","v":0},"NOMBRE/S Y APLELLIDO/S DE QUIEN/ES ES CESIONARIO:",{"$f":"IF(SOCIOS!J116,SOCIOS!J116,\"<<<<>>>>NO COMPLETADO\")","v":"<<<<>>>>NO COMPLETADO"},695]
[{"$f":"+SOCIOS!G117","v":"VII.B"},{"$f":"+SOCIOS!H117","v":0},{"$f":"+SOCIOS!H117","v":0},"NOTA/OBSERVACIÓN.",{"$f":"IF(SOCIOS!J117,SOCIOS!J117,\"<<<<>>>>NO COMPLETADO\")","v":"<<<<>>>>NO COMPLETADO"},696]
[{"$f":"+SOCIOS!G118","v":"VII.B"},{"$f":"+SOCIOS!H118","v":0},{"$f":"+SOCIOS!H118","v":0},"CUIT –sin puntos ni barras-:",{"$f":"IF(SOCIOS!J118,SOCIOS!J118,\"<<<<>>>>NO COMPLETADO\")","v":"<<<<>>>>NO COMPLETADO"},697]
[{"$f":"+SOCIOS!G119","v":"VII.B"},{"$f":"+SOCIOS!H119","v":0},{"$f":"+SOCIOS!H119","v":0},"TIPO DE PERSONA JCA -sociedad, asociación, mutual, etc-:",{"$f":"IF(SOCIOS!J119,SOCIOS!J119,\"<<<<>>>>NO COMPLETADO\")","v":"<<<<>>>>NO COMPLETADO"},698]
[{"$f":"+SOCIOS!G120","v":"VII.B"},{"$f":"+SOCIOS!H120","v":0},{"$f":"+SOCIOS!H120","v":0},"ORGANISMO /s DONDE SE INSCRIBIÓ CONSTITUCIÓN:",{"$f":"IF(SOCIOS!J120,SOCIOS!J120,\"<<<<>>>>NO COMPLETADO\")","v":"<<<<>>>>NO COMPLETADO"},699]
[{"$f":"+SOCIOS!G121","v":"VII.B"},{"$f":"+SOCIOS!H121","v":0},{"$f":"+SOCIOS!H121","v":0},"DATOS DE RESOLUCIÓN/OTROS INSCRIPCIÓN:",{"$f":"IF(SOCIOS!J121,SOCIOS!J121,\"<<<<>>>>NO COMPLETADO\")","v":"<<<<>>>>NO COMPLETADO"},700]
[{"$f":"+SOCIOS!G122","v":"VII.B"},{"$f":"+SOCIOS!H122","v":0},{"$f":"+SOCIOS!H122","v":0},"FECHA DE INSCRIPCIÓN:",{"$f":"IF(SOCIOS!J122,SOCIOS!J122,\"<<<<>>>>NO COMPLETADO\")","v":"<<<<>>>>NO COMPLETADO"},701]
[{"$f":"+SOCIOS!G123","v":"VII.B"},{"$f":"+SOCIOS!H123","v":0},{"$f":"+SOCIOS!H123","v":0},"LUGAR DE INSCRIPCIÓN:",{"$f":"IF(SOCIOS!J123,SOCIOS!J123,\"<<<<>>>>NO COMPLETADO\")","v":"<<<<>>>>NO COMPLETADO"},702]
[{"$f":"+SOCIOS!G124","v":"VII.B"},{"$f":"+SOCIOS!H124","v":0},{"$f":"+SOCIOS!H124","v":0},"DOMICILIOS SOCIAL:",{"$f":"IF(SOCIOS!J124,SOCIOS!J124,\"<<<<>>>>NO COMPLETADO\")","v":"<<<<>>>>NO COMPLETADO"},703]
[{"$f":"+SOCIOS!G125","v":"VII.B"},{"$f":"+SOCIOS!H125","v":0},{"$f":"+SOCIOS!H125","v":0},"SEDE SOCIAL:",{"$f":"IF(SOCIOS!J125,SOCIOS!J125,\"<<<<>>>>NO COMPLETADO\")","v":"<<<<>>>>NO COMPLETADO"},704]
[{"$f":"+SOCIOS!G126","v":"VII.B"},{"$f":"+SOCIOS!H126","v":0},{"$f":"+SOCIOS!H126","v":0},"TEL/CEL –sin puntos ni barras-:",{"$f":"IF(SOCIOS!J126,SOCIOS!J126,\"<<<<>>>>NO COMPLETADO\")","v":"<<<<>>>>NO COMPLETADO"},705]
[{"$f":"+SOCIOS!G127","v":"VII.B"},{"$f":"+SOCIOS!H127","v":0},{"$f":"+SOCIOS!H127","v":0},"EMAIL:",{"$f":"IF(SOCIOS!J127,SOCIOS!J127,\"<<<<>>>>NO COMPLETADO\")","v":"<<<<>>>>NO COMPLETADO"},706]
[{"$f":"+SOCIOS!G128","v":"III.Q"},{"$f":"+SOCIOS!H128","v":0},{"$f":"+SOCIOS!H128","v":0},"NROS DE ACCIONES/CUOTAS TITULAR:",{"$f":"IF(SOCIOS!J128,SOCIOS!J128,\"<<<<>>>>NO COMPLETADO\")","v":"<<<<>>>>NO COMPLETADO"},707]
[{"$f":"+SOCIOS!G129","v":"III.%"},{"$f":"+SOCIOS!H129","v":0},{"$f":"+SOCIOS!H129","v":0},"PARTICIPACIÓN S/CAPITAL (%):",{"$f":"IF(SOCIOS!J129,SOCIOS!J129,\"<<<<>>>>NO COMPLETADO\")","v":"<<<<>>>>NO COMPLETADO"},708]
[{"$f":"+SOCIOS!G130","v":"III.CS"},{"$f":"+SOCIOS!H130","v":0},{"$f":"+SOCIOS!H130","v":0},"CAPITAL SUSCRIPTO:",{"$f":"IF(SOCIOS!J130,SOCIOS!J130,\"<<<<>>>>NO COMPLETADO\")","v":"<<<<>>>>NO COMPLETADO"},709]
[{"$f":"+SOCIOS!G131","v":"III.CI"},{"$f":"+SOCIOS!H131","v":0},{"$f":"+SOCIOS!H131","v":0},"CAPITAL INTEGRADO:",{"$f":"IF(SOCIOS!J131,SOCIOS!J131,\"<<<<>>>>NO COMPLETADO\")","v":"<<<<>>>>NO COMPLETADO"},710]
[{"$f":"+SOCIOS!G132","v":"III"},{"$f":"+SOCIOS!H132","v":0},{"$f":"+SOCIOS!H132","v":0},"¿SOCIO/ACC. FUNDADOR? -SI/NO-:",{"$f":"IF(SOCIOS!J132,SOCIOS!J132,\"<<<<>>>>NO COMPLETADO\")","v":"<<<<>>>>NO COMPLETADO"},711]
[{"$f":"+SOCIOS!G133","v":"III"},{"$f":"+SOCIOS!H133","v":0},{"$f":"+SOCIOS!H133","v":0},"NOMBRE/S Y APLELLIDO/S DE QUIEN/ES ES CESIONARIO:",{"$f":"IF(SOCIOS!J133,SOCIOS!J133,\"<<<<>>>>NO COMPLETADO\")","v":"<<<<>>>>NO COMPLETADO"},712]
[{"$f":"+SOCIOS!G134","v":"VII.B"},{"$f":"+SOCIOS!H134","v":0},{"$f":"+SOCIOS!H134","v":0},"NOTA/OBSERVACIÓN.",{"$f":"IF(SOCIOS!J134,SOCIOS!J134,\"<<<<>>>>NO COMPLETADO\")","v":"<<<<>>>>NO COMPLETADO"},713]
[{"$f":"+SOCIOS!G135","v":"VII.B"},{"$f":"+SOCIOS!H135","v":0},{"$f":"+SOCIOS!H135","v":0},"CUIT –sin puntos ni barras-:",{"$f":"IF(SOCIOS!J135,SOCIOS!J135,\"<<<<>>>>NO COMPLETADO\")","v":"<<<<>>>>NO COMPLETADO"},714]
[{"$f":"+SOCIOS!G136","v":"VII.B"},{"$f":"+SOCIOS!H136","v":0},{"$f":"+SOCIOS!H136","v":0},"TIPO DE PERSONA JCA -sociedad, asociación, mutual, etc-:",{"$f":"IF(SOCIOS!J136,SOCIOS!J136,\"<<<<>>>>NO COMPLETADO\")","v":"<<<<>>>>NO COMPLETADO"},715]
[{"$f":"+SOCIOS!G137","v":"VII.B"},{"$f":"+SOCIOS!H137","v":0},{"$f":"+SOCIOS!H137","v":0},"ORGANISMO /s DONDE SE INSCRIBIÓ CONSTITUCIÓN:",{"$f":"IF(SOCIOS!J137,SOCIOS!J137,\"<<<<>>>>NO COMPLETADO\")","v":"<<<<>>>>NO COMPLETADO"},716]
[{"$f":"+SOCIOS!G138","v":"VII.B"},{"$f":"+SOCIOS!H138","v":0},{"$f":"+SOCIOS!H138","v":0},"DATOS DE RESOLUCIÓN/OTROS INSCRIPCIÓN:",{"$f":"IF(SOCIOS!J138,SOCIOS!J138,\"<<<<>>>>NO COMPLETADO\")","v":"<<<<>>>>NO COMPLETADO"},717]
[{"$f":"+SOCIOS!G139","v":"VII.B"},{"$f":"+SOCIOS!H139","v":0},{"$f":"+SOCIOS!H139","v":0},"FECHA DE INSCRIPCIÓN:",{"$f":"IF(SOCIOS!J139,SOCIOS!J139,\"<<<<>>>>NO COMPLETADO\")","v":"<<<<>>>>NO COMPLETADO"},718]
[{"$f":"+SOCIOS!G140","v":"VII.B"},{"$f":"+SOCIOS!H140","v":0},{"$f":"+SOCIOS!H140","v":0},"LUGAR DE INSCRIPCIÓN:",{"$f":"IF(SOCIOS!J140,SOCIOS!J140,\"<<<<>>>>NO COMPLETADO\")","v":"<<<<>>>>NO COMPLETADO"},719]
[{"$f":"+SOCIOS!G141","v":"VII.B"},{"$f":"+SOCIOS!H141","v":0},{"$f":"+SOCIOS!H141","v":0},"DOMICILIOS SOCIAL:",{"$f":"IF(SOCIOS!J141,SOCIOS!J141,\"<<<<>>>>NO COMPLETADO\")","v":"<<<<>>>>NO COMPLETADO"},720]
[{"$f":"+SOCIOS!G142","v":"VII.B"},{"$f":"+SOCIOS!H142","v":0},{"$f":"+SOCIOS!H142","v":0},"SEDE SOCIAL:",{"$f":"IF(SOCIOS!J142,SOCIOS!J142,\"<<<<>>>>NO COMPLETADO\")","v":"<<<<>>>>NO COMPLETADO"},721]
[{"$f":"+SOCIOS!G143","v":"VII.B"},{"$f":"+SOCIOS!H143","v":0},{"$f":"+SOCIOS!H143","v":0},"TEL/CEL –sin puntos ni barras-:",{"$f":"IF(SOCIOS!J143,SOCIOS!J143,\"<<<<>>>>NO COMPLETADO\")","v":"<<<<>>>>NO COMPLETADO"},722]
[{"$f":"+SOCIOS!G144","v":"VII.B"},{"$f":"+SOCIOS!H144","v":0},{"$f":"+SOCIOS!H144","v":0},"EMAIL:",{"$f":"IF(SOCIOS!J144,SOCIOS!J144,\"<<<<>>>>NO COMPLETADO\")","v":"<<<<>>>>NO COMPLETADO"},723]
[{"$f":"+SOCIOS!G145","v":"III.Q"},{"$f":"+SOCIOS!H145","v":0},{"$f":"+SOCIOS!H145","v":0},"NROS DE ACCIONES/CUOTAS TITULAR:",{"$f":"IF(SOCIOS!J145,SOCIOS!J145,\"<<<<>>>>NO COMPLETADO\")","v":"<<<<>>>>NO COMPLETADO"},724]
[{"$f":"+SOCIOS!G146","v":"III.%"},{"$f":"+SOCIOS!H146","v":0},{"$f":"+SOCIOS!H146","v":0},"PARTICIPACIÓN S/CAPITAL (%):",{"$f":"IF(SOCIOS!J146,SOCIOS!J146,\"<<<<>>>>NO COMPLETADO\")","v":"<<<<>>>>NO COMPLETADO"},725]
[{"$f":"+SOCIOS!G147","v":"III.CS"},{"$f":"+SOCIOS!H147","v":0},{"$f":"+SOCIOS!H147","v":0},"CAPITAL SUSCRIPTO:",{"$f":"IF(SOCIOS!J147,SOCIOS!J147,\"<<<<>>>>NO COMPLETADO\")","v":"<<<<>>>>NO COMPLETADO"},726]
[{"$f":"+SOCIOS!G148","v":"III.CI"},{"$f":"+SOCIOS!H148","v":0},{"$f":"+SOCIOS!H148","v":0},"CAPITAL INTEGRADO:",{"$f":"IF(SOCIOS!J148,SOCIOS!J148,\"<<<<>>>>NO COMPLETADO\")","v":"<<<<>>>>NO COMPLETADO"},727]
[{"$f":"+SOCIOS!G149","v":"III"},{"$f":"+SOCIOS!H149","v":0},{"$f":"+SOCIOS!H149","v":0},"¿SOCIO/ACC. FUNDADOR? -SI/NO-:",{"$f":"IF(SOCIOS!J149,SOCIOS!J149,\"<<<<>>>>NO COMPLETADO\")","v":"<<<<>>>>NO COMPLETADO"},728]
[{"$f":"+SOCIOS!G150","v":"III"},{"$f":"+SOCIOS!H150","v":0},{"$f":"+SOCIOS!H150","v":0},"NOMBRE/S Y APLELLIDO/S DE QUIEN/ES ES CESIONARIO:",{"$f":"IF(SOCIOS!J150,SOCIOS!J150,\"<<<<>>>>NO COMPLETADO\")","v":"<<<<>>>>NO COMPLETADO"},729]
[{"$f":"+SOCIOS!G151","v":"VII.B"},{"$f":"+SOCIOS!H151","v":0},{"$f":"+SOCIOS!H151","v":0},"NOTA/OBSERVACIÓN.",{"$f":"IF(SOCIOS!J151,SOCIOS!J151,\"<<<<>>>>NO COMPLETADO\")","v":"<<<<>>>>NO COMPLETADO"},730]
[{"$f":"+SOCIOS!G152","v":"VII.B"},{"$f":"+SOCIOS!H152","v":0},{"$f":"+SOCIOS!H152","v":0},"CUIT –sin puntos ni barras-:",{"$f":"IF(SOCIOS!J152,SOCIOS!J152,\"<<<<>>>>NO COMPLETADO\")","v":"<<<<>>>>NO COMPLETADO"},731]
[{"$f":"+SOCIOS!G153","v":"VII.B"},{"$f":"+SOCIOS!H153","v":0},{"$f":"+SOCIOS!H153","v":0},"TIPO DE PERSONA JCA -sociedad, asociación, mutual, etc-:",{"$f":"IF(SOCIOS!J153,SOCIOS!J153,\"<<<<>>>>NO COMPLETADO\")","v":"<<<<>>>>NO COMPLETADO"},732]
[{"$f":"+SOCIOS!G154","v":"VII.B"},{"$f":"+SOCIOS!H154","v":0},{"$f":"+SOCIOS!H154","v":0},"ORGANISMO /s DONDE SE INSCRIBIÓ CONSTITUCIÓN:",{"$f":"IF(SOCIOS!J154,SOCIOS!J154,\"<<<<>>>>NO COMPLETADO\")","v":"<<<<>>>>NO COMPLETADO"},733]
[{"$f":"+SOCIOS!G155","v":"VII.B"},{"$f":"+SOCIOS!H155","v":0},{"$f":"+SOCIOS!H155","v":0},"DATOS DE RESOLUCIÓN/OTROS INSCRIPCIÓN:",{"$f":"IF(SOCIOS!J155,SOCIOS!J155,\"<<<<>>>>NO COMPLETADO\")","v":"<<<<>>>>NO COMPLETADO"},734]
[{"$f":"+SOCIOS!G156","v":"VII.B"},{"$f":"+SOCIOS!H156","v":0},{"$f":"+SOCIOS!H156","v":0},"FECHA DE INSCRIPCIÓN:",{"$f":"IF(SOCIOS!J156,SOCIOS!J156,\"<<<<>>>>NO COMPLETADO\")","v":"<<<<>>>>NO COMPLETADO"},735]
[{"$f":"+SOCIOS!G157","v":"VII.B"},{"$f":"+SOCIOS!H157","v":0},{"$f":"+SOCIOS!H157","v":0},"LUGAR DE INSCRIPCIÓN:",{"$f":"IF(SOCIOS!J157,SOCIOS!J157,\"<<<<>>>>NO COMPLETADO\")","v":"<<<<>>>>NO COMPLETADO"},736]
[{"$f":"+SOCIOS!G158","v":"VII.B"},{"$f":"+SOCIOS!H158","v":0},{"$f":"+SOCIOS!H158","v":0},"DOMICILIOS SOCIAL:",{"$f":"IF(SOCIOS!J158,SOCIOS!J158,\"<<<<>>>>NO COMPLETADO\")","v":"<<<<>>>>NO COMPLETADO"},737]
[{"$f":"+SOCIOS!G159","v":"VII.B"},{"$f":"+SOCIOS!H159","v":0},{"$f":"+SOCIOS!H159","v":0},"SEDE SOCIAL:",{"$f":"IF(SOCIOS!J159,SOCIOS!J159,\"<<<<>>>>NO COMPLETADO\")","v":"<<<<>>>>NO COMPLETADO"},738]
[{"$f":"+SOCIOS!G160","v":"VII.B"},{"$f":"+SOCIOS!H160","v":0},{"$f":"+SOCIOS!H160","v":0},"TEL/CEL –sin puntos ni barras-:",{"$f":"IF(SOCIOS!J160,SOCIOS!J160,\"<<<<>>>>NO COMPLETADO\")","v":"<<<<>>>>NO COMPLETADO"},739]
[{"$f":"+SOCIOS!G161","v":"VII.B"},{"$f":"+SOCIOS!H161","v":0},{"$f":"+SOCIOS!H161","v":0},"EMAIL:",{"$f":"IF(SOCIOS!J161,SOCIOS!J161,\"<<<<>>>>NO COMPLETADO\")","v":"<<<<>>>>NO COMPLETADO"},740]
[{"$f":"+SOCIOS!G162","v":"III.Q"},{"$f":"+SOCIOS!H162","v":0},{"$f":"+SOCIOS!H162","v":0},"NROS DE ACCIONES/CUOTAS TITULAR:",{"$f":"IF(SOCIOS!J162,SOCIOS!J162,\"<<<<>>>>NO COMPLETADO\")","v":"<<<<>>>>NO COMPLETADO"},741]
[{"$f":"+SOCIOS!G163","v":"III.%"},{"$f":"+SOCIOS!H163","v":0},{"$f":"+SOCIOS!H163","v":0},"PARTICIPACIÓN S/CAPITAL (%):",{"$f":"IF(SOCIOS!J163,SOCIOS!J163,\"<<<<>>>>NO COMPLETADO\")","v":"<<<<>>>>NO COMPLETADO"},742]
[{"$f":"+SOCIOS!G164","v":"III.CS"},{"$f":"+SOCIOS!H164","v":0},{"$f":"+SOCIOS!H164","v":0},"CAPITAL SUSCRIPTO:",{"$f":"IF(SOCIOS!J164,SOCIOS!J164,\"<<<<>>>>NO COMPLETADO\")","v":"<<<<>>>>NO COMPLETADO"},743]
[{"$f":"+SOCIOS!G165","v":"III.CI"},{"$f":"+SOCIOS!H165","v":0},{"$f":"+SOCIOS!H165","v":0},"CAPITAL INTEGRADO:",{"$f":"IF(SOCIOS!J165,SOCIOS!J165,\"<<<<>>>>NO COMPLETADO\")","v":"<<<<>>>>NO COMPLETADO"},744]
[{"$f":"+SOCIOS!G166","v":"III"},{"$f":"+SOCIOS!H166","v":0},{"$f":"+SOCIOS!H166","v":0},"¿SOCIO/ACC. FUNDADOR? -SI/NO-:",{"$f":"IF(SOCIOS!J166,SOCIOS!J166,\"<<<<>>>>NO COMPLETADO\")","v":"<<<<>>>>NO COMPLETADO"},745]
[{"$f":"+SOCIOS!G167","v":"III"},{"$f":"+SOCIOS!H167","v":0},{"$f":"+SOCIOS!H167","v":0},"NOMBRE/S Y APLELLIDO/S DE QUIEN/ES ES CESIONARIO:",{"$f":"IF(SOCIOS!J167,SOCIOS!J167,\"<<<<>>>>NO COMPLETADO\")","v":"<<<<>>>>NO COMPLETADO"},746]
[{"$f":"+SOCIOS!G168","v":"VII.B"},{"$f":"+SOCIOS!H168","v":0},{"$f":"+SOCIOS!H168","v":0},"NOTA/OBSERVACIÓN.",{"$f":"IF(SOCIOS!J168,SOCIOS!J168,\"<<<<>>>>NO COMPLETADO\")","v":"<<<<>>>>NO COMPLETADO"},747]
[{"$f":"+SOCIOS!G169","v":"VII.B"},{"$f":"+SOCIOS!H169","v":0},{"$f":"+SOCIOS!H169","v":0},"CUIT –sin puntos ni barras-:",{"$f":"IF(SOCIOS!J169,SOCIOS!J169,\"<<<<>>>>NO COMPLETADO\")","v":"<<<<>>>>NO COMPLETADO"},748]
[{"$f":"+SOCIOS!G170","v":"VII.B"},{"$f":"+SOCIOS!H170","v":0},{"$f":"+SOCIOS!H170","v":0},"TIPO DE PERSONA JCA -sociedad, asociación, mutual, etc-:",{"$f":"IF(SOCIOS!J170,SOCIOS!J170,\"<<<<>>>>NO COMPLETADO\")","v":"<<<<>>>>NO COMPLETADO"},749]
[{"$f":"+SOCIOS!G171","v":"VII.B"},{"$f":"+SOCIOS!H171","v":0},{"$f":"+SOCIOS!H171","v":0},"ORGANISMO /s DONDE SE INSCRIBIÓ CONSTITUCIÓN:",{"$f":"IF(SOCIOS!J171,SOCIOS!J171,\"<<<<>>>>NO COMPLETADO\")","v":"<<<<>>>>NO COMPLETADO"},750]
[{"$f":"+SOCIOS!G172","v":"VII.B"},{"$f":"+SOCIOS!H172","v":0},{"$f":"+SOCIOS!H172","v":0},"DATOS DE RESOLUCIÓN/OTROS INSCRIPCIÓN:",{"$f":"IF(SOCIOS!J172,SOCIOS!J172,\"<<<<>>>>NO COMPLETADO\")","v":"<<<<>>>>NO COMPLETADO"},751]
[{"$f":"+SOCIOS!G173","v":"VII.B"},{"$f":"+SOCIOS!H173","v":0},{"$f":"+SOCIOS!H173","v":0},"FECHA DE INSCRIPCIÓN:",{"$f":"IF(SOCIOS!J173,SOCIOS!J173,\"<<<<>>>>NO COMPLETADO\")","v":"<<<<>>>>NO COMPLETADO"},752]
[{"$f":"+SOCIOS!G174","v":"VII.B"},{"$f":"+SOCIOS!H174","v":0},{"$f":"+SOCIOS!H174","v":0},"LUGAR DE INSCRIPCIÓN:",{"$f":"IF(SOCIOS!J174,SOCIOS!J174,\"<<<<>>>>NO COMPLETADO\")","v":"<<<<>>>>NO COMPLETADO"},753]
[{"$f":"+SOCIOS!G175","v":"VII.B"},{"$f":"+SOCIOS!H175","v":0},{"$f":"+SOCIOS!H175","v":0},"DOMICILIOS SOCIAL:",{"$f":"IF(SOCIOS!J175,SOCIOS!J175,\"<<<<>>>>NO COMPLETADO\")","v":"<<<<>>>>NO COMPLETADO"},754]
[{"$f":"+SOCIOS!G176","v":"VII.B"},{"$f":"+SOCIOS!H176","v":0},{"$f":"+SOCIOS!H176","v":0},"SEDE SOCIAL:",{"$f":"IF(SOCIOS!J176,SOCIOS!J176,\"<<<<>>>>NO COMPLETADO\")","v":"<<<<>>>>NO COMPLETADO"},755]
[{"$f":"+SOCIOS!G177","v":"VII.B"},{"$f":"+SOCIOS!H177","v":0},{"$f":"+SOCIOS!H177","v":0},"TEL/CEL –sin puntos ni barras-:",{"$f":"IF(SOCIOS!J177,SOCIOS!J177,\"<<<<>>>>NO COMPLETADO\")","v":"<<<<>>>>NO COMPLETADO"},756]
[{"$f":"+SOCIOS!G178","v":"VII.B"},{"$f":"+SOCIOS!H178","v":0},{"$f":"+SOCIOS!H178","v":0},"EMAIL:",{"$f":"IF(SOCIOS!J178,SOCIOS!J178,\"<<<<>>>>NO COMPLETADO\")","v":"<<<<>>>>NO COMPLETADO"},757]
[{"$f":"+SOCIOS!G179","v":"III.Q"},{"$f":"+SOCIOS!H179","v":0},{"$f":"+SOCIOS!H179","v":0},"NROS DE ACCIONES/CUOTAS TITULAR:",{"$f":"IF(SOCIOS!J179,SOCIOS!J179,\"<<<<>>>>NO COMPLETADO\")","v":"<<<<>>>>NO COMPLETADO"},758]
[{"$f":"+SOCIOS!G180","v":"III.%"},{"$f":"+SOCIOS!H180","v":0},{"$f":"+SOCIOS!H180","v":0},"PARTICIPACIÓN S/CAPITAL (%):",{"$f":"IF(SOCIOS!J180,SOCIOS!J180,\"<<<<>>>>NO COMPLETADO\")","v":"<<<<>>>>NO COMPLETADO"},759]
[{"$f":"+SOCIOS!G181","v":"III.CS"},{"$f":"+SOCIOS!H181","v":0},{"$f":"+SOCIOS!H181","v":0},"CAPITAL SUSCRIPTO:",{"$f":"IF(SOCIOS!J181,SOCIOS!J181,\"<<<<>>>>NO COMPLETADO\")","v":"<<<<>>>>NO COMPLETADO"},760]
[{"$f":"+SOCIOS!G182","v":"III.CI"},{"$f":"+SOCIOS!H182","v":0},{"$f":"+SOCIOS!H182","v":0},"CAPITAL INTEGRADO:",{"$f":"IF(SOCIOS!J182,SOCIOS!J182,\"<<<<>>>>NO COMPLETADO\")","v":"<<<<>>>>NO COMPLETADO"},761]
[{"$f":"+SOCIOS!G183","v":"III"},{"$f":"+SOCIOS!H183","v":0},{"$f":"+SOCIOS!H183","v":0},"¿SOCIO/ACC. FUNDADOR? -SI/NO-:",{"$f":"IF(SOCIOS!J183,SOCIOS!J183,\"<<<<>>>>NO COMPLETADO\")","v":"<<<<>>>>NO COMPLETADO"},762]
[{"$f":"+SOCIOS!G184","v":"III"},{"$f":"+SOCIOS!H184","v":0},{"$f":"+SOCIOS!H184","v":0},"NOMBRE/S Y APLELLIDO/S DE QUIEN/ES ES CESIONARIO:",{"$f":"IF(SOCIOS!J184,SOCIOS!J184,\"<<<<>>>>NO COMPLETADO\")","v":"<<<<>>>>NO COMPLETADO"},763]
[{"$f":"+SOCIOS!G185","v":"VII.B"},{"$f":"+SOCIOS!H185","v":0},{"$f":"+SOCIOS!H185","v":0},"NOTA/OBSERVACIÓN.",{"$f":"IF(SOCIOS!J185,SOCIOS!J185,\"<<<<>>>>NO COMPLETADO\")","v":"<<<<>>>>NO COMPLETADO"},764]
[]
[null,"REFERENCIA"]
[null,"I: DATOS SOLICITANTE",null,"IV: REPRESENTANTES LEGALES"]
[null,"II: DATOS DE LA SOCIEDAD",null,"V:  INTEGRANTES ÓRGANO DE ADMINISTRACIÓN"]
[null,"III:DATOS S/CAPITAL",null,"VI: INTEGRANTES ÓRGANO DE FISCALIZACIÓN"]
[null,"III%: PARTICIPACIÓN DE LOS SOCIOS S/CAPITAL",null,"VI: INTEGRANTES ÓRGANO DE FISCALIZACIÓN"]
[null,"III Q: CANTIDAD DE ACCIONES/CUOTAS PARTES QUE POSEE C/SOCIO/ACCIONISTA",null,"VII.A: DATOS SOCIOS PERSONAS HUMANAS"]
[null,"III CS: CAPITAL SUSCRIPTO C/SOCIO/ACCIONISTA",null,"VII.B: DATOS SOCIOS PERSONAS JURÍDICAS"]
[null,"III CI: CAPITAL INTEGRADO C/SOCIO/ACCIONISTA",null,"NS: DATOS MIEMBROS DE LOS ÓRGANOS SOCIALES NO SOCIOS"]

{"sheet":"BD-RP","index":5,"n_rows":771,"n_cols":12,"rows_kept":771,"cut":false,"hidden":true,"merged":[[4,9,5,9],[4,10,5,10],[4,11,5,11],[1,0,1,6],[2,0,2,6],[1,8,1,9],[2,8,2,9],[4,2,5,2],[4,5,5,5],[4,6,5,6],[4,7,4,8],[4,0,5,0],[4,1,5,1],[4,3,4,4],[3,5,3,6],[3,8,3,9]]}
["BASE DE DATOS"]
["FECHA DE CARGA BASE DATOS:",null,null,null,null,null,null,"2016-03-16",{"$f":"+IF(H2>0,\".\",\"ERROR llene FECHA\")","v":"."}]
["EXPTE. NRO. DONDE SE DENUNCIÓ DATOS:",null,null,null,null,null,null,"465/16",{"$f":"+IF(H3>0,\".\",\"ERROR llene NRO. EXPTE.\")","v":"."}]
[null,null,null,null,null,"NRO. DE LEGAJO",null,null,{"$f":"+IF(H4>0,\".\",\"ERROR llene NRO. LEGAJO\")","v":"ERROR llene NRO. LEGAJO"}]
["COD. Gral.","COD. Int.","FORM.","DATOS DENUNCIADOS",null,"VINCULADOS","VINCULADOS","DATOS",null,"FECHA","NRO. DE LEGAJO","EXPTE./OTROS"]
[null,null,null,"INSCRIPTO RPC","FECHA ALTA/MO-DIFICACIÓN",null,null,"CONCEPTO","COMPLETAR -EN MAYUSCULA -"]
[]
[null,null,{"$f":"+'I M P R I M I R'!A7","v":"I"},{"$f":"+'I M P R I M I R'!D$3","v":0},null,{"$f":"+'I M P R I M I R'!B7","v":0},{"$f":"+'I M P R I M I R'!C7","v":0},{"$f":"+'I M P R I M I R'!D7","v":"TRAMITE QUE SE INICIA:"},{"$f":"+'I M P R I M I R'!E7","v":"<<<<>>>>NO COMPLETADO"},{"$f":"+H$2","v":"2016-03-16"},{"$f":"H$4","v":0},{"$f":"+H$3","v":"465/16"}]
[null,null,{"$f":"+'I M P R I M I R'!A8","v":"I"},{"$f":"+'I M P R I M I R'!D$3","v":0},null,{"$f":"+'I M P R I M I R'!B8","v":0},{"$f":"+'I M P R I M I R'!C8","v":0},{"$f":"+'I M P R I M I R'!D8","v":"DOC. IDENTIDAD –sin puntos-: ……………………"},{"$f":"+'I M P R I M I R'!E8","v":"<<<<>>>>NO COMPLETADO"},{"$f":"+H$2","v":"2016-03-16"},{"$f":"H$4","v":0},{"$f":"+H$3","v":"465/16"}]
[null,null,{"$f":"+'I M P R I M I R'!A9","v":"I"},{"$f":"+'I M P R I M I R'!D$3","v":0},null,{"$f":"+'I M P R I M I R'!B9","v":0},{"$f":"+'I M P R I M I R'!C9","v":0},{"$f":"+'I M P R I M I R'!D9","v":"CUIT/CUIL –sin puntos ni barras-:"},{"$f":"+'I M P R I M I R'!E9","v":"<<<<>>>>NO COMPLETADO"},"2016-03-16",0,"465/16"]
[null,null,{"$f":"+'I M P R I M I R'!A10","v":"I"},{"$f":"+'I M P R I M I R'!D$3","v":0},null,{"$f":"+'I M P R I M I R'!B10","v":0},{"$f":"+'I M P R I M I R'!C10","v":0},{"$f":"+'I M P R I M I R'!D10","v":"FECHA DE NACIMIENTO –dd/mm/aa-:"},{"$f":"+'I M P R I M I R'!E10","v":"<<<<>>>>NO COMPLETADO"},"2016-03-16",0,"465/16"]
[null,null,{"$f":"+'I M P R I M I R'!A11","v":"I"},{"$f":"+'I M P R I M I R'!D$3","v":0},null,{"$f":"+'I M P R I M I R'!B11","v":0},{"$f":"+'I M P R I M I R'!C11","v":0},{"$f":"+'I M P R I M I R'!D11","v":"LUGAR DE NACIMIENTO:"},{"$f":"+'I M P R I M I R'!E11","v":"<<<<>>>>NO COMPLETADO"},"2016-03-16",0,"465/16"]
[null,null,{"$f":"+'I M P R I M I R'!A12","v":"I"},{"$f":"+'I M P R I M I R'!D$3","v":0},null,{"$f":"+'I M P R I M I R'!B12","v":0},{"$f":"+'I M P R I M I R'!C12","v":0},{"$f":"+'I M P R I M I R'!D12","v":"NACIONALIDAD:"},{"$f":"+'I M P R I M I R'!E12","v":"<<<<>>>>NO COMPLETADO"},"2016-03-16",0,"465/16"]
[null,null,{"$f":"+'I M P R I M I R'!A13","v":"I"},{"$f":"+'I M P R I M I R'!D$3","v":0},null,{"$f":"+'I M P R I M I R'!B13","v":0},{"$f":"+'I M P R I M I R'!C13","v":0},{"$f":"+'I M P R I M I R'!D13","v":"PROFESIÓN:"},{"$f":"+'I M P R I M I R'!E13","v":"<<<<>>>>NO COMPLETADO"},"2016-03-16",0,"465/16"]
[null,null,{"$f":"+'I M P R I M I R'!A14","v":"I"},{"$f":"+'I M P R I M I R'!D$3","v":0},null,{"$f":"+'I M P R I M I R'!B14","v":0},{"$f":"+'I M P R I M I R'!C14","v":0},{"$f":"+'I M P R I M I R'!D14","v":"DOMICILIO REAL:"},{"$f":"+'I M P R I M I R'!E14","v":"<<<<>>>>NO COMPLETADO"},"2016-03-16",0,"465/16"]
[null,null,{"$f":"+'I M P R I M I R'!A15","v":"I"},{"$f":"+'I M P R I M I R'!D$3","v":0},null,{"$f":"+'I M P R I M I R'!B15","v":0},{"$f":"+'I M P R I M I R'!C15","v":0},{"$f":"+'I M P R I M I R'!D15","v":"CEL/TEL –sin puntos ni barras-:"},{"$f":"+'I M P R I M I R'!E15","v":"<<<<>>>>NO COMPLETADO"},"2016-03-16",0,"465/16"]
[null,null,{"$f":"+'I M P R I M I R'!A16","v":"I"},{"$f":"+'I M P R I M I R'!D$3","v":0},null,{"$f":"+'I M P R I M I R'!B16","v":0},{"$f":"+'I M P R I M I R'!C16","v":0},{"$f":"+'I M P R I M I R'!D16","v":"EMAIL:"},{"$f":"+'I M P R I M I R'!E16","v":"<<<<>>>>NO COMPLETADO"},"2016-03-16",0,"465/16"]
[null,null,{"$f":"+'I M P R I M I R'!A17","v":"II"},{"$f":"+'I M P R I M I R'!D$3","v":0},null,{"$f":"+'I M P R I M I R'!B17","v":0},{"$f":"+'I M P R I M I R'!C17","v":0},{"$f":"+'I M P R I M I R'!D17","v":"CUIT -sin puntos ni barras-:"},{"$f":"+'I M P R I M I R'!E17","v":"<<<<>>>>NO COMPLETADO"},"2016-03-16",0,"465/16"]
[null,null,{"$f":"+'I M P R I M I R'!A18","v":"II"},{"$f":"+'I M P R I M I R'!D$3","v":0},null,{"$f":"+'I M P R I M I R'!B18","v":0},{"$f":"+'I M P R I M I R'!C18","v":0},{"$f":"+'I M P R I M I R'!D18","v":"DOMICILIO SOCIAL:"},{"$f":"+'I M P R I M I R'!E18","v":"<<<<>>>>NO COMPLETADO"},"2016-03-16",0,"465/16"]
[null,null,{"$f":"+'I M P R I M I R'!A19","v":"II"},{"$f":"+'I M P R I M I R'!D$3","v":0},null,{"$f":"+'I M P R I M I R'!B19","v":0},{"$f":"+'I M P R I M I R'!C19","v":0},{"$f":"+'I M P R I M I R'!D19","v":"DIRECCION SEDE SOCIAL:"},{"$f":"+'I M P R I M I R'!E19","v":"<<<<>>>>NO COMPLETADO"},"2016-03-16",0,"465/16"]
[null,null,{"$f":"+'I M P R I M I R'!A20","v":"II"},{"$f":"+'I M P R I M I R'!D$3","v":0},null,{"$f":"+'I M P R I M I R'!B20","v":0},{"$f":"+'I M P R I M I R'!C20","v":0},{"$f":"+'I M P R I M I R'!D20","v":"CEL/TEL (de administración) --sin puntos ni barras-:"},{"$f":"+'I M P R I M I R'!E20","v":"<<<<>>>>NO COMPLETADO"},"2016-03-16",0,"465/16"]
[null,null,{"$f":"+'I M P R I M I R'!A21","v":"II"},{"$f":"+'I M P R I M I R'!D$3","v":0},null,{"$f":"+'I M P R I M I R'!B21","v":0},{"$f":"+'I M P R I M I R'!C21","v":0},{"$f":"+'I M P R I M I R'!D21","v":"EMAIL (de administración) -sin puntos ni barras-:"},{"$f":"+'I M P R I M I R'!E21","v":"<<<<>>>>NO COMPLETADO"},"2016-03-16",0,"465/16"]
[null,null,{"$f":"+'I M P R I M I R'!A22","v":"III"},{"$f":"+'I M P R I M I R'!D$3","v":0},null,{"$f":"+'I M P R I M I R'!B22","v":0},{"$f":"+'I M P R I M I R'!C22","v":0},{"$f":"+'I M P R I M I R'!D22","v":"¿SOCIO/ACC. FUNDADOR? -SI/NO-::"},{"$f":"+'I M P R I M I R'!E22","v":"<<<<>>>>NO COMPLETADO"},"2016-03-16",0,"465/16"]
[null,null,{"$f":"+'I M P R I M I R'!A23","v":"III"},{"$f":"+'I M P R I M I R'!D$3","v":0},null,{"$f":"+'I M P R I M I R'!B23","v":0},{"$f":"+'I M P R I M I R'!C23","v":0},{"$f":"+'I M P R I M I R'!D23","v":"NOMBRE/S Y APLELLIDO/S DE QUIEN/ES ES CESIONARIO:"},{"$f":"+'I M P R I M I R'!E23","v":"<<<<>>>>NO COMPLETADO"},"2016-03-16",0,"465/16"]
[null,null,{"$f":"+'I M P R I M I R'!A24","v":"III"},{"$f":"+'I M P R I M I R'!D$3","v":0},null,{"$f":"+'I M P R I M I R'!B24","v":0},{"$f":"+'I M P R I M I R'!C24","v":0},{"$f":"+'I M P R I M I R'!D24","v":"NOTA/OBSERVACIÓN."},{"$f":"+'I M P R I M I R'!E24","v":"<<<<>>>>NO COMPLETADO"},"2016-03-16",0,"465/16"]
[null,null,{"$f":"+'I M P R I M I R'!A25","v":"III"},{"$f":"+'I M P R I M I R'!D$3","v":0},null,{"$f":"+'I M P R I M I R'!B25","v":0},{"$f":"+'I M P R I M I R'!C25","v":0},{"$f":"+'I M P R I M I R'!D25","v":"¿SOCIO/ACC. FUNDADOR? -SI/NO-:"},{"$f":"+'I M P R I M I R'!E25","v":"<<<<>>>>NO COMPLETADO"},"2016-03-16",0,"465/16"]
[null,null,{"$f":"+'I M P R I M I R'!A26","v":"III"},{"$f":"+'I M P R I M I R'!D$3","v":0},null,{"$f":"+'I M P R I M I R'!B26","v":0},{"$f":"+'I M P R I M I R'!C26","v":0},{"$f":"+'I M P R I M I R'!D26","v":"NOMBRE/S Y APLELLIDO/S DE QUIEN/ES ES CESIONARIO:"},{"$f":"+'I M P R I M I R'!E26","v":"<<<<>>>>NO COMPLETADO"},"2016-03-16",0,"465/16"]
[null,null,{"$f":"+'I M P R I M I R'!A27","v":"III"},{"$f":"+'I M P R I M I R'!D$3","v":0},null,{"$f":"+'I M P R I M I R'!B27","v":0},{"$f":"+'I M P R I M I R'!C27","v":0},{"$f":"+'I M P R I M I R'!D27","v":"NOTA/OBSERVACIÓN."},{"$f":"+'I M P R I M I R'!E27","v":"<<<<>>>>NO COMPLETADO"},"2016-03-16",0,"465/16"]
[null,null,{"$f":"+'I M P R I M I R'!A28","v":"III"},{"$f":"+'I M P R I M I R'!D$3","v":0},null,{"$f":"+'I M P R I M I R'!B28","v":0},{"$f":"+'I M P R I M I R'!C28","v":0},{"$f":"+'I M P R I M I R'!D28","v":"¿SOCIO/ACC. FUNDADOR? -SI/NO-:"},{"$f":"+'I M P R I M I R'!E28","v":"<<<<>>>>NO COMPLETADO"},"2016-03-16",0,"465/16"]
[null,null,{"$f":"+'I M P R I M I R'!A29","v":"III"},{"$f":"+'I M P R I M I R'!D$3","v":0},null,{"$f":"+'I M P R I M I R'!B29","v":0},{"$f":"+'I M P R I M I R'!C29","v":0},{"$f":"+'I M P R I M I R'!D29","v":"NOMBRE/S Y APLELLIDO/S DE QUIEN/ES ES CESIONARIO:"},{"$f":"+'I M P R I M I R'!E29","v":"<<<<>>>>NO COMPLETADO"},"2016-03-16",0,"465/16"]
[null,null,{"$f":"+'I M P R I M I R'!A30","v":"III"},{"$f":"+'I M P R I M I R'!D$3","v":0},null,{"$f":"+'I M P R I M I R'!B30","v":0},{"$f":"+'I M P R I M I R'!C30","v":0},{"$f":"+'I M P R I M I R'!D30","v":"NOTA/OBSERVACIÓN."},{"$f":"+'I M P R I M I R'!E30","v":"<<<<>>>>NO COMPLETADO"},"2016-03-16",0,"465/16"]
[null,null,{"$f":"+'I M P R I M I R'!A31","v":"III"},{"$f":"+'I M P R I M I R'!D$3","v":0},null,{"$f":"+'I M P R I M I R'!B31","v":0},{"$f":"+'I M P R I M I R'!C31","v":0},{"$f":"+'I M P R I M I R'!D31","v":"¿SOCIO/ACC. FUNDADOR? -SI/NO-:"},{"$f":"+'I M P R I M I R'!E31","v":"<<<<>>>>NO COMPLETADO"},"2016-03-16",0,"465/16"]
[null,null,{"$f":"+'I M P R I M I R'!A32","v":"III"},{"$f":"+'I M P R I M I R'!D$3","v":0},null,{"$f":"+'I M P R I M I R'!B32","v":0},{"$f":"+'I M P R I M I R'!C32","v":0},{"$f":"+'I M P R I M I R'!D32","v":"NOMBRE/S Y APLELLIDO/S DE QUIEN/ES ES CESIONARIO:"},{"$f":"+'I M P R I M I R'!E32","v":"<<<<>>>>NO COMPLETADO"},"2016-03-16",0,"465/16"]
[null,null,{"$f":"+'I M P R I M I R'!A33","v":"III"},{"$f":"+'I M P R I M I R'!D$3","v":0},null,{"$f":"+'I M P R I M I R'!B33","v":0},{"$f":"+'I M P R I M I R'!C33","v":0},{"$f":"+'I M P R I M I R'!D33","v":"NOTA/OBSERVACIÓN."},{"$f":"+'I M P R I M I R'!E33","v":"<<<<>>>>NO COMPLETADO"},"2016-03-16",0,"465/16"]
[null,null,{"$f":"+'I M P R I M I R'!A34","v":"III"},{"$f":"+'I M P R I M I R'!D$3","v":0},null,{"$f":"+'I M P R I M I R'!B34","v":0},{"$f":"+'I M P R I M I R'!C34","v":0},{"$f":"+'I M P R I M I R'!D34","v":"¿SOCIO/ACC. FUNDADOR? -SI/NO-:"},{"$f":"+'I M P R I M I R'!E34","v":"<<<<>>>>NO COMPLETADO"},"2016-03-16",0,"465/16"]
[null,null,{"$f":"+'I M P R I M I R'!A35","v":"III"},{"$f":"+'I M P R I M I R'!D$3","v":0},null,{"$f":"+'I M P R I M I R'!B35","v":0},{"$f":"+'I M P R I M I R'!C35","v":0},{"$f":"+'I M P R I M I R'!D35","v":"NOMBRE/S Y APLELLIDO/S DE QUIEN/ES ES CESIONARIO:"},{"$f":"+'I M P R I M I R'!E35","v":"<<<<>>>>NO COMPLETADO"},"2016-03-16",0,"465/16"]
[null,null,{"$f":"+'I M P R I M I R'!A36","v":"III"},{"$f":"+'I M P R I M I R'!D$3","v":0},null,{"$f":"+'I M P R I M I R'!B36","v":0},{"$f":"+'I M P R I M I R'!C36","v":0},{"$f":"+'I M P R I M I R'!D36","v":"NOTA/OBSERVACIÓN."},{"$f":"+'I M P R I M I R'!E36","v":"<<<<>>>>NO COMPLETADO"},"2016-03-16",0,"465/16"]
[null,null,{"$f":"+'I M P R I M I R'!A37","v":"III"},{"$f":"+'I M P R I M I R'!D$3","v":0},null,{"$f":"+'I M P R I M I R'!B37","v":0},{"$f":"+'I M P R I M I R'!C37","v":0},{"$f":"+'I M P R I M I R'!D37","v":"¿SOCIO/ACC. FUNDADOR? -SI/NO-:"},{"$f":"+'I M P R I M I R'!E37","v":"<<<<>>>>NO COMPLETADO"},"2016-03-16",0,"465/16"]
[null,null,{"$f":"+'I M P R I M I R'!A38","v":"III"},{"$f":"+'I M P R I M I R'!D$3","v":0},null,{"$f":"+'I M P R I M I R'!B38","v":0},{"$f":"+'I M P R I M I R'!C38","v":0},{"$f":"+'I M P R I M I R'!D38","v":"NOMBRE/S Y APLELLIDO/S DE QUIEN/ES ES CESIONARIO:"},{"$f":"+'I M P R I M I R'!E38","v":"<<<<>>>>NO COMPLETADO"},"2016-03-16",0,"465/16"]
[null,null,{"$f":"+'I M P R I M I R'!A39","v":"III"},{"$f":"+'I M P R I M I R'!D$3","v":0},null,{"$f":"+'I M P R I M I R'!B39","v":0},{"$f":"+'I M P R I M I R'!C39","v":0},{"$f":"+'I M P R I M I R'!D39","v":"NOTA/OBSERVACIÓN."},{"$f":"+'I M P R I M I R'!E39","v":"<<<<>>>>NO COMPLETADO"},"2016-03-16",0,"465/16"]
[null,null,{"$f":"+'I M P R I M I R'!A40","v":"III"},{"$f":"+'I M P R I M I R'!D$3","v":0},null,{"$f":"+'I M P R I M I R'!B40","v":0},{"$f":"+'I M P R I M I R'!C40","v":0},{"$f":"+'I M P R I M I R'!D40","v":"¿SOCIO/ACC. FUNDADOR? -SI/NO-:"},{"$f":"+'I M P R I M I R'!E40","v":"<<<<>>>>NO COMPLETADO"},"2016-03-16",0,"465/16"]
[null,null,{"$f":"+'I M P R I M I R'!A41","v":"III"},{"$f":"+'I M P R I M I R'!D$3","v":0},null,{"$f":"+'I M P R I M I R'!B41","v":0},{"$f":"+'I M P R I M I R'!C41","v":0},{"$f":"+'I M P R I M I R'!D41","v":"NOMBRE/S Y APLELLIDO/S DE QUIEN/ES ES CESIONARIO:"},{"$f":"+'I M P R I M I R'!E41","v":"<<<<>>>>NO COMPLETADO"},"2016-03-16",0,"465/16"]
[null,null,{"$f":"+'I M P R I M I R'!A42","v":"III"},{"$f":"+'I M P R I M I R'!D$3","v":0},null,{"$f":"+'I M P R I M I R'!B42","v":0},{"$f":"+'I M P R I M I R'!C42","v":0},{"$f":"+'I M P R I M I R'!D42","v":"NOTA/OBSERVACIÓN."},{"$f":"+'I M P R I M I R'!E42","v":"<<<<>>>>NO COMPLETADO"},"2016-03-16",0,"465/16"]
[null,null,{"$f":"+'I M P R I M I R'!A43","v":"III"},{"$f":"+'I M P R I M I R'!D$3","v":0},null,{"$f":"+'I M P R I M I R'!B43","v":0},{"$f":"+'I M P R I M I R'!C43","v":0},{"$f":"+'I M P R I M I R'!D43","v":"¿SOCIO/ACC. FUNDADOR? -SI/NO-:"},{"$f":"+'I M P R I M I R'!E43","v":"<<<<>>>>NO COMPLETADO"},"2016-03-16",0,"465/16"]
[null,null,{"$f":"+'I M P R I M I R'!A44","v":"III"},{"$f":"+'I M P R I M I R'!D$3","v":0},null,{"$f":"+'I M P R I M I R'!B44","v":0},{"$f":"+'I M P R I M I R'!C44","v":0},{"$f":"+'I M P R I M I R'!D44","v":"NOMBRE/S Y APLELLIDO/S DE QUIEN/ES ES CESIONARIO:"},{"$f":"+'I M P R I M I R'!E44","v":"<<<<>>>>NO COMPLETADO"},"2016-03-16",0,"465/16"]
[null,null,{"$f":"+'I M P R I M I R'!A45","v":"III"},{"$f":"+'I M P R I M I R'!D$3","v":0},null,{"$f":"+'I M P R I M I R'!B45","v":0},{"$f":"+'I M P R I M I R'!C45","v":0},{"$f":"+'I M P R I M I R'!D45","v":"NOTA/OBSERVACIÓN."},{"$f":"+'I M P R I M I R'!E45","v":"<<<<>>>>NO COMPLETADO"},"2016-03-16",0,"465/16"]
[null,null,{"$f":"+'I M P R I M I R'!A46","v":"III"},{"$f":"+'I M P R I M I R'!D$3","v":0},null,{"$f":"+'I M P R I M I R'!B46","v":0},{"$f":"+'I M P R I M I R'!C46","v":0},{"$f":"+'I M P R I M I R'!D46","v":"¿SOCIO/ACC. FUNDADOR? -SI/NO-:"},{"$f":"+'I M P R I M I R'!E46","v":"<<<<>>>>NO COMPLETADO"},"2016-03-16",0,"465/16"]
[null,null,{"$f":"+'I M P R I M I R'!A47","v":"III"},{"$f":"+'I M P R I M I R'!D$3","v":0},null,{"$f":"+'I M P R I M I R'!B47","v":0},{"$f":"+'I M P R I M I R'!C47","v":0},{"$f":"+'I M P R I M I R'!D47","v":"NOMBRE/S Y APLELLIDO/S DE QUIEN/ES ES CESIONARIO:"},{"$f":"+'I M P R I M I R'!E47","v":"<<<<>>>>NO COMPLETADO"},"2016-03-16",0,"465/16"]
[null,null,{"$f":"+'I M P R I M I R'!A48","v":"III"},{"$f":"+'I M P R I M I R'!D$3","v":0},null,{"$f":"+'I M P R I M I R'!B48","v":0},{"$f":"+'I M P R I M I R'!C48","v":0},{"$f":"+'I M P R I M I R'!D48","v":"NOTA/OBSERVACIÓN."},{"$f":"+'I M P R I M I R'!E48","v":"<<<<>>>>NO COMPLETADO"},"2016-03-16",0,"465/16"]
[null,null,{"$f":"+'I M P R I M I R'!A49","v":"III"},{"$f":"+'I M P R I M I R'!D$3","v":0},null,{"$f":"+'I M P R I M I R'!B49","v":0},{"$f":"+'I M P R I M I R'!C49","v":0},{"$f":"+'I M P R I M I R'!D49","v":"¿SOCIO/ACC. FUNDADOR? -SI/NO-:"},{"$f":"+'I M P R I M I R'!E49","v":"<<<<>>>>NO COMPLETADO"},"2016-03-16",0,"465/16"]
[null,null,{"$f":"+'I M P R I M I R'!A50","v":"III"},{"$f":"+'I M P R I M I R'!D$3","v":0},null,{"$f":"+'I M P R I M I R'!B50","v":0},{"$f":"+'I M P R I M I R'!C50","v":0},{"$f":"+'I M P R I M I R'!D50","v":"NOMBRE/S Y APLELLIDO/S DE QUIEN/ES ES CESIONARIO:"},{"$f":"+'I M P R I M I R'!E50","v":"<<<<>>>>NO COMPLETADO"},"2016-03-16",0,"465/16"]
[null,null,{"$f":"+'I M P R I M I R'!A51","v":"III"},{"$f":"+'I M P R I M I R'!D$3","v":0},null,{"$f":"+'I M P R I M I R'!B51","v":0},{"$f":"+'I M P R I M I R'!C51","v":0},{"$f":"+'I M P R I M I R'!D51","v":"NOTA/OBSERVACIÓN."},{"$f":"+'I M P R I M I R'!E51","v":"<<<<>>>>NO COMPLETADO"},"2016-03-16",0,"465/16"]
[null,null,{"$f":"+'I M P R I M I R'!A52","v":"III"},{"$f":"+'I M P R I M I R'!D$3","v":0},null,{"$f":"+'I M P R I M I R'!B52","v":0},{"$f":"+'I M P R I M I R'!C52","v":0},{"$f":"+'I M P R I M I R'!D52","v":"¿SOCIO/ACC. FUNDADOR? -SI/NO-:"},{"$f":"+'I M P R I M I R'!E52","v":"<<<<>>>>NO COMPLETADO"},"2016-03-16",0,"465/16"]
[null,null,{"$f":"+'I M P R I M I R'!A53","v":"III"},{"$f":"+'I M P R I M I R'!D$3","v":0},null,{"$f":"+'I M P R I M I R'!B53","v":0},{"$f":"+'I M P R I M I R'!C53","v":0},{"$f":"+'I M P R I M I R'!D53","v":"NOMBRE/S Y APLELLIDO/S DE QUIEN/ES ES CESIONARIO:"},{"$f":"+'I M P R I M I R'!E53","v":"<<<<>>>>NO COMPLETADO"},"2016-03-16",0,"465/16"]
[null,null,{"$f":"+'I M P R I M I R'!A54","v":"III"},{"$f":"+'I M P R I M I R'!D$3","v":0},null,{"$f":"+'I M P R I M I R'!B54","v":0},{"$f":"+'I M P R I M I R'!C54","v":0},{"$f":"+'I M P R I M I R'!D54","v":"NOTA/OBSERVACIÓN."},{"$f":"+'I M P R I M I R'!E54","v":"<<<<>>>>NO COMPLETADO"},"2016-03-16",0,"465/16"]
[null,null,{"$f":"+'I M P R I M I R'!A55","v":"III"},{"$f":"+'I M P R I M I R'!D$3","v":0},null,{"$f":"+'I M P R I M I R'!B55","v":0},{"$f":"+'I M P R I M I R'!C55","v":0},{"$f":"+'I M P R I M I R'!D55","v":"¿SOCIO/ACC. FUNDADOR? -SI/NO-:"},{"$f":"+'I M P R I M I R'!E55","v":"<<<<>>>>NO COMPLETADO"},"2016-03-16",0,"465/16"]
[null,null,{"$f":"+'I M P R I M I R'!A56","v":"III"},{"$f":"+'I M P R I M I R'!D$3","v":0},null,{"$f":"+'I M P R I M I R'!B56","v":0},{"$f":"+'I M P R I M I R'!C56","v":0},{"$f":"+'I M P R I M I R'!D56","v":"NOMBRE/S Y APLELLIDO/S DE QUIEN/ES ES CESIONARIO:"},{"$f":"+'I M P R I M I R'!E56","v":"<<<<>>>>NO COMPLETADO"},"2016-03-16",0,"465/16"]
[null,null,{"$f":"+'I M P R I M I R'!A57","v":"III"},{"$f":"+'I M P R I M I R'!D$3","v":0},null,{"$f":"+'I M P R I M I R'!B57","v":0},{"$f":"+'I M P R I M I R'!C57","v":0},{"$f":"+'I M P R I M I R'!D57","v":"NOTA/OBSERVACIÓN."},{"$f":"+'I M P R I M I R'!E57","v":"<<<<>>>>NO COMPLETADO"},"2016-03-16",0,"465/16"]
[null,null,{"$f":"+'I M P R I M I R'!A58","v":"III"},{"$f":"+'I M P R I M I R'!D$3","v":0},null,{"$f":"+'I M P R I M I R'!B58","v":0},{"$f":"+'I M P R I M I R'!C58","v":0},{"$f":"+'I M P R I M I R'!D58","v":"¿SOCIO/ACC. FUNDADOR? -SI/NO-:"},{"$f":"+'I M P R I M I R'!E58","v":"<<<<>>>>NO COMPLETADO"},"2016-03-16",0,"465/16"]
[null,null,{"$f":"+'I M P R I M I R'!A59","v":"III"},{"$f":"+'I M P R I M I R'!D$3","v":0},null,{"$f":"+'I M P R I M I R'!B59","v":0},{"$f":"+'I M P R I M I R'!C59","v":0},{"$f":"+'I M P R I M I R'!D59","v":"NOMBRE/S Y APLELLIDO/S DE QUIEN/ES ES CESIONARIO:"},{"$f":"+'I M P R I M I R'!E59","v":"<<<<>>>>NO COMPLETADO"},"2016-03-16",0,"465/16"]
[null,null,{"$f":"+'I M P R I M I R'!A60","v":"III"},{"$f":"+'I M P R I M I R'!D$3","v":0},null,{"$f":"+'I M P R I M I R'!B60","v":0},{"$f":"+'I M P R I M I R'!C60","v":0},{"$f":"+'I M P R I M I R'!D60","v":"NOTA/OBSERVACIÓN."},{"$f":"+'I M P R I M I R'!E60","v":"<<<<>>>>NO COMPLETADO"},"2016-03-16",0,"465/16"]
[null,null,{"$f":"+'I M P R I M I R'!A61","v":"III"},{"$f":"+'I M P R I M I R'!D$3","v":0},null,{"$f":"+'I M P R I M I R'!B61","v":0},{"$f":"+'I M P R I M I R'!C61","v":0},{"$f":"+'I M P R I M I R'!D61","v":"¿SOCIO/ACC. FUNDADOR? -SI/NO-:"},{"$f":"+'I M P R I M I R'!E61","v":"<<<<>>>>NO COMPLETADO"},"2016-03-16",0,"465/16"]
[null,null,{"$f":"+'I M P R I M I R'!A62","v":"III"},{"$f":"+'I M P R I M I R'!D$3","v":0},null,{"$f":"+'I M P R I M I R'!B62","v":0},{"$f":"+'I M P R I M I R'!C62","v":0},{"$f":"+'I M P R I M I R'!D62","v":"NOMBRE/S Y APLELLIDO/S DE QUIEN/ES ES CESIONARIO:"},{"$f":"+'I M P R I M I R'!E62","v":"<<<<>>>>NO COMPLETADO"},"2016-03-16",0,"465/16"]
[null,null,{"$f":"+'I M P R I M I R'!A63","v":"III"},{"$f":"+'I M P R I M I R'!D$3","v":0},null,{"$f":"+'I M P R I M I R'!B63","v":0},{"$f":"+'I M P R I M I R'!C63","v":0},{"$f":"+'I M P R I M I R'!D63","v":"NOTA/OBSERVACIÓN."},{"$f":"+'I M P R I M I R'!E63","v":"<<<<>>>>NO COMPLETADO"},"2016-03-16",0,"465/16"]
[null,null,{"$f":"+'I M P R I M I R'!A64","v":"III.%"},{"$f":"+'I M P R I M I R'!D$3","v":0},null,{"$f":"+'I M P R I M I R'!B64","v":0},{"$f":"+'I M P R I M I R'!C64","v":0},{"$f":"+'I M P R I M I R'!D64","v":"PARTICIPACIÓN S/CAPITAL (%):"},{"$f":"+'I M P R I M I R'!E64","v":"<<<<>>>>NO COMPLETADO"},"2016-03-16",0,"465/16"]
[null,null,{"$f":"+'I M P R I M I R'!A65","v":"III.%"},{"$f":"+'I M P R I M I R'!D$3","v":0},null,{"$f":"+'I M P R I M I R'!B65","v":0},{"$f":"+'I M P R I M I R'!C65","v":0},{"$f":"+'I M P R I M I R'!D65","v":"PARTICIPACIÓN S/CAPITAL (%):"},{"$f":"+'I M P R I M I R'!E65","v":"<<<<>>>>NO COMPLETADO"},"2016-03-16",0,"465/16"]
[null,null,{"$f":"+'I M P R I M I R'!A66","v":"III.%"},{"$f":"+'I M P R I M I R'!D$3","v":0},null,{"$f":"+'I M P R I M I R'!B66","v":0},{"$f":"+'I M P R I M I R'!C66","v":0},{"$f":"+'I M P R I M I R'!D66","v":"PARTICIPACIÓN S/CAPITAL (%):"},{"$f":"+'I M P R I M I R'!E66","v":"<<<<>>>>NO COMPLETADO"},"2016-03-16",0,"465/16"]
[null,null,{"$f":"+'I M P R I M I R'!A67","v":"III.%"},{"$f":"+'I M P R I M I R'!D$3","v":0},null,{"$f":"+'I M P R I M I R'!B67","v":0},{"$f":"+'I M P R I M I R'!C67","v":0},{"$f":"+'I M P R I M I R'!D67","v":"PARTICIPACIÓN S/CAPITAL (%):"},{"$f":"+'I M P R I M I R'!E67","v":"<<<<>>>>NO COMPLETADO"},"2016-03-16",0,"465/16"]
[null,null,{"$f":"+'I M P R I M I R'!A68","v":"III.%"},{"$f":"+'I M P R I M I R'!D$3","v":0},null,{"$f":"+'I M P R I M I R'!B68","v":0},{"$f":"+'I M P R I M I R'!C68","v":0},{"$f":"+'I M P R I M I R'!D68","v":"PARTICIPACIÓN S/CAPITAL (%):"},{"$f":"+'I M P R I M I R'!E68","v":"<<<<>>>>NO COMPLETADO"},"2016-03-16",0,"465/16"]
[null,null,{"$f":"+'I M P R I M I R'!A69","v":"III.%"},{"$f":"+'I M P R I M I R'!D$3","v":0},null,{"$f":"+'I M P R I M I R'!B69","v":0},{"$f":"+'I M P R I M I R'!C69","v":0},{"$f":"+'I M P R I M I R'!D69","v":"PARTICIPACIÓN S/CAPITAL (%):"},{"$f":"+'I M P R I M I R'!E69","v":"<<<<>>>>NO COMPLETADO"},"2016-03-16",0,"465/16"]
[null,null,{"$f":"+'I M P R I M I R'!A70","v":"III.%"},{"$f":"+'I M P R I M I R'!D$3","v":0},null,{"$f":"+'I M P R I M I R'!B70","v":0},{"$f":"+'I M P R I M I R'!C70","v":0},{"$f":"+'I M P R I M I R'!D70","v":"PARTICIPACIÓN S/CAPITAL (%):"},{"$f":"+'I M P R I M I R'!E70","v":"<<<<>>>>NO COMPLETADO"},"2016-03-16",0,"465/16"]
[null,null,{"$f":"+'I M P R I M I R'!A71","v":"III.%"},{"$f":"+'I M P R I M I R'!D$3","v":0},null,{"$f":"+'I M P R I M I R'!B71","v":0},{"$f":"+'I M P R I M I R'!C71","v":0},{"$f":"+'I M P R I M I R'!D71","v":"PARTICIPACIÓN S/CAPITAL (%):"},{"$f":"+'I M P R I M I R'!E71","v":"<<<<>>>>NO COMPLETADO"},"2016-03-16",0,"465/16"]
[null,null,{"$f":"+'I M P R I M I R'!A72","v":"III.%"},{"$f":"+'I M P R I M I R'!D$3","v":0},null,{"$f":"+'I M P R I M I R'!B72","v":0},{"$f":"+'I M P R I M I R'!C72","v":0},{"$f":"+'I M P R I M I R'!D72","v":"PARTICIPACIÓN S/CAPITAL (%):"},{"$f":"+'I M P R I M I R'!E72","v":"<<<<>>>>NO COMPLETADO"},{"$f":"+H$2","v":"2016-03-16"},{"$f":"H$4","v":0},{"$f":"+H$3","v":"465/16"}]
[null,null,{"$f":"+'I M P R I M I R'!A73","v":"III.%"},{"$f":"+'I M P R I M I R'!D$3","v":0},null,{"$f":"+'I M P R I M I R'!B73","v":0},{"$f":"+'I M P R I M I R'!C73","v":0},{"$f":"+'I M P R I M I R'!D73","v":"PARTICIPACIÓN S/CAPITAL (%):"},{"$f":"+'I M P R I M I R'!E73","v":"<<<<>>>>NO COMPLETADO"},"2016-03-16",0,"465/16"]
[null,null,{"$f":"+'I M P R I M I R'!A74","v":"III.%"},{"$f":"+'I M P R I M I R'!D$3","v":0},null,{"$f":"+'I M P R I M I R'!B74","v":0},{"$f":"+'I M P R I M I R'!C74","v":0},{"$f":"+'I M P R I M I R'!D74","v":"PARTICIPACIÓN S/CAPITAL (%):"},{"$f":"+'I M P R I M I R'!E74","v":"<<<<>>>>NO COMPLETADO"},"2016-03-16",0,"465/16"]
[null,null,{"$f":"+'I M P R I M I R'!A75","v":"III.%"},{"$f":"+'I M P R I M I R'!D$3","v":0},null,{"$f":"+'I M P R I M I R'!B75","v":0},{"$f":"+'I M P R I M I R'!C75","v":0},{"$f":"+'I M P R I M I R'!D75","v":"PARTICIPACIÓN S/CAPITAL (%):"},{"$f":"+'I M P R I M I R'!E75","v":"<<<<>>>>NO COMPLETADO"},"2016-03-16",0,"465/16"]
[null,null,{"$f":"+'I M P R I M I R'!A76","v":"III.%"},{"$f":"+'I M P R I M I R'!D$3","v":0},null,{"$f":"+'I M P R I M I R'!B76","v":0},{"$f":"+'I M P R I M I R'!C76","v":0},{"$f":"+'I M P R I M I R'!D76","v":"PARTICIPACIÓN S/CAPITAL (%):"},{"$f":"+'I M P R I M I R'!E76","v":"<<<<>>>>NO COMPLETADO"},"2016-03-16",0,"465/16"]
[null,null,{"$f":"+'I M P R I M I R'!A77","v":"III.%"},{"$f":"+'I M P R I M I R'!D$3","v":0},null,{"$f":"+'I M P R I M I R'!B77","v":0},{"$f":"+'I M P R I M I R'!C77","v":0},{"$f":"+'I M P R I M I R'!D77","v":"PARTICIPACIÓN S/CAPITAL (%):"},{"$f":"+'I M P R I M I R'!E77","v":"<<<<>>>>NO COMPLETADO"},"2016-03-16",0,"465/16"]
[null,null,{"$f":"+'I M P R I M I R'!A78","v":"III.CI"},{"$f":"+'I M P R I M I R'!D$3","v":0},null,{"$f":"+'I M P R I M I R'!B78","v":0},{"$f":"+'I M P R I M I R'!C78","v":0},{"$f":"+'I M P R I M I R'!D78","v":"CAPITAL INTEGRADO:"},{"$f":"+'I M P R I M I R'!E78","v":"<<<<>>>>NO COMPLETADO"},"2016-03-16",0,"465/16"]
[null,null,{"$f":"+'I M P R I M I R'!A79","v":"III.CI"},{"$f":"+'I M P R I M I R'!D$3","v":0},null,{"$f":"+'I M P R I M I R'!B79","v":0},{"$f":"+'I M P R I M I R'!C79","v":0},{"$f":"+'I M P R I M I R'!D79","v":"CAPITAL INTEGRADO:"},{"$f":"+'I M P R I M I R'!E79","v":"<<<<>>>>NO COMPLETADO"},"2016-03-16",0,"465/16"]
[null,null,{"$f":"+'I M P R I M I R'!A80","v":"III.CI"},{"$f":"+'I M P R I M I R'!D$3","v":0},null,{"$f":"+'I M P R I M I R'!B80","v":0},{"$f":"+'I M P R I M I R'!C80","v":0},{"$f":"+'I M P R I M I R'!D80","v":"CAPITAL INTEGRADO:"},{"$f":"+'I M P R I M I R'!E80","v":"<<<<>>>>NO COMPLETADO"},"2016-03-16",0,"465/16"]
[null,null,{"$f":"+'I M P R I M I R'!A81","v":"III.CI"},{"$f":"+'I M P R I M I R'!D$3","v":0},null,{"$f":"+'I M P R I M I R'!B81","v":0},{"$f":"+'I M P R I M I R'!C81","v":0},{"$f":"+'I M P R I M I R'!D81","v":"CAPITAL INTEGRADO:"},{"$f":"+'I M P R I M I R'!E81","v":"<<<<>>>>NO COMPLETADO"},"2016-03-16",0,"465/16"]
[null,null,{"$f":"+'I M P R I M I R'!A82","v":"III.CI"},{"$f":"+'I M P R I M I R'!D$3","v":0},null,{"$f":"+'I M P R I M I R'!B82","v":0},{"$f":"+'I M P R I M I R'!C82","v":0},{"$f":"+'I M P R I M I R'!D82","v":"CAPITAL INTEGRADO:"},{"$f":"+'I M P R I M I R'!E82","v":"<<<<>>>>NO COMPLETADO"},"2016-03-16",0,"465/16"]
[null,null,{"$f":"+'I M P R I M I R'!A83","v":"III.CI"},{"$f":"+'I M P R I M I R'!D$3","v":0},null,{"$f":"+'I M P R I M I R'!B83","v":0},{"$f":"+'I M P R I M I R'!C83","v":0},{"$f":"+'I M P R I M I R'!D83","v":"CAPITAL INTEGRADO:"},{"$f":"+'I M P R I M I R'!E83","v":"<<<<>>>>NO COMPLETADO"},"2016-03-16",0,"465/16"]
[null,null,{"$f":"+'I M P R I M I R'!A84","v":"III.CI"},{"$f":"+'I M P R I M I R'!D$3","v":0},null,{"$f":"+'I M P R I M I R'!B84","v":0},{"$f":"+'I M P R I M I R'!C84","v":0},{"$f":"+'I M P R I M I R'!D84","v":"CAPITAL INTEGRADO:"},{"$f":"+'I M P R I M I R'!E84","v":"<<<<>>>>NO COMPLETADO"},"2016-03-16",0,"465/16"]
[null,null,{"$f":"+'I M P R I M I R'!A85","v":"III.CI"},{"$f":"+'I M P R I M I R'!D$3","v":0},null,{"$f":"+'I M P R I M I R'!B85","v":0},{"$f":"+'I M P R I M I R'!C85","v":0},{"$f":"+'I M P R I M I R'!D85","v":"CAPITAL INTEGRADO:"},{"$f":"+'I M P R I M I R'!E85","v":"<<<<>>>>NO COMPLETADO"},"2016-03-16",0,"465/16"]
[null,null,{"$f":"+'I M P R I M I R'!A86","v":"III.CI"},{"$f":"+'I M P R I M I R'!D$3","v":0},null,{"$f":"+'I M P R I M I R'!B86","v":0},{"$f":"+'I M P R I M I R'!C86","v":0},{"$f":"+'I M P R I M I R'!D86","v":"CAPITAL INTEGRADO:"},{"$f":"+'I M P R I M I R'!E86","v":"<<<<>>>>NO COMPLETADO"},"2016-03-16",0,"465/16"]
[null,null,{"$f":"+'I M P R I M I R'!A87","v":"III.CI"},{"$f":"+'I M P R I M I R'!D$3","v":0},null,{"$f":"+'I M P R I M I R'!B87","v":0},{"$f":"+'I M P R I M I R'!C87","v":0},{"$f":"+'I M P R I M I R'!D87","v":"CAPITAL INTEGRADO:"},{"$f":"+'I M P R I M I R'!E87","v":"<<<<>>>>NO COMPLETADO"},"2016-03-16",0,"465/16"]
[null,null,{"$f":"+'I M P R I M I R'!A88","v":"III.CI"},{"$f":"+'I M P R I M I R'!D$3","v":0},null,{"$f":"+'I M P R I M I R'!B88","v":0},{"$f":"+'I M P R I M I R'!C88","v":0},{"$f":"+'I M P R I M I R'!D88","v":"CAPITAL INTEGRADO:"},{"$f":"+'I M P R I M I R'!E88","v":"<<<<>>>>NO COMPLETADO"},"2016-03-16",0,"465/16"]
[null,null,{"$f":"+'I M P R I M I R'!A89","v":"III.CI"},{"$f":"+'I M P R I M I R'!D$3","v":0},null,{"$f":"+'I M P R I M I R'!B89","v":0},{"$f":"+'I M P R I M I R'!C89","v":0},{"$f":"+'I M P R I M I R'!D89","v":"CAPITAL INTEGRADO:"},{"$f":"+'I M P R I M I R'!E89","v":"<<<<>>>>NO COMPLETADO"},"2016-03-16",0,"465/16"]
[null,null,{"$f":"+'I M P R I M I R'!A90","v":"III.CI"},{"$f":"+'I M P R I M I R'!D$3","v":0},null,{"$f":"+'I M P R I M I R'!B90","v":0},{"$f":"+'I M P R I M I R'!C90","v":0},{"$f":"+'I M P R I M I R'!D90","v":"CAPITAL INTEGRADO:"},{"$f":"+'I M P R I M I R'!E90","v":"<<<<>>>>NO COMPLETADO"},"2016-03-16",0,"465/16"]
[null,null,{"$f":"+'I M P R I M I R'!A91","v":"III.CI"},{"$f":"+'I M P R I M I R'!D$3","v":0},null,{"$f":"+'I M P R I M I R'!B91","v":0},{"$f":"+'I M P R I M I R'!C91","v":0},{"$f":"+'I M P R I M I R'!D91","v":"CAPITAL INTEGRADO:"},{"$f":"+'I M P R I M I R'!E91","v":"<<<<>>>>NO COMPLETADO"},"2016-03-16",0,"465/16"]
[null,null,{"$f":"+'I M P R I M I R'!A92","v":"III.CS"},{"$f":"+'I M P R I M I R'!D$3","v":0},null,{"$f":"+'I M P R I M I R'!B92","v":0},{"$f":"+'I M P R I M I R'!C92","v":0},{"$f":"+'I M P R I M I R'!D92","v":"CAPITAL SUSCRIPTO:"},{"$f":"+'I M P R I M I R'!E92","v":"<<<<>>>>NO COMPLETADO"},"2016-03-16",0,"465/16"]
[null,null,{"$f":"+'I M P R I M I R'!A93","v":"III.CS"},{"$f":"+'I M P R I M I R'!D$3","v":0},null,{"$f":"+'I M P R I M I R'!B93","v":0},{"$f":"+'I M P R I M I R'!C93","v":0},{"$f":"+'I M P R I M I R'!D93","v":"CAPITAL SUSCRIPTO:"},{"$f":"+'I M P R I M I R'!E93","v":"<<<<>>>>NO COMPLETADO"},"2016-03-16",0,"465/16"]
[null,null,{"$f":"+'I M P R I M I R'!A94","v":"III.CS"},{"$f":"+'I M P R I M I R'!D$3","v":0},null,{"$f":"+'I M P R I M I R'!B94","v":0},{"$f":"+'I M P R I M I R'!C94","v":0},{"$f":"+'I M P R I M I R'!D94","v":"CAPITAL SUSCRIPTO:"},{"$f":"+'I M P R I M I R'!E94","v":"<<<<>>>>NO COMPLETADO"},"2016-03-16",0,"465/16"]
[null,null,{"$f":"+'I M P R I M I R'!A95","v":"III.CS"},{"$f":"+'I M P R I M I R'!D$3","v":0},null,{"$f":"+'I M P R I M I R'!B95","v":0},{"$f":"+'I M P R I M I R'!C95","v":0},{"$f":"+'I M P R I M I R'!D95","v":"CAPITAL SUSCRIPTO:"},{"$f":"+'I M P R I M I R'!E95","v":"<<<<>>>>NO COMPLETADO"},"2016-03-16",0,"465/16"]
[null,null,{"$f":"+'I M P R I M I R'!A96","v":"III.CS"},{"$f":"+'I M P R I M I R'!D$3","v":0},null,{"$f":"+'I M P R I M I R'!B96","v":0},{"$f":"+'I M P R I M I R'!C96","v":0},{"$f":"+'I M P R I M I R'!D96","v":"CAPITAL SUSCRIPTO:"},{"$f":"+'I M P R I M I R'!E96","v":"<<<<>>>>NO COMPLETADO"},"2016-03-16",0,"465/16"]
[null,null,{"$f":"+'I M P R I M I R'!A97","v":"III.CS"},{"$f":"+'I M P R I M I R'!D$3","v":0},null,{"$f":"+'I M P R I M I R'!B97","v":0},{"$f":"+'I M P R I M I R'!C97","v":0},{"$f":"+'I M P R I M I R'!D97","v":"CAPITAL SUSCRIPTO:"},{"$f":"+'I M P R I M I R'!E97","v":"<<<<>>>>NO COMPLETADO"},"2016-03-16",0,"465/16"]
[null,null,{"$f":"+'I M P R I M I R'!A98","v":"III.CS"},{"$f":"+'I M P R I M I R'!D$3","v":0},null,{"$f":"+'I M P R I M I R'!B98","v":0},{"$f":"+'I M P R I M I R'!C98","v":0},{"$f":"+'I M P R I M I R'!D98","v":"CAPITAL SUSCRIPTO:"},{"$f":"+'I M P R I M I R'!E98","v":"<<<<>>>>NO COMPLETADO"},"2016-03-16",0,"465/16"]
[null,null,{"$f":"+'I M P R I M I R'!A99","v":"III.CS"},{"$f":"+'I M P R I M I R'!D$3","v":0},null,{"$f":"+'I M P R I M I R'!B99","v":0},{"$f":"+'I M P R I M I R'!C99","v":0},{"$f":"+'I M P R I M I R'!D99","v":"CAPITAL SUSCRIPTO:"},{"$f":"+'I M P R I M I R'!E99","v":"<<<<>>>>NO COMPLETADO"},"2016-03-16",0,"465/16"]
[null,null,{"$f":"+'I M P R I M I R'!A100","v":"III.CS"},{"$f":"+'I M P R I M I R'!D$3","v":0},null,{"$f":"+'I M P R I M I R'!B100","v":0},{"$f":"+'I M P R I M I R'!C100","v":0},{"$f":"+'I M P R I M I R'!D100","v":"CAPITAL SUSCRIPTO:"},{"$f":"+'I M P R I M I R'!E100","v":"<<<<>>>>NO COMPLETADO"},"2016-03-16",0,"465/16"]
[null,null,{"$f":"+'I M P R I M I R'!A101","v":"III.CS"},{"$f":"+'I M P R I M I R'!D$3","v":0},null,{"$f":"+'I M P R I M I R'!B101","v":0},{"$f":"+'I M P R I M I R'!C101","v":0},{"$f":"+'I M P R I M I R'!D101","v":"CAPITAL SUSCRIPTO:"},{"$f":"+'I M P R I M I R'!E101","v":"<<<<>>>>NO COMPLETADO"},"2016-03-16",0,"465/16"]
[null,null,{"$f":"+'I M P R I M I R'!A102","v":"III.CS"},{"$f":"+'I M P R I M I R'!D$3","v":0},null,{"$f":"+'I M P R I M I R'!B102","v":0},{"$f":"+'I M P R I M I R'!C102","v":0},{"$f":"+'I M P R I M I R'!D102","v":"CAPITAL SUSCRIPTO:"},{"$f":"+'I M P R I M I R'!E102","v":"<<<<>>>>NO COMPLETADO"},"2016-03-16",0,"465/16"]
[null,null,{"$f":"+'I M P R I M I R'!A103","v":"III.CS"},{"$f":"+'I M P R I M I R'!D$3","v":0},null,{"$f":"+'I M P R I M I R'!B103","v":0},{"$f":"+'I M P R I M I R'!C103","v":0},{"$f":"+'I M P R I M I R'!D103","v":"CAPITAL SUSCRIPTO:"},{"$f":"+'I M P R I M I R'!E103","v":"<<<<>>>>NO COMPLETADO"},"2016-03-16",0,"465/16"]
[null,null,{"$f":"+'I M P R I M I R'!A104","v":"III.CS"},{"$f":"+'I M P R I M I R'!D$3","v":0},null,{"$f":"+'I M P R I M I R'!B104","v":0},{"$f":"+'I M P R I M I R'!C104","v":0},{"$f":"+'I M P R I M I R'!D104","v":"CAPITAL SUSCRIPTO:"},{"$f":"+'I M P R I M I R'!E104","v":"<<<<>>>>NO COMPLETADO"},"2016-03-16",0,"465/16"]
[null,null,{"$f":"+'I M P R I M I R'!A105","v":"III.CS"},{"$f":"+'I M P R I M I R'!D$3","v":0},null,{"$f":"+'I M P R I M I R'!B105","v":0},{"$f":"+'I M P R I M I R'!C105","v":0},{"$f":"+'I M P R I M I R'!D105","v":"CAPITAL SUSCRIPTO:"},{"$f":"+'I M P R I M I R'!E105","v":"<<<<>>>>NO COMPLETADO"},"2016-03-16",0,"465/16"]
[null,null,{"$f":"+'I M P R I M I R'!A106","v":"III.CST"},{"$f":"+'I M P R I M I R'!D$3","v":0},null,{"$f":"+'I M P R I M I R'!B106","v":0},{"$f":"+'I M P R I M I R'!C106","v":0},{"$f":"+'I M P R I M I R'!D106","v":"CAPITAL SOCIAL:"},{"$f":"+'I M P R I M I R'!E106","v":"<<<<>>>>NO COMPLETADO"},"2016-03-16",0,"465/16"]
[null,null,{"$f":"+'I M P R I M I R'!A107","v":"III.Q"},{"$f":"+'I M P R I M I R'!D$3","v":0},null,{"$f":"+'I M P R I M I R'!B107","v":0},{"$f":"+'I M P R I M I R'!C107","v":0},{"$f":"+'I M P R I M I R'!D107","v":"TOTAL DE CUOTAS PARTES/ACCIONES:"},{"$f":"+'I M P R I M I R'!E107","v":"<<<<>>>>NO COMPLETADO"},"2016-03-16",0,"465/16"]
[null,null,{"$f":"+'I M P R I M I R'!A108","v":"III.Q"},{"$f":"+'I M P R I M I R'!D$3","v":0},null,{"$f":"+'I M P R I M I R'!B108","v":0},{"$f":"+'I M P R I M I R'!C108","v":0},{"$f":"+'I M P R I M I R'!D108","v":"NROS DE ACCIONES/CUOTAS TITULAR:"},{"$f":"+'I M P R I M I R'!E108","v":"<<<<>>>>NO COMPLETADO"},"2016-03-16",0,"465/16"]
[null,null,{"$f":"+'I M P R I M I R'!A109","v":"III.Q"},{"$f":"+'I M P R I M I R'!D$3","v":0},null,{"$f":"+'I M P R I M I R'!B109","v":0},{"$f":"+'I M P R I M I R'!C109","v":0},{"$f":"+'I M P R I M I R'!D109","v":"NROS DE ACCIONES/CUOTAS TITULAR:"},{"$f":"+'I M P R I M I R'!E109","v":"<<<<>>>>NO COMPLETADO"},"2016-03-16",0,"465/16"]
[null,null,{"$f":"+'I M P R I M I R'!A110","v":"III.Q"},{"$f":"+'I M P R I M I R'!D$3","v":0},null,{"$f":"+'I M P R I M I R'!B110","v":0},{"$f":"+'I M P R I M I R'!C110","v":0},{"$f":"+'I M P R I M I R'!D110","v":"NROS DE ACCIONES/CUOTAS TITULAR:"},{"$f":"+'I M P R I M I R'!E110","v":"<<<<>>>>NO COMPLETADO"},"2016-03-16",0,"465/16"]
[null,null,{"$f":"+'I M P R I M I R'!A111","v":"III.Q"},{"$f":"+'I M P R I M I R'!D$3","v":0},null,{"$f":"+'I M P R I M I R'!B111","v":0},{"$f":"+'I M P R I M I R'!C111","v":0},{"$f":"+'I M P R I M I R'!D111","v":"NROS DE ACCIONES/CUOTAS TITULAR:"},{"$f":"+'I M P R I M I R'!E111","v":"<<<<>>>>NO COMPLETADO"},"2016-03-16",0,"465/16"]
[null,null,{"$f":"+'I M P R I M I R'!A112","v":"III.Q"},{"$f":"+'I M P R I M I R'!D$3","v":0},null,{"$f":"+'I M P R I M I R'!B112","v":0},{"$f":"+'I M P R I M I R'!C112","v":0},{"$f":"+'I M P R I M I R'!D112","v":"NROS DE ACCIONES/CUOTAS TITULAR:"},{"$f":"+'I M P R I M I R'!E112","v":"<<<<>>>>NO COMPLETADO"},"2016-03-16",0,"465/16"]
[null,null,{"$f":"+'I M P R I M I R'!A113","v":"III.Q"},{"$f":"+'I M P R I M I R'!D$3","v":0},null,{"$f":"+'I M P R I M I R'!B113","v":0},{"$f":"+'I M P R I M I R'!C113","v":0},{"$f":"+'I M P R I M I R'!D113","v":"NROS DE ACCIONES/CUOTAS TITULAR:"},{"$f":"+'I M P R I M I R'!E113","v":"<<<<>>>>NO COMPLETADO"},"2016-03-16",0,"465/16"]
[null,null,{"$f":"+'I M P R I M I R'!A114","v":"III.Q"},{"$f":"+'I M P R I M I R'!D$3","v":0},null,{"$f":"+'I M P R I M I R'!B114","v":0},{"$f":"+'I M P R I M I R'!C114","v":0},{"$f":"+'I M P R I M I R'!D114","v":"NROS DE ACCIONES/CUOTAS TITULAR:"},{"$f":"+'I M P R I M I R'!E114","v":"<<<<>>>>NO COMPLETADO"},"2016-03-16",0,"465/16"]
[null,null,{"$f":"+'I M P R I M I R'!A115","v":"III.Q"},{"$f":"+'I M P R I M I R'!D$3","v":0},null,{"$f":"+'I M P R I M I R'!B115","v":0},{"$f":"+'I M P R I M I R'!C115","v":0},{"$f":"+'I M P R I M I R'!D115","v":"NROS DE ACCIONES/CUOTAS TITULAR:"},{"$f":"+'I M P R I M I R'!E115","v":"<<<<>>>>NO COMPLETADO"},"2016-03-16",0,"465/16"]
[null,null,{"$f":"+'I M P R I M I R'!A116","v":"III.Q"},{"$f":"+'I M P R I M I R'!D$3","v":0},null,{"$f":"+'I M P R I M I R'!B116","v":0},{"$f":"+'I M P R I M I R'!C116","v":0},{"$f":"+'I M P R I M I R'!D116","v":"NROS DE ACCIONES/CUOTAS TITULAR:"},{"$f":"+'I M P R I M I R'!E116","v":"<<<<>>>>NO COMPLETADO"},"2016-03-16",0,"465/16"]
[null,null,{"$f":"+'I M P R I M I R'!A117","v":"III.Q"},{"$f":"+'I M P R I M I R'!D$3","v":0},null,{"$f":"+'I M P R I M I R'!B117","v":0},{"$f":"+'I M P R I M I R'!C117","v":0},{"$f":"+'I M P R I M I R'!D117","v":"NROS DE ACCIONES/CUOTAS TITULAR:"},{"$f":"+'I M P R I M I R'!E117","v":"<<<<>>>>NO COMPLETADO"},"2016-03-16",0,"465/16"]
[null,null,{"$f":"+'I M P R I M I R'!A118","v":"III.Q"},{"$f":"+'I M P R I M I R'!D$3","v":0},null,{"$f":"+'I M P R I M I R'!B118","v":0},{"$f":"+'I M P R I M I R'!C118","v":0},{"$f":"+'I M P R I M I R'!D118","v":"NROS DE ACCIONES/CUOTAS TITULAR:"},{"$f":"+'I M P R I M I R'!E118","v":"<<<<>>>>NO COMPLETADO"},"2016-03-16",0,"465/16"]
[null,null,{"$f":"+'I M P R I M I R'!A119","v":"III.Q"},{"$f":"+'I M P R I M I R'!D$3","v":0},null,{"$f":"+'I M P R I M I R'!B119","v":0},{"$f":"+'I M P R I M I R'!C119","v":0},{"$f":"+'I M P R I M I R'!D119","v":"NROS DE ACCIONES/CUOTAS TITULAR:"},{"$f":"+'I M P R I M I R'!E119","v":"<<<<>>>>NO COMPLETADO"},"2016-03-16",0,"465/16"]
[null,null,{"$f":"+'I M P R I M I R'!A120","v":"III.Q"},{"$f":"+'I M P R I M I R'!D$3","v":0},null,{"$f":"+'I M P R I M I R'!B120","v":0},{"$f":"+'I M P R I M I R'!C120","v":0},{"$f":"+'I M P R I M I R'!D120","v":"NROS DE ACCIONES/CUOTAS TITULAR:"},{"$f":"+'I M P R I M I R'!E120","v":"<<<<>>>>NO COMPLETADO"},"2016-03-16",0,"465/16"]
[null,null,{"$f":"+'I M P R I M I R'!A121","v":"III.Q"},{"$f":"+'I M P R I M I R'!D$3","v":0},null,{"$f":"+'I M P R I M I R'!B121","v":0},{"$f":"+'I M P R I M I R'!C121","v":0},{"$f":"+'I M P R I M I R'!D121","v":"NROS DE ACCIONES/CUOTAS TITULAR:"},{"$f":"+'I M P R I M I R'!E121","v":"<<<<>>>>NO COMPLETADO"},"2016-03-16",0,"465/16"]
[null,null,{"$f":"+'I M P R I M I R'!A122","v":"IV"},{"$f":"+'I M P R I M I R'!D$3","v":0},null,{"$f":"+'I M P R I M I R'!B122","v":0},{"$f":"+'I M P R I M I R'!C122","v":0},{"$f":"+'I M P R I M I R'!D122","v":"NOMBRE CARGO REP. LEGAL QUE OCUPA:"},{"$f":"+'I M P R I M I R'!E122","v":"<<<<>>>>NO COMPLETADO"},"2016-03-16",0,"465/16"]
[null,null,{"$f":"+'I M P R I M I R'!A123","v":"IV"},{"$f":"+'I M P R I M I R'!D$3","v":0},null,{"$f":"+'I M P R I M I R'!B123","v":0},{"$f":"+'I M P R I M I R'!C123","v":0},{"$f":"+'I M P R I M I R'!D123","v":"NOMBRE CARGO REP. LEGAL QUE OCUPA:"},{"$f":"+'I M P R I M I R'!E123","v":"<<<<>>>>NO COMPLETADO"},"2016-03-16",0,"465/16"]
[null,null,{"$f":"+'I M P R I M I R'!A124","v":"IV"},{"$f":"+'I M P R I M I R'!D$3","v":0},null,{"$f":"+'I M P R I M I R'!B124","v":0},{"$f":"+'I M P R I M I R'!C124","v":0},{"$f":"+'I M P R I M I R'!D124","v":"NOMBRE CARGO REP. LEGAL QUE OCUPA:"},{"$f":"+'I M P R I M I R'!E124","v":"<<<<>>>>NO COMPLETADO"},"2016-03-16",0,"465/16"]
[null,null,{"$f":"+'I M P R I M I R'!A125","v":"IV"},{"$f":"+'I M P R I M I R'!D$3","v":0},null,{"$f":"+'I M P R I M I R'!B125","v":0},{"$f":"+'I M P R I M I R'!C125","v":0},{"$f":"+'I M P R I M I R'!D125","v":"NOMBRE CARGO REP. LEGAL QUE OCUPA:"},{"$f":"+'I M P R I M I R'!E125","v":"<<<<>>>>NO COMPLETADO"},"2016-03-16",0,"465/16"]
[null,null,{"$f":"+'I M P R I M I R'!A126","v":"IV"},{"$f":"+'I M P R I M I R'!D$3","v":0},null,{"$f":"+'I M P R I M I R'!B126","v":0},{"$f":"+'I M P R I M I R'!C126","v":0},{"$f":"+'I M P R I M I R'!D126","v":"NOMBRE CARGO REP. LEGAL QUE OCUPA:"},{"$f":"+'I M P R I M I R'!E126","v":"<<<<>>>>NO COMPLETADO"},"2016-03-16",0,"465/16"]
[null,null,{"$f":"+'I M P R I M I R'!A127","v":"IV"},{"$f":"+'I M P R I M I R'!D$3","v":0},null,{"$f":"+'I M P R I M I R'!B127","v":0},{"$f":"+'I M P R I M I R'!C127","v":0},{"$f":"+'I M P R I M I R'!D127","v":"NOMBRE CARGO REP. LEGAL QUE OCUPA:"},{"$f":"+'I M P R I M I R'!E127","v":"<<<<>>>>NO COMPLETADO"},"2016-03-16",0,"465/16"]
[null,null,{"$f":"+'I M P R I M I R'!A128","v":"IV"},{"$f":"+'I M P R I M I R'!D$3","v":0},null,{"$f":"+'I M P R I M I R'!B128","v":0},{"$f":"+'I M P R I M I R'!C128","v":0},{"$f":"+'I M P R I M I R'!D128","v":"NOMBRE CARGO REP. LEGAL QUE OCUPA:"},{"$f":"+'I M P R I M I R'!E128","v":"<<<<>>>>NO COMPLETADO"},"2016-03-16",0,"465/16"]
[null,null,{"$f":"+'I M P R I M I R'!A129","v":"IV"},{"$f":"+'I M P R I M I R'!D$3","v":0},null,{"$f":"+'I M P R I M I R'!B129","v":0},{"$f":"+'I M P R I M I R'!C129","v":0},{"$f":"+'I M P R I M I R'!D129","v":"NOMBRE CARGO REP. LEGAL QUE OCUPA:"},{"$f":"+'I M P R I M I R'!E129","v":"<<<<>>>>NO COMPLETADO"},"2016-03-16",0,"465/16"]
[null,null,{"$f":"+'I M P R I M I R'!A130","v":"IV"},{"$f":"+'I M P R I M I R'!D$3","v":0},null,{"$f":"+'I M P R I M I R'!B130","v":0},{"$f":"+'I M P R I M I R'!C130","v":0},{"$f":"+'I M P R I M I R'!D130","v":"NOMBRE CARGO REP. LEGAL QUE OCUPA:"},{"$f":"+'I M P R I M I R'!E130","v":"<<<<>>>>NO COMPLETADO"},"2016-03-16",0,"465/16"]
[null,null,{"$f":"+'I M P R I M I R'!A131","v":"IV"},{"$f":"+'I M P R I M I R'!D$3","v":0},null,{"$f":"+'I M P R I M I R'!B131","v":0},{"$f":"+'I M P R I M I R'!C131","v":0},{"$f":"+'I M P R I M I R'!D131","v":"NOMBRE CARGO REP. LEGAL QUE OCUPA:"},{"$f":"+'I M P R I M I R'!E131","v":"<<<<>>>>NO COMPLETADO"},"2016-03-16",0,"465/16"]
[null,null,{"$f":"+'I M P R I M I R'!A132","v":"IV"},{"$f":"+'I M P R I M I R'!D$3","v":0},null,{"$f":"+'I M P R I M I R'!B132","v":0},{"$f":"+'I M P R I M I R'!C132","v":0},{"$f":"+'I M P R I M I R'!D132","v":"NOMBRE CARGO REP. LEGAL QUE OCUPA:"},{"$f":"+'I M P R I M I R'!E132","v":"<<<<>>>>NO COMPLETADO"},"2016-03-16",0,"465/16"]
[null,null,{"$f":"+'I M P R I M I R'!A133","v":"IV"},{"$f":"+'I M P R I M I R'!D$3","v":0},null,{"$f":"+'I M P R I M I R'!B133","v":0},{"$f":"+'I M P R I M I R'!C133","v":0},{"$f":"+'I M P R I M I R'!D133","v":"NOMBRE CARGO REP. LEGAL QUE OCUPA:"},{"$f":"+'I M P R I M I R'!E133","v":"<<<<>>>>NO COMPLETADO"},"2016-03-16",0,"465/16"]
[null,null,{"$f":"+'I M P R I M I R'!A134","v":"IV"},{"$f":"+'I M P R I M I R'!D$3","v":0},null,{"$f":"+'I M P R I M I R'!B134","v":0},{"$f":"+'I M P R I M I R'!C134","v":0},{"$f":"+'I M P R I M I R'!D134","v":"NOMBRE CARGO REP. LEGAL QUE OCUPA:"},{"$f":"+'I M P R I M I R'!E134","v":"<<<<>>>>NO COMPLETADO"},"2016-03-16",0,"465/16"]
[null,null,{"$f":"+'I M P R I M I R'!A135","v":"IV"},{"$f":"+'I M P R I M I R'!D$3","v":0},null,{"$f":"+'I M P R I M I R'!B135","v":0},{"$f":"+'I M P R I M I R'!C135","v":0},{"$f":"+'I M P R I M I R'!D135","v":"NOMBRE CARGO REP. LEGAL QUE OCUPA:"},{"$f":"+'I M P R I M I R'!E135","v":"<<<<>>>>NO COMPLETADO"},"2016-03-16",0,"465/16"]
[null,null,{"$f":"+'I M P R I M I R'!A136","v":"IV"},{"$f":"+'I M P R I M I R'!D$3","v":0},null,{"$f":"+'I M P R I M I R'!B136","v":0},{"$f":"+'I M P R I M I R'!C136","v":0},{"$f":"+'I M P R I M I R'!D136","v":"NOMBRE CARGO REP. LEGAL QUE OCUPA:"},{"$f":"+'I M P R I M I R'!E136","v":"<<<<>>>>NO COMPLETADO"},{"$f":"+H$2","v":"2016-03-16"},{"$f":"H$4","v":0},{"$f":"+H$3","v":"465/16"}]
[null,null,{"$f":"+'I M P R I M I R'!A137","v":"IV"},{"$f":"+'I M P R I M I R'!D$3","v":0},null,{"$f":"+'I M P R I M I R'!B137","v":0},{"$f":"+'I M P R I M I R'!C137","v":0},{"$f":"+'I M P R I M I R'!D137","v":"NOMBRE CARGO REP. LEGAL QUE OCUPA:"},{"$f":"+'I M P R I M I R'!E137","v":"<<<<>>>>NO COMPLETADO"},"2016-03-16",0,"465/16"]
[null,null,{"$f":"+'I M P R I M I R'!A138","v":"IV"},{"$f":"+'I M P R I M I R'!D$3","v":0},null,{"$f":"+'I M P R I M I R'!B138","v":0},{"$f":"+'I M P R I M I R'!C138","v":0},{"$f":"+'I M P R I M I R'!D138","v":"NOMBRE CARGO REP. LEGAL QUE OCUPA:"},{"$f":"+'I M P R I M I R'!E138","v":"<<<<>>>>NO COMPLETADO"},"2016-03-16",0,"465/16"]
[null,null,{"$f":"+'I M P R I M I R'!A139","v":"IV"},{"$f":"+'I M P R I M I R'!D$3","v":0},null,{"$f":"+'I M P R I M I R'!B139","v":0},{"$f":"+'I M P R I M I R'!C139","v":0},{"$f":"+'I M P R I M I R'!D139","v":"NOMBRE CARGO REP. LEGAL QUE OCUPA:"},{"$f":"+'I M P R I M I R'!E139","v":"<<<<>>>>NO COMPLETADO"},"2016-03-16",0,"465/16"]
[null,null,{"$f":"+'I M P R I M I R'!A140","v":"IV"},{"$f":"+'I M P R I M I R'!D$3","v":0},null,{"$f":"+'I M P R I M I R'!B140","v":0},{"$f":"+'I M P R I M I R'!C140","v":0},{"$f":"+'I M P R I M I R'!D140","v":"NOMBRE CARGO REP. LEGAL QUE OCUPA:"},{"$f":"+'I M P R I M I R'!E140","v":"<<<<>>>>NO COMPLETADO"},"2016-03-16",0,"465/16"]
[null,null,{"$f":"+'I M P R I M I R'!A141","v":"IV"},{"$f":"+'I M P R I M I R'!D$3","v":0},null,{"$f":"+'I M P R I M I R'!B141","v":0},{"$f":"+'I M P R I M I R'!C141","v":0},{"$f":"+'I M P R I M I R'!D141","v":"NOMBRE CARGO REP. LEGAL QUE OCUPA:"},{"$f":"+'I M P R I M I R'!E141","v":"<<<<>>>>NO COMPLETADO"},"2016-03-16",0,"465/16"]
[null,null,{"$f":"+'I M P R I M I R'!A142","v":"IV"},{"$f":"+'I M P R I M I R'!D$3","v":0},null,{"$f":"+'I M P R I M I R'!B142","v":0},{"$f":"+'I M P R I M I R'!C142","v":0},{"$f":"+'I M P R I M I R'!D142","v":"NOMBRE CARGO REP. LEGAL QUE OCUPA:"},{"$f":"+'I M P R I M I R'!E142","v":"<<<<>>>>NO COMPLETADO"},"2016-03-16",0,"465/16"]
[null,null,{"$f":"+'I M P R I M I R'!A143","v":"IV"},{"$f":"+'I M P R I M I R'!D$3","v":0},null,{"$f":"+'I M P R I M I R'!B143","v":0},{"$f":"+'I M P R I M I R'!C143","v":0},{"$f":"+'I M P R I M I R'!D143","v":"NOMBRE CARGO REP. LEGAL QUE OCUPA:"},{"$f":"+'I M P R I M I R'!E143","v":"<<<<>>>>NO COMPLETADO"},"2016-03-16",0,"465/16"]
[null,null,{"$f":"+'I M P R I M I R'!A144","v":"IV"},{"$f":"+'I M P R I M I R'!D$3","v":0},null,{"$f":"+'I M P R I M I R'!B144","v":0},{"$f":"+'I M P R I M I R'!C144","v":0},{"$f":"+'I M P R I M I R'!D144","v":"NOMBRE CARGO REP. LEGAL QUE OCUPA:"},{"$f":"+'I M P R I M I R'!E144","v":"<<<<>>>>NO COMPLETADO"},"2016-03-16",0,"465/16"]
[null,null,{"$f":"+'I M P R I M I R'!A145","v":"IV"},{"$f":"+'I M P R I M I R'!D$3","v":0},null,{"$f":"+'I M P R I M I R'!B145","v":0},{"$f":"+'I M P R I M I R'!C145","v":0},{"$f":"+'I M P R I M I R'!D145","v":"NOMBRE CARGO REP. LEGAL QUE OCUPA:"},{"$f":"+'I M P R I M I R'!E145","v":"<<<<>>>>NO COMPLETADO"},"2016-03-16",0,"465/16"]
[null,null,{"$f":"+'I M P R I M I R'!A146","v":"IV"},{"$f":"+'I M P R I M I R'!D$3","v":0},null,{"$f":"+'I M P R I M I R'!B146","v":0},{"$f":"+'I M P R I M I R'!C146","v":0},{"$f":"+'I M P R I M I R'!D146","v":"NOMBRE CARGO REP. LEGAL QUE OCUPA:"},{"$f":"+'I M P R I M I R'!E146","v":"<<<<>>>>NO COMPLETADO"},"2016-03-16",0,"465/16"]
[null,null,{"$f":"+'I M P R I M I R'!A147","v":"IV"},{"$f":"+'I M P R I M I R'!D$3","v":0},null,{"$f":"+'I M P R I M I R'!B147","v":0},{"$f":"+'I M P R I M I R'!C147","v":0},{"$f":"+'I M P R I M I R'!D147","v":"NOMBRE CARGO REP. LEGAL QUE OCUPA:"},{"$f":"+'I M P R I M I R'!E147","v":"<<<<>>>>NO COMPLETADO"},"2016-03-16",0,"465/16"]
[null,null,{"$f":"+'I M P R I M I R'!A148","v":"IV"},{"$f":"+'I M P R I M I R'!D$3","v":0},null,{"$f":"+'I M P R I M I R'!B148","v":0},{"$f":"+'I M P R I M I R'!C148","v":0},{"$f":"+'I M P R I M I R'!D148","v":"NOMBRE CARGO REP. LEGAL QUE OCUPA:"},{"$f":"+'I M P R I M I R'!E148","v":"<<<<>>>>NO COMPLETADO"},"2016-03-16",0,"465/16"]
[null,null,{"$f":"+'I M P R I M I R'!A149","v":"IV"},{"$f":"+'I M P R I M I R'!D$3","v":0},null,{"$f":"+'I M P R I M I R'!B149","v":0},{"$f":"+'I M P R I M I R'!C149","v":0},{"$f":"+'I M P R I M I R'!D149","v":"NOMBRE CARGO REP. LEGAL QUE OCUPA:"},{"$f":"+'I M P R I M I R'!E149","v":"<<<<>>>>NO COMPLETADO"},"2016-03-16",0,"465/16"]
[null,null,{"$f":"+'I M P R I M I R'!A150","v":"IV"},{"$f":"+'I M P R I M I R'!D$3","v":0},null,{"$f":"+'I M P R I M I R'!B150","v":0},{"$f":"+'I M P R I M I R'!C150","v":0},{"$f":"+'I M P R I M I R'!D150","v":"NOMBRE CARGO REP. LEGAL QUE OCUPA:"},{"$f":"+'I M P R I M I R'!E150","v":"<<<<>>>>NO COMPLETADO"},"2016-03-16",0,"465/16"]
[null,null,{"$f":"+'I M P R I M I R'!A151","v":"NS"},{"$f":"+'I M P R I M I R'!D$3","v":0},null,{"$f":"+'I M P R I M I R'!B151","v":0},{"$f":"+'I M P R I M I R'!C151","v":0},{"$f":"+'I M P R I M I R'!D151","v":"DOC. IDENTIDAD –sin puntos-: ……………………"},{"$f":"+'I M P R I M I R'!E151","v":"<<<<>>>>NO COMPLETADO"},"2016-03-16",0,"465/16"]
[null,null,{"$f":"+'I M P R I M I R'!A152","v":"NS"},{"$f":"+'I M P R I M I R'!D$3","v":0},null,{"$f":"+'I M P R I M I R'!B152","v":0},{"$f":"+'I M P R I M I R'!C152","v":0},{"$f":"+'I M P R I M I R'!D152","v":"CUIT/CUIL –sin puntos ni barras-:"},{"$f":"+'I M P R I M I R'!E152","v":"<<<<>>>>NO COMPLETADO"},"2016-03-16",0,"465/16"]
[null,null,{"$f":"+'I M P R I M I R'!A153","v":"NS"},{"$f":"+'I M P R I M I R'!D$3","v":0},null,{"$f":"+'I M P R I M I R'!B153","v":0},{"$f":"+'I M P R I M I R'!C153","v":0},{"$f":"+'I M P R I M I R'!D153","v":"FECHA DE NACIMIENTO –dd/mm/aa-:"},{"$f":"+'I M P R I M I R'!E153","v":"<<<<>>>>NO COMPLETADO"},"2016-03-16",0,"465/16"]
[null,null,{"$f":"+'I M P R I M I R'!A154","v":"NS"},{"$f":"+'I M P R I M I R'!D$3","v":0},null,{"$f":"+'I M P R I M I R'!B154","v":0},{"$f":"+'I M P R I M I R'!C154","v":0},{"$f":"+'I M P R I M I R'!D154","v":"LUGAR DE NACIMIENTO:"},{"$f":"+'I M P R I M I R'!E154","v":"<<<<>>>>NO COMPLETADO"},"2016-03-16",0,"465/16"]
[null,null,{"$f":"+'I M P R I M I R'!A155","v":"NS"},{"$f":"+'I M P R I M I R'!D$3","v":0},null,{"$f":"+'I M P R I M I R'!B155","v":0},{"$f":"+'I M P R I M I R'!C155","v":0},{"$f":"+'I M P R I M I R'!D155","v":"NACIONALIDAD:"},{"$f":"+'I M P R I M I R'!E155","v":"<<<<>>>>NO COMPLETADO"},"2016-03-16",0,"465/16"]
[null,null,{"$f":"+'I M P R I M I R'!A156","v":"NS"},{"$f":"+'I M P R I M I R'!D$3","v":0},null,{"$f":"+'I M P R I M I R'!B156","v":0},{"$f":"+'I M P R I M I R'!C156","v":0},{"$f":"+'I M P R I M I R'!D156","v":"PROFESIÓN:"},{"$f":"+'I M P R I M I R'!E156","v":"<<<<>>>>NO COMPLETADO"},"2016-03-16",0,"465/16"]
[null,null,{"$f":"+'I M P R I M I R'!A157","v":"NS"},{"$f":"+'I M P R I M I R'!D$3","v":0},null,{"$f":"+'I M P R I M I R'!B157","v":0},{"$f":"+'I M P R I M I R'!C157","v":0},{"$f":"+'I M P R I M I R'!D157","v":"DOMICILIO REAL:"},{"$f":"+'I M P R I M I R'!E157","v":"<<<<>>>>NO COMPLETADO"},"2016-03-16",0,"465/16"]
[null,null,{"$f":"+'I M P R I M I R'!A158","v":"NS"},{"$f":"+'I M P R I M I R'!D$3","v":0},null,{"$f":"+'I M P R I M I R'!B158","v":0},{"$f":"+'I M P R I M I R'!C158","v":0},{"$f":"+'I M P R I M I R'!D158","v":"CEL/TEL –sin puntos ni barras-:"},{"$f":"+'I M P R I M I R'!E158","v":"<<<<>>>>NO COMPLETADO"},"2016-03-16",0,"465/16"]
[null,null,{"$f":"+'I M P R I M I R'!A159","v":"NS"},{"$f":"+'I M P R I M I R'!D$3","v":0},null,{"$f":"+'I M P R I M I R'!B159","v":0},{"$f":"+'I M P R I M I R'!C159","v":0},{"$f":"+'I M P R I M I R'!D159","v":"EMAIL:"},{"$f":"+'I M P R I M I R'!E159","v":"<<<<>>>>NO COMPLETADO"},"2016-03-16",0,"465/16"]
[null,null,{"$f":"+'I M P R I M I R'!A160","v":"NS"},{"$f":"+'I M P R I M I R'!D$3","v":0},null,{"$f":"+'I M P R I M I R'!B160","v":0},{"$f":"+'I M P R I M I R'!C160","v":0},{"$f":"+'I M P R I M I R'!D160","v":"ESTADO CIVIL:"},{"$f":"+'I M P R I M I R'!E160","v":"<<<<>>>>NO COMPLETADO"},"2016-03-16",0,"465/16"]
[null,null,{"$f":"+'I M P R I M I R'!A161","v":"NS"},{"$f":"+'I M P R I M I R'!D$3","v":0},null,{"$f":"+'I M P R I M I R'!B161","v":0},{"$f":"+'I M P R I M I R'!C161","v":0},{"$f":"+'I M P R I M I R'!D161","v":"APELLIDO/S CÓNYUGE:"},{"$f":"+'I M P R I M I R'!E161","v":"<<<<>>>>NO COMPLETADO"},"2016-03-16",0,"465/16"]
[null,null,{"$f":"+'I M P R I M I R'!A162","v":"NS"},{"$f":"+'I M P R I M I R'!D$3","v":0},null,{"$f":"+'I M P R I M I R'!B162","v":0},{"$f":"+'I M P R I M I R'!C162","v":0},{"$f":"+'I M P R I M I R'!D162","v":"NOMBRE/S CÓNYUGE"},{"$f":"+'I M P R I M I R'!E162","v":"<<<<>>>>NO COMPLETADO"},"2016-03-16",0,"465/16"]
[null,null,{"$f":"+'I M P R I M I R'!A163","v":"NS"},{"$f":"+'I M P R I M I R'!D$3","v":0},null,{"$f":"+'I M P R I M I R'!B163","v":0},{"$f":"+'I M P R I M I R'!C163","v":0},{"$f":"+'I M P R I M I R'!D163","v":"DOC. IDENTIDAD (cónyuge) –sin puntos ni barras-: "},{"$f":"+'I M P R I M I R'!E163","v":"<<<<>>>>NO COMPLETADO"},"2016-03-16",0,"465/16"]
[null,null,{"$f":"+'I M P R I M I R'!A164","v":"NS"},{"$f":"+'I M P R I M I R'!D$3","v":0},null,{"$f":"+'I M P R I M I R'!B164","v":0},{"$f":"+'I M P R I M I R'!C164","v":0},{"$f":"+'I M P R I M I R'!D164","v":"NOTA/OBSERVACIÓN."},{"$f":"+'I M P R I M I R'!E164","v":"<<<<>>>>NO COMPLETADO"},"2016-03-16",0,"465/16"]
[null,null,{"$f":"+'I M P R I M I R'!A165","v":"NS"},{"$f":"+'I M P R I M I R'!D$3","v":0},null,{"$f":"+'I M P R I M I R'!B165","v":0},{"$f":"+'I M P R I M I R'!C165","v":0},{"$f":"+'I M P R I M I R'!D165","v":"DOC. IDENTIDAD –sin puntos-: ……………………"},{"$f":"+'I M P R I M I R'!E165","v":"<<<<>>>>NO COMPLETADO"},"2016-03-16",0,"465/16"]
[null,null,{"$f":"+'I M P R I M I R'!A166","v":"NS"},{"$f":"+'I M P R I M I R'!D$3","v":0},null,{"$f":"+'I M P R I M I R'!B166","v":0},{"$f":"+'I M P R I M I R'!C166","v":0},{"$f":"+'I M P R I M I R'!D166","v":"CUIT/CUIL –sin puntos ni barras-:"},{"$f":"+'I M P R I M I R'!E166","v":"<<<<>>>>NO COMPLETADO"},"2016-03-16",0,"465/16"]
[null,null,{"$f":"+'I M P R I M I R'!A167","v":"NS"},{"$f":"+'I M P R I M I R'!D$3","v":0},null,{"$f":"+'I M P R I M I R'!B167","v":0},{"$f":"+'I M P R I M I R'!C167","v":0},{"$f":"+'I M P R I M I R'!D167","v":"FECHA DE NACIMIENTO –dd/mm/aa-:"},{"$f":"+'I M P R I M I R'!E167","v":"<<<<>>>>NO COMPLETADO"},"2016-03-16",0,"465/16"]
[null,null,{"$f":"+'I M P R I M I R'!A168","v":"NS"},{"$f":"+'I M P R I M I R'!D$3","v":0},null,{"$f":"+'I M P R I M I R'!B168","v":0},{"$f":"+'I M P R I M I R'!C168","v":0},{"$f":"+'I M P R I M I R'!D168","v":"LUGAR DE NACIMIENTO:"},{"$f":"+'I M P R I M I R'!E168","v":"<<<<>>>>NO COMPLETADO"},"2016-03-16",0,"465/16"]
[null,null,{"$f":"+'I M P R I M I R'!A169","v":"NS"},{"$f":"+'I M P R I M I R'!D$3","v":0},null,{"$f":"+'I M P R I M I R'!B169","v":0},{"$f":"+'I M P R I M I R'!C169","v":0},{"$f":"+'I M P R I M I R'!D169","v":"NACIONALIDAD:"},{"$f":"+'I M P R I M I R'!E169","v":"<<<<>>>>NO COMPLETADO"},"2016-03-16",0,"465/16"]
[null,null,{"$f":"+'I M P R I M I R'!A170","v":"NS"},{"$f":"+'I M P R I M I R'!D$3","v":0},null,{"$f":"+'I M P R I M I R'!B170","v":0},{"$f":"+'I M P R I M I R'!C170","v":0},{"$f":"+'I M P R I M I R'!D170","v":"PROFESIÓN:"},{"$f":"+'I M P R I M I R'!E170","v":"<<<<>>>>NO COMPLETADO"},"2016-03-16",0,"465/16"]
[null,null,{"$f":"+'I M P R I M I R'!A171","v":"NS"},{"$f":"+'I M P R I M I R'!D$3","v":0},null,{"$f":"+'I M P R I M I R'!B171","v":0},{"$f":"+'I M P R I M I R'!C171","v":0},{"$f":"+'I M P R I M I R'!D171","v":"DOMICILIO REAL:"},{"$f":"+'I M P R I M I R'!E171","v":"<<<<>>>>NO COMPLETADO"},"2016-03-16",0,"465/16"]
[null,null,{"$f":"+'I M P R I M I R'!A172","v":"NS"},{"$f":"+'I M P R I M I R'!D$3","v":0},null,{"$f":"+'I M P R I M I R'!B172","v":0},{"$f":"+'I M P R I M I R'!C172","v":0},{"$f":"+'I M P R I M I R'!D172","v":"CEL/TEL –sin puntos ni barras-:"},{"$f":"+'I M P R I M I R'!E172","v":"<<<<>>>>NO COMPLETADO"},"2016-03-16",0,"465/16"]
[null,null,{"$f":"+'I M P R I M I R'!A173","v":"NS"},{"$f":"+'I M P R I M I R'!D$3","v":0},null,{"$f":"+'I M P R I M I R'!B173","v":0},{"$f":"+'I M P R I M I R'!C173","v":0},{"$f":"+'I M P R I M I R'!D173","v":"EMAIL:"},{"$f":"+'I M P R I M I R'!E173","v":"<<<<>>>>NO COMPLETADO"},"2016-03-16",0,"465/16"]
[null,null,{"$f":"+'I M P R I M I R'!A174","v":"NS"},{"$f":"+'I M P R I M I R'!D$3","v":0},null,{"$f":"+'I M P R I M I R'!B174","v":0},{"$f":"+'I M P R I M I R'!C174","v":0},{"$f":"+'I M P R I M I R'!D174","v":"ESTADO CIVIL:"},{"$f":"+'I M P R I M I R'!E174","v":"<<<<>>>>NO COMPLETADO"},"2016-03-16",0,"465/16"]
[null,null,{"$f":"+'I M P R I M I R'!A175","v":"NS"},{"$f":"+'I M P R I M I R'!D$3","v":0},null,{"$f":"+'I M P R I M I R'!B175","v":0},{"$f":"+'I M P R I M I R'!C175","v":0},{"$f":"+'I M P R I M I R'!D175","v":"APELLIDO/S CÓNYUGE:"},{"$f":"+'I M P R I M I R'!E175","v":"<<<<>>>>NO COMPLETADO"},"2016-03-16",0,"465/16"]
[null,null,{"$f":"+'I M P R I M I R'!A176","v":"NS"},{"$f":"+'I M P R I M I R'!D$3","v":0},null,{"$f":"+'I M P R I M I R'!B176","v":0},{"$f":"+'I M P R I M I R'!C176","v":0},{"$f":"+'I M P R I M I R'!D176","v":"NOMBRE/S CÓNYUGE"},{"$f":"+'I M P R I M I R'!E176","v":"<<<<>>>>NO COMPLETADO"},"2016-03-16",0,"465/16"]
[null,null,{"$f":"+'I M P R I M I R'!A177","v":"NS"},{"$f":"+'I M P R I M I R'!D$3","v":0},null,{"$f":"+'I M P R I M I R'!B177","v":0},{"$f":"+'I M P R I M I R'!C177","v":0},{"$f":"+'I M P R I M I R'!D177","v":"DOC. IDENTIDAD (cónyuge) –sin puntos ni barras-: "},{"$f":"+'I M P R I M I R'!E177","v":"<<<<>>>>NO COMPLETADO"},"2016-03-16",0,"465/16"]
[null,null,{"$f":"+'I M P R I M I R'!A178","v":"NS"},{"$f":"+'I M P R I M I R'!D$3","v":0},null,{"$f":"+'I M P R I M I R'!B178","v":0},{"$f":"+'I M P R I M I R'!C178","v":0},{"$f":"+'I M P R I M I R'!D178","v":"NOTA/OBSERVACIÓN."},{"$f":"+'I M P R I M I R'!E178","v":"<<<<>>>>NO COMPLETADO"},"2016-03-16",0,"465/16"]
[null,null,{"$f":"+'I M P R I M I R'!A179","v":"NS"},{"$f":"+'I M P R I M I R'!D$3","v":0},null,{"$f":"+'I M P R I M I R'!B179","v":0},{"$f":"+'I M P R I M I R'!C179","v":0},{"$f":"+'I M P R I M I R'!D179","v":"DOC. IDENTIDAD –sin puntos-: ……………………"},{"$f":"+'I M P R I M I R'!E179","v":"<<<<>>>>NO COMPLETADO"},"2016-03-16",0,"465/16"]
[null,null,{"$f":"+'I M P R I M I R'!A180","v":"NS"},{"$f":"+'I M P R I M I R'!D$3","v":0},null,{"$f":"+'I M P R I M I R'!B180","v":0},{"$f":"+'I M P R I M I R'!C180","v":0},{"$f":"+'I M P R I M I R'!D180","v":"CUIT/CUIL –sin puntos ni barras-:"},{"$f":"+'I M P R I M I R'!E180","v":"<<<<>>>>NO COMPLETADO"},"2016-03-16",0,"465/16"]
[null,null,{"$f":"+'I M P R I M I R'!A181","v":"NS"},{"$f":"+'I M P R I M I R'!D$3","v":0},null,{"$f":"+'I M P R I M I R'!B181","v":0},{"$f":"+'I M P R I M I R'!C181","v":0},{"$f":"+'I M P R I M I R'!D181","v":"FECHA DE NACIMIENTO –dd/mm/aa-:"},{"$f":"+'I M P R I M I R'!E181","v":"<<<<>>>>NO COMPLETADO"},"2016-03-16",0,"465/16"]
[null,null,{"$f":"+'I M P R I M I R'!A182","v":"NS"},{"$f":"+'I M P R I M I R'!D$3","v":0},null,{"$f":"+'I M P R I M I R'!B182","v":0},{"$f":"+'I M P R I M I R'!C182","v":0},{"$f":"+'I M P R I M I R'!D182","v":"LUGAR DE NACIMIENTO:"},{"$f":"+'I M P R I M I R'!E182","v":"<<<<>>>>NO COMPLETADO"},"2016-03-16",0,"465/16"]
[null,null,{"$f":"+'I M P R I M I R'!A183","v":"NS"},{"$f":"+'I M P R I M I R'!D$3","v":0},null,{"$f":"+'I M P R I M I R'!B183","v":0},{"$f":"+'I M P R I M I R'!C183","v":0},{"$f":"+'I M P R I M I R'!D183","v":"NACIONALIDAD:"},{"$f":"+'I M P R I M I R'!E183","v":"<<<<>>>>NO COMPLETADO"},"2016-03-16",0,"465/16"]
[null,null,{"$f":"+'I M P R I M I R'!A184","v":"NS"},{"$f":"+'I M P R I M I R'!D$3","v":0},null,{"$f":"+'I M P R I M I R'!B184","v":0},{"$f":"+'I M P R I M I R'!C184","v":0},{"$f":"+'I M P R I M I R'!D184","v":"PROFESIÓN:"},{"$f":"+'I M P R I M I R'!E184","v":"<<<<>>>>NO COMPLETADO"},"2016-03-16",0,"465/16"]
[null,null,{"$f":"+'I M P R I M I R'!A185","v":"NS"},{"$f":"+'I M P R I M I R'!D$3","v":0},null,{"$f":"+'I M P R I M I R'!B185","v":0},{"$f":"+'I M P R I M I R'!C185","v":0},{"$f":"+'I M P R I M I R'!D185","v":"DOMICILIO REAL:"},{"$f":"+'I M P R I M I R'!E185","v":"<<<<>>>>NO COMPLETADO"},"2016-03-16",0,"465/16"]
[null,null,{"$f":"+'I M P R I M I R'!A186","v":"NS"},{"$f":"+'I M P R I M I R'!D$3","v":0},null,{"$f":"+'I M P R I M I R'!B186","v":0},{"$f":"+'I M P R I M I R'!C186","v":0},{"$f":"+'I M P R I M I R'!D186","v":"CEL/TEL –sin puntos ni barras-:"},{"$f":"+'I M P R I M I R'!E186","v":"<<<<>>>>NO COMPLETADO"},"2016-03-16",0,"465/16"]
[null,null,{"$f":"+'I M P R I M I R'!A187","v":"NS"},{"$f":"+'I M P R I M I R'!D$3","v":0},null,{"$f":"+'I M P R I M I R'!B187","v":0},{"$f":"+'I M P R I M I R'!C187","v":0},{"$f":"+'I M P R I M I R'!D187","v":"EMAIL:"},{"$f":"+'I M P R I M I R'!E187","v":"<<<<>>>>NO COMPLETADO"},"2016-03-16",0,"465/16"]
[null,null,{"$f":"+'I M P R I M I R'!A188","v":"NS"},{"$f":"+'I M P R I M I R'!D$3","v":0},null,{"$f":"+'I M P R I M I R'!B188","v":0},{"$f":"+'I M P R I M I R'!C188","v":0},{"$f":"+'I M P R I M I R'!D188","v":"ESTADO CIVIL:"},{"$f":"+'I M P R I M I R'!E188","v":"<<<<>>>>NO COMPLETADO"},"2016-03-16",0,"465/16"]
[null,null,{"$f":"+'I M P R I M I R'!A189","v":"NS"},{"$f":"+'I M P R I M I R'!D$3","v":0},null,{"$f":"+'I M P R I M I R'!B189","v":0},{"$f":"+'I M P R I M I R'!C189","v":0},{"$f":"+'I M P R I M I R'!D189","v":"APELLIDO/S CÓNYUGE:"},{"$f":"+'I M P R I M I R'!E189","v":"<<<<>>>>NO COMPLETADO"},"2016-03-16",0,"465/16"]
[null,null,{"$f":"+'I M P R I M I R'!A190","v":"NS"},{"$f":"+'I M P R I M I R'!D$3","v":0},null,{"$f":"+'I M P R I M I R'!B190","v":0},{"$f":"+'I M P R I M I R'!C190","v":0},{"$f":"+'I M P R I M I R'!D190","v":"NOMBRE/S CÓNYUGE"},{"$f":"+'I M P R I M I R'!E190","v":"<<<<>>>>NO COMPLETADO"},"2016-03-16",0,"465/16"]
[null,null,{"$f":"+'I M P R I M I R'!A191","v":"NS"},{"$f":"+'I M P R I M I R'!D$3","v":0},null,{"$f":"+'I M P R I M I R'!B191","v":0},{"$f":"+'I M P R I M I R'!C191","v":0},{"$f":"+'I M P R I M I R'!D191","v":"DOC. IDENTIDAD (cónyuge) –sin puntos ni barras-: "},{"$f":"+'I M P R I M I R'!E191","v":"<<<<>>>>NO COMPLETADO"},"2016-03-16",0,"465/16"]
[null,null,{"$f":"+'I M P R I M I R'!A192","v":"NS"},{"$f":"+'I M P R I M I R'!D$3","v":0},null,{"$f":"+'I M P R I M I R'!B192","v":0},{"$f":"+'I M P R I M I R'!C192","v":0},{"$f":"+'I M P R I M I R'!D192","v":"NOTA/OBSERVACIÓN."},{"$f":"+'I M P R I M I R'!E192","v":"<<<<>>>>NO COMPLETADO"},"2016-03-16",0,"465/16"]
[null,null,{"$f":"+'I M P R I M I R'!A193","v":"NS"},{"$f":"+'I M P R I M I R'!D$3","v":0},null,{"$f":"+'I M P R I M I R'!B193","v":0},{"$f":"+'I M P R I M I R'!C193","v":0},{"$f":"+'I M P R I M I R'!D193","v":"DOC. IDENTIDAD –sin puntos-: ……………………"},{"$f":"+'I M P R I M I R'!E193","v":"<<<<>>>>NO COMPLETADO"},"2016-03-16",0,"465/16"]
[null,null,{"$f":"+'I M P R I M I R'!A194","v":"NS"},{"$f":"+'I M P R I M I R'!D$3","v":0},null,{"$f":"+'I M P R I M I R'!B194","v":0},{"$f":"+'I M P R I M I R'!C194","v":0},{"$f":"+'I M P R I M I R'!D194","v":"CUIT/CUIL –sin puntos ni barras-:"},{"$f":"+'I M P R I M I R'!E194","v":"<<<<>>>>NO COMPLETADO"},"2016-03-16",0,"465/16"]
[null,null,{"$f":"+'I M P R I M I R'!A195","v":"NS"},{"$f":"+'I M P R I M I R'!D$3","v":0},null,{"$f":"+'I M P R I M I R'!B195","v":0},{"$f":"+'I M P R I M I R'!C195","v":0},{"$f":"+'I M P R I M I R'!D195","v":"FECHA DE NACIMIENTO –dd/mm/aa-:"},{"$f":"+'I M P R I M I R'!E195","v":"<<<<>>>>NO COMPLETADO"},"2016-03-16",0,"465/16"]
[null,null,{"$f":"+'I M P R I M I R'!A196","v":"NS"},{"$f":"+'I M P R I M I R'!D$3","v":0},null,{"$f":"+'I M P R I M I R'!B196","v":0},{"$f":"+'I M P R I M I R'!C196","v":0},{"$f":"+'I M P R I M I R'!D196","v":"LUGAR DE NACIMIENTO:"},{"$f":"+'I M P R I M I R'!E196","v":"<<<<>>>>NO COMPLETADO"},"2016-03-16",0,"465/16"]
[null,null,{"$f":"+'I M P R I M I R'!A197","v":"NS"},{"$f":"+'I M P R I M I R'!D$3","v":0},null,{"$f":"+'I M P R I M I R'!B197","v":0},{"$f":"+'I M P R I M I R'!C197","v":0},{"$f":"+'I M P R I M I R'!D197","v":"NACIONALIDAD:"},{"$f":"+'I M P R I M I R'!E197","v":"<<<<>>>>NO COMPLETADO"},"2016-03-16",0,"465/16"]
[null,null,{"$f":"+'I M P R I M I R'!A198","v":"NS"},{"$f":"+'I M P R I M I R'!D$3","v":0},null,{"$f":"+'I M P R I M I R'!B198","v":0},{"$f":"+'I M P R I M I R'!C198","v":0},{"$f":"+'I M P R I M I R'!D198","v":"PROFESIÓN:"},{"$f":"+'I M P R I M I R'!E198","v":"<<<<>>>>NO COMPLETADO"},"2016-03-16",0,"465/16"]
[null,null,{"$f":"+'I M P R I M I R'!A199","v":"NS"},{"$f":"+'I M P R I M I R'!D$3","v":0},null,{"$f":"+'I M P R I M I R'!B199","v":0},{"$f":"+'I M P R I M I R'!C199","v":0},{"$f":"+'I M P R I M I R'!D199","v":"DOMICILIO REAL:"},{"$f":"+'I M P R I M I R'!E199","v":"<<<<>>>>NO COMPLETADO"},"2016-03-16",0,"465/16"]
[null,null,{"$f":"+'I M P R I M I R'!A200","v":"NS"},{"$f":"+'I M P R I M I R'!D$3","v":0},null,{"$f":"+'I M P R I M I R'!B200","v":0},{"$f":"+'I M P R I M I R'!C200","v":0},{"$f":"+'I M P R I M I R'!D200","v":"CEL/TEL –sin puntos ni barras-:"},{"$f":"+'I M P R I M I R'!E200","v":"<<<<>>>>NO COMPLETADO"},{"$f":"+H$2","v":"2016-03-16"},{"$f":"H$4","v":0},{"$f":"+H$3","v":"465/16"}]
[null,null,{"$f":"+'I M P R I M I R'!A201","v":"NS"},{"$f":"+'I M P R I M I R'!D$3","v":0},null,{"$f":"+'I M P R I M I R'!B201","v":0},{"$f":"+'I M P R I M I R'!C201","v":0},{"$f":"+'I M P R I M I R'!D201","v":"EMAIL:"},{"$f":"+'I M P R I M I R'!E201","v":"<<<<>>>>NO COMPLETADO"},"2016-03-16",0,"465/16"]
[null,null,{"$f":"+'I M P R I M I R'!A202","v":"NS"},{"$f":"+'I M P R I M I R'!D$3","v":0},null,{"$f":"+'I M P R I M I R'!B202","v":0},{"$f":"+'I M P R I M I R'!C202","v":0},{"$f":"+'I M P R I M I R'!D202","v":"ESTADO CIVIL:"},{"$f":"+'I M P R I M I R'!E202","v":"<<<<>>>>NO COMPLETADO"},"2016-03-16",0,"465/16"]
[null,null,{"$f":"+'I M P R I M I R'!A203","v":"NS"},{"$f":"+'I M P R I M I R'!D$3","v":0},null,{"$f":"+'I M P R I M I R'!B203","v":0},{"$f":"+'I M P R I M I R'!C203","v":0},{"$f":"+'I M P R I M I R'!D203","v":"APELLIDO/S CÓNYUGE:"},{"$f":"+'I M P R I M I R'!E203","v":"<<<<>>>>NO COMPLETADO"},"2016-03-16",0,"465/16"]
[null,null,{"$f":"+'I M P R I M I R'!A204","v":"NS"},{"$f":"+'I M P R I M I R'!D$3","v":0},null,{"$f":"+'I M P R I M I R'!B204","v":0},{"$f":"+'I M P R I M I R'!C204","v":0},{"$f":"+'I M P R I M I R'!D204","v":"NOMBRE/S CÓNYUGE"},{"$f":"+'I M P R I M I R'!E204","v":"<<<<>>>>NO COMPLETADO"},"2016-03-16",0,"465/16"]
[null,null,{"$f":"+'I M P R I M I R'!A205","v":"NS"},{"$f":"+'I M P R I M I R'!D$3","v":0},null,{"$f":"+'I M P R I M I R'!B205","v":0},{"$f":"+'I M P R I M I R'!C205","v":0},{"$f":"+'I M P R I M I R'!D205","v":"DOC. IDENTIDAD (cónyuge) –sin puntos ni barras-: "},{"$f":"+'I M P R I M I R'!E205","v":"<<<<>>>>NO COMPLETADO"},"2016-03-16",0,"465/16"]
[null,null,{"$f":"+'I M P R I M I R'!A206","v":"NS"},{"$f":"+'I M P R I M I R'!D$3","v":0},null,{"$f":"+'I M P R I M I R'!B206","v":0},{"$f":"+'I M P R I M I R'!C206","v":0},{"$f":"+'I M P R I M I R'!D206","v":"NOTA/OBSERVACIÓN."},{"$f":"+'I M P R I M I R'!E206","v":"<<<<>>>>NO COMPLETADO"},"2016-03-16",0,"465/16"]
[null,null,{"$f":"+'I M P R I M I R'!A207","v":"NS"},{"$f":"+'I M P R I M I R'!D$3","v":0},null,{"$f":"+'I M P R I M I R'!B207","v":0},{"$f":"+'I M P R I M I R'!C207","v":0},{"$f":"+'I M P R I M I R'!D207","v":"DOC. IDENTIDAD –sin puntos-: ……………………"},{"$f":"+'I M P R I M I R'!E207","v":"<<<<>>>>NO COMPLETADO"},"2016-03-16",0,"465/16"]
[null,null,{"$f":"+'I M P R I M I R'!A208","v":"NS"},{"$f":"+'I M P R I M I R'!D$3","v":0},null,{"$f":"+'I M P R I M I R'!B208","v":0},{"$f":"+'I M P R I M I R'!C208","v":0},{"$f":"+'I M P R I M I R'!D208","v":"CUIT/CUIL –sin puntos ni barras-:"},{"$f":"+'I M P R I M I R'!E208","v":"<<<<>>>>NO COMPLETADO"},"2016-03-16",0,"465/16"]
[null,null,{"$f":"+'I M P R I M I R'!A209","v":"NS"},{"$f":"+'I M P R I M I R'!D$3","v":0},null,{"$f":"+'I M P R I M I R'!B209","v":0},{"$f":"+'I M P R I M I R'!C209","v":0},{"$f":"+'I M P R I M I R'!D209","v":"FECHA DE NACIMIENTO –dd/mm/aa-:"},{"$f":"+'I M P R I M I R'!E209","v":"<<<<>>>>NO COMPLETADO"},"2016-03-16",0,"465/16"]
[null,null,{"$f":"+'I M P R I M I R'!A210","v":"NS"},{"$f":"+'I M P R I M I R'!D$3","v":0},null,{"$f":"+'I M P R I M I R'!B210","v":0},{"$f":"+'I M P R I M I R'!C210","v":0},{"$f":"+'I M P R I M I R'!D210","v":"LUGAR DE NACIMIENTO:"},{"$f":"+'I M P R I M I R'!E210","v":"<<<<>>>>NO COMPLETADO"},"2016-03-16",0,"465/16"]
[null,null,{"$f":"+'I M P R I M I R'!A211","v":"NS"},{"$f":"+'I M P R I M I R'!D$3","v":0},null,{"$f":"+'I M P R I M I R'!B211","v":0},{"$f":"+'I M P R I M I R'!C211","v":0},{"$f":"+'I M P R I M I R'!D211","v":"NACIONALIDAD:"},{"$f":"+'I M P R I M I R'!E211","v":"<<<<>>>>NO COMPLETADO"},"2016-03-16",0,"465/16"]
[null,null,{"$f":"+'I M P R I M I R'!A212","v":"NS"},{"$f":"+'I M P R I M I R'!D$3","v":0},null,{"$f":"+'I M P R I M I R'!B212","v":0},{"$f":"+'I M P R I M I R'!C212","v":0},{"$f":"+'I M P R I M I R'!D212","v":"PROFESIÓN:"},{"$f":"+'I M P R I M I R'!E212","v":"<<<<>>>>NO COMPLETADO"},"2016-03-16",0,"465/16"]
[null,null,{"$f":"+'I M P R I M I R'!A213","v":"NS"},{"$f":"+'I M P R I M I R'!D$3","v":0},null,{"$f":"+'I M P R I M I R'!B213","v":0},{"$f":"+'I M P R I M I R'!C213","v":0},{"$f":"+'I M P R I M I R'!D213","v":"DOMICILIO REAL:"},{"$f":"+'I M P R I M I R'!E213","v":"<<<<>>>>NO COMPLETADO"},"2016-03-16",0,"465/16"]
[null,null,{"$f":"+'I M P R I M I R'!A214","v":"NS"},{"$f":"+'I M P R I M I R'!D$3","v":0},null,{"$f":"+'I M P R I M I R'!B214","v":0},{"$f":"+'I M P R I M I R'!C214","v":0},{"$f":"+'I M P R I M I R'!D214","v":"CEL/TEL –sin puntos ni barras-:"},{"$f":"+'I M P R I M I R'!E214","v":"<<<<>>>>NO COMPLETADO"},"2016-03-16",0,"465/16"]
[null,null,{"$f":"+'I M P R I M I R'!A215","v":"NS"},{"$f":"+'I M P R I M I R'!D$3","v":0},null,{"$f":"+'I M P R I M I R'!B215","v":0},{"$f":"+'I M P R I M I R'!C215","v":0},{"$f":"+'I M P R I M I R'!D215","v":"EMAIL:"},{"$f":"+'I M P R I M I R'!E215","v":"<<<<>>>>NO COMPLETADO"},"2016-03-16",0,"465/16"]
[null,null,{"$f":"+'I M P R I M I R'!A216","v":"NS"},{"$f":"+'I M P R I M I R'!D$3","v":0},null,{"$f":"+'I M P R I M I R'!B216","v":0},{"$f":"+'I M P R I M I R'!C216","v":0},{"$f":"+'I M P R I M I R'!D216","v":"ESTADO CIVIL:"},{"$f":"+'I M P R I M I R'!E216","v":"<<<<>>>>NO COMPLETADO"},"2016-03-16",0,"465/16"]
[null,null,{"$f":"+'I M P R I M I R'!A217","v":"NS"},{"$f":"+'I M P R I M I R'!D$3","v":0},null,{"$f":"+'I M P R I M I R'!B217","v":0},{"$f":"+'I M P R I M I R'!C217","v":0},{"$f":"+'I M P R I M I R'!D217","v":"APELLIDO/S CÓNYUGE:"},{"$f":"+'I M P R I M I R'!E217","v":"<<<<>>>>NO COMPLETADO"},"2016-03-16",0,"465/16"]
[null,null,{"$f":"+'I M P R I M I R'!A218","v":"NS"},{"$f":"+'I M P R I M I R'!D$3","v":0},null,{"$f":"+'I M P R I M I R'!B218","v":0},{"$f":"+'I M P R I M I R'!C218","v":0},{"$f":"+'I M P R I M I R'!D218","v":"NOMBRE/S CÓNYUGE"},{"$f":"+'I M P R I M I R'!E218","v":"<<<<>>>>NO COMPLETADO"},"2016-03-16",0,"465/16"]
[null,null,{"$f":"+'I M P R I M I R'!A219","v":"NS"},{"$f":"+'I M P R I M I R'!D$3","v":0},null,{"$f":"+'I M P R I M I R'!B219","v":0},{"$f":"+'I M P R I M I R'!C219","v":0},{"$f":"+'I M P R I M I R'!D219","v":"DOC. IDENTIDAD (cónyuge) –sin puntos ni barras-: "},{"$f":"+'I M P R I M I R'!E219","v":"<<<<>>>>NO COMPLETADO"},"2016-03-16",0,"465/16"]
[null,null,{"$f":"+'I M P R I M I R'!A220","v":"NS"},{"$f":"+'I M P R I M I R'!D$3","v":0},null,{"$f":"+'I M P R I M I R'!B220","v":0},{"$f":"+'I M P R I M I R'!C220","v":0},{"$f":"+'I M P R I M I R'!D220","v":"NOTA/OBSERVACIÓN."},{"$f":"+'I M P R I M I R'!E220","v":"<<<<>>>>NO COMPLETADO"},"2016-03-16",0,"465/16"]
[null,null,{"$f":"+'I M P R I M I R'!A221","v":"NS"},{"$f":"+'I M P R I M I R'!D$3","v":0},null,{"$f":"+'I M P R I M I R'!B221","v":0},{"$f":"+'I M P R I M I R'!C221","v":0},{"$f":"+'I M P R I M I R'!D221","v":"DOC. IDENTIDAD –sin puntos-: ……………………"},{"$f":"+'I M P R I M I R'!E221","v":"<<<<>>>>NO COMPLETADO"},"2016-03-16",0,"465/16"]
[null,null,{"$f":"+'I M P R I M I R'!A222","v":"NS"},{"$f":"+'I M P R I M I R'!D$3","v":0},null,{"$f":"+'I M P R I M I R'!B222","v":0},{"$f":"+'I M P R I M I R'!C222","v":0},{"$f":"+'I M P R I M I R'!D222","v":"CUIT/CUIL –sin puntos ni barras-:"},{"$f":"+'I M P R I M I R'!E222","v":"<<<<>>>>NO COMPLETADO"},"2016-03-16",0,"465/16"]
[null,null,{"$f":"+'I M P R I M I R'!A223","v":"NS"},{"$f":"+'I M P R I M I R'!D$3","v":0},null,{"$f":"+'I M P R I M I R'!B223","v":0},{"$f":"+'I M P R I M I R'!C223","v":0},{"$f":"+'I M P R I M I R'!D223","v":"FECHA DE NACIMIENTO –dd/mm/aa-:"},{"$f":"+'I M P R I M I R'!E223","v":"<<<<>>>>NO COMPLETADO"},"2016-03-16",0,"465/16"]
[null,null,{"$f":"+'I M P R I M I R'!A224","v":"NS"},{"$f":"+'I M P R I M I R'!D$3","v":0},null,{"$f":"+'I M P R I M I R'!B224","v":0},{"$f":"+'I M P R I M I R'!C224","v":0},{"$f":"+'I M P R I M I R'!D224","v":"LUGAR DE NACIMIENTO:"},{"$f":"+'I M P R I M I R'!E224","v":"<<<<>>>>NO COMPLETADO"},"2016-03-16",0,"465/16"]
[null,null,{"$f":"+'I M P R I M I R'!A225","v":"NS"},{"$f":"+'I M P R I M I R'!D$3","v":0},null,{"$f":"+'I M P R I M I R'!B225","v":0},{"$f":"+'I M P R I M I R'!C225","v":0},{"$f":"+'I M P R I M I R'!D225","v":"NACIONALIDAD:"},{"$f":"+'I M P R I M I R'!E225","v":"<<<<>>>>NO COMPLETADO"},"2016-03-16",0,"465/16"]
[null,null,{"$f":"+'I M P R I M I R'!A226","v":"NS"},{"$f":"+'I M P R I M I R'!D$3","v":0},null,{"$f":"+'I M P R I M I R'!B226","v":0},{"$f":"+'I M P R I M I R'!C226","v":0},{"$f":"+'I M P R I M I R'!D226","v":"PROFESIÓN:"},{"$f":"+'I M P R I M I R'!E226","v":"<<<<>>>>NO COMPLETADO"},"2016-03-16",0,"465/16"]
[null,null,{"$f":"+'I M P R I M I R'!A227","v":"NS"},{"$f":"+'I M P R I M I R'!D$3","v":0},null,{"$f":"+'I M P R I M I R'!B227","v":0},{"$f":"+'I M P R I M I R'!C227","v":0},{"$f":"+'I M P R I M I R'!D227","v":"DOMICILIO REAL:"},{"$f":"+'I M P R I M I R'!E227","v":"<<<<>>>>NO COMPLETADO"},"2016-03-16",0,"465/16"]
[null,null,{"$f":"+'I M P R I M I R'!A228","v":"NS"},{"$f":"+'I M P R I M I R'!D$3","v":0},null,{"$f":"+'I M P R I M I R'!B228","v":0},{"$f":"+'I M P R I M I R'!C228","v":0},{"$f":"+'I M P R I M I R'!D228","v":"CEL/TEL –sin puntos ni barras-:"},{"$f":"+'I M P R I M I R'!E228","v":"<<<<>>>>NO COMPLETADO"},"2016-03-16",0,"465/16"]
[null,null,{"$f":"+'I M P R I M I R'!A229","v":"NS"},{"$f":"+'I M P R I M I R'!D$3","v":0},null,{"$f":"+'I M P R I M I R'!B229","v":0},{"$f":"+'I M P R I M I R'!C229","v":0},{"$f":"+'I M P R I M I R'!D229","v":"EMAIL:"},{"$f":"+'I M P R I M I R'!E229","v":"<<<<>>>>NO COMPLETADO"},"2016-03-16",0,"465/16"]
[null,null,{"$f":"+'I M P R I M I R'!A230","v":"NS"},{"$f":"+'I M P R I M I R'!D$3","v":0},null,{"$f":"+'I M P R I M I R'!B230","v":0},{"$f":"+'I M P R I M I R'!C230","v":0},{"$f":"+'I M P R I M I R'!D230","v":"ESTADO CIVIL:"},{"$f":"+'I M P R I M I R'!E230","v":"<<<<>>>>NO COMPLETADO"},"2016-03-16",0,"465/16"]
[null,null,{"$f":"+'I M P R I M I R'!A231","v":"NS"},{"$f":"+'I M P R I M I R'!D$3","v":0},null,{"$f":"+'I M P R I M I R'!B231","v":0},{"$f":"+'I M P R I M I R'!C231","v":0},{"$f":"+'I M P R I M I R'!D231","v":"APELLIDO/S CÓNYUGE:"},{"$f":"+'I M P R I M I R'!E231","v":"<<<<>>>>NO COMPLETADO"},"2016-03-16",0,"465/16"]
[null,null,{"$f":"+'I M P R I M I R'!A232","v":"NS"},{"$f":"+'I M P R I M I R'!D$3","v":0},null,{"$f":"+'I M P R I M I R'!B232","v":0},{"$f":"+'I M P R I M I R'!C232","v":0},{"$f":"+'I M P R I M I R'!D232","v":"NOMBRE/S CÓNYUGE"},{"$f":"+'I M P R I M I R'!E232","v":"<<<<>>>>NO COMPLETADO"},"2016-03-16",0,"465/16"]
[null,null,{"$f":"+'I M P R I M I R'!A233","v":"NS"},{"$f":"+'I M P R I M I R'!D$3","v":0},null,{"$f":"+'I M P R I M I R'!B233","v":0},{"$f":"+'I M P R I M I R'!C233","v":0},{"$f":"+'I M P R I M I R'!D233","v":"DOC. IDENTIDAD (cónyuge) –sin puntos ni barras-: "},{"$f":"+'I M P R I M I R'!E233","v":"<<<<>>>>NO COMPLETADO"},"2016-03-16",0,"465/16"]
[null,null,{"$f":"+'I M P R I M I R'!A234","v":"NS"},{"$f":"+'I M P R I M I R'!D$3","v":0},null,{"$f":"+'I M P R I M I R'!B234","v":0},{"$f":"+'I M P R I M I R'!C234","v":0},{"$f":"+'I M P R I M I R'!D234","v":"NOTA/OBSERVACIÓN."},{"$f":"+'I M P R I M I R'!E234","v":"<<<<>>>>NO COMPLETADO"},"2016-03-16",0,"465/16"]
[null,null,{"$f":"+'I M P R I M I R'!A235","v":"NS"},{"$f":"+'I M P R I M I R'!D$3","v":0},null,{"$f":"+'I M P R I M I R'!B235","v":0},{"$f":"+'I M P R I M I R'!C235","v":0},{"$f":"+'I M P R I M I R'!D235","v":"DOC. IDENTIDAD –sin puntos-: ……………………"},{"$f":"+'I M P R I M I R'!E235","v":"<<<<>>>>NO COMPLETADO"},"2016-03-16",0,"465/16"]
[null,null,{"$f":"+'I M P R I M I R'!A236","v":"NS"},{"$f":"+'I M P R I M I R'!D$3","v":0},null,{"$f":"+'I M P R I M I R'!B236","v":0},{"$f":"+'I M P R I M I R'!C236","v":0},{"$f":"+'I M P R I M I R'!D236","v":"CUIT/CUIL –sin puntos ni barras-:"},{"$f":"+'I M P R I M I R'!E236","v":"<<<<>>>>NO COMPLETADO"},"2016-03-16",0,"465/16"]
[null,null,{"$f":"+'I M P R I M I R'!A237","v":"NS"},{"$f":"+'I M P R I M I R'!D$3","v":0},null,{"$f":"+'I M P R I M I R'!B237","v":0},{"$f":"+'I M P R I M I R'!C237","v":0},{"$f":"+'I M P R I M I R'!D237","v":"FECHA DE NACIMIENTO –dd/mm/aa-:"},{"$f":"+'I M P R I M I R'!E237","v":"<<<<>>>>NO COMPLETADO"},"2016-03-16",0,"465/16"]
[null,null,{"$f":"+'I M P R I M I R'!A238","v":"NS"},{"$f":"+'I M P R I M I R'!D$3","v":0},null,{"$f":"+'I M P R I M I R'!B238","v":0},{"$f":"+'I M P R I M I R'!C238","v":0},{"$f":"+'I M P R I M I R'!D238","v":"LUGAR DE NACIMIENTO:"},{"$f":"+'I M P R I M I R'!E238","v":"<<<<>>>>NO COMPLETADO"},"2016-03-16",0,"465/16"]
[null,null,{"$f":"+'I M P R I M I R'!A239","v":"NS"},{"$f":"+'I M P R I M I R'!D$3","v":0},null,{"$f":"+'I M P R I M I R'!B239","v":0},{"$f":"+'I M P R I M I R'!C239","v":0},{"$f":"+'I M P R I M I R'!D239","v":"NACIONALIDAD:"},{"$f":"+'I M P R I M I R'!E239","v":"<<<<>>>>NO COMPLETADO"},"2016-03-16",0,"465/16"]
[null,null,{"$f":"+'I M P R I M I R'!A240","v":"NS"},{"$f":"+'I M P R I M I R'!D$3","v":0},null,{"$f":"+'I M P R I M I R'!B240","v":0},{"$f":"+'I M P R I M I R'!C240","v":0},{"$f":"+'I M P R I M I R'!D240","v":"PROFESIÓN:"},{"$f":"+'I M P R I M I R'!E240","v":"<<<<>>>>NO COMPLETADO"},"2016-03-16",0,"465/16"]
[null,null,{"$f":"+'I M P R I M I R'!A241","v":"NS"},{"$f":"+'I M P R I M I R'!D$3","v":0},null,{"$f":"+'I M P R I M I R'!B241","v":0},{"$f":"+'I M P R I M I R'!C241","v":0},{"$f":"+'I M P R I M I R'!D241","v":"DOMICILIO REAL:"},{"$f":"+'I M P R I M I R'!E241","v":"<<<<>>>>NO COMPLETADO"},"2016-03-16",0,"465/16"]
[null,null,{"$f":"+'I M P R I M I R'!A242","v":"NS"},{"$f":"+'I M P R I M I R'!D$3","v":0},null,{"$f":"+'I M P R I M I R'!B242","v":0},{"$f":"+'I M P R I M I R'!C242","v":0},{"$f":"+'I M P R I M I R'!D242","v":"CEL/TEL –sin puntos ni barras-:"},{"$f":"+'I M P R I M I R'!E242","v":"<<<<>>>>NO COMPLETADO"},"2016-03-16",0,"465/16"]
[null,null,{"$f":"+'I M P R I M I R'!A243","v":"NS"},{"$f":"+'I M P R I M I R'!D$3","v":0},null,{"$f":"+'I M P R I M I R'!B243","v":0},{"$f":"+'I M P R I M I R'!C243","v":0},{"$f":"+'I M P R I M I R'!D243","v":"EMAIL:"},{"$f":"+'I M P R I M I R'!E243","v":"<<<<>>>>NO COMPLETADO"},"2016-03-16",0,"465/16"]
[null,null,{"$f":"+'I M P R I M I R'!A244","v":"NS"},{"$f":"+'I M P R I M I R'!D$3","v":0},null,{"$f":"+'I M P R I M I R'!B244","v":0},{"$f":"+'I M P R I M I R'!C244","v":0},{"$f":"+'I M P R I M I R'!D244","v":"ESTADO CIVIL:"},{"$f":"+'I M P R I M I R'!E244","v":"<<<<>>>>NO COMPLETADO"},"2016-03-16",0,"465/16"]
[null,null,{"$f":"+'I M P R I M I R'!A245","v":"NS"},{"$f":"+'I M P R I M I R'!D$3","v":0},null,{"$f":"+'I M P R I M I R'!B245","v":0},{"$f":"+'I M P R I M I R'!C245","v":0},{"$f":"+'I M P R I M I R'!D245","v":"APELLIDO/S CÓNYUGE:"},{"$f":"+'I M P R I M I R'!E245","v":"<<<<>>>>NO COMPLETADO"},"2016-03-16",0,"465/16"]
[null,null,{"$f":"+'I M P R I M I R'!A246","v":"NS"},{"$f":"+'I M P R I M I R'!D$3","v":0},null,{"$f":"+'I M P R I M I R'!B246","v":0},{"$f":"+'I M P R I M I R'!C246","v":0},{"$f":"+'I M P R I M I R'!D246","v":"NOMBRE/S CÓNYUGE"},{"$f":"+'I M P R I M I R'!E246","v":"<<<<>>>>NO COMPLETADO"},"2016-03-16",0,"465/16"]
[null,null,{"$f":"+'I M P R I M I R'!A247","v":"NS"},{"$f":"+'I M P R I M I R'!D$3","v":0},null,{"$f":"+'I M P R I M I R'!B247","v":0},{"$f":"+'I M P R I M I R'!C247","v":0},{"$f":"+'I M P R I M I R'!D247","v":"DOC. IDENTIDAD (cónyuge) –sin puntos ni barras-: "},{"$f":"+'I M P R I M I R'!E247","v":"<<<<>>>>NO COMPLETADO"},"2016-03-16",0,"465/16"]
[null,null,{"$f":"+'I M P R I M I R'!A248","v":"NS"},{"$f":"+'I M P R I M I R'!D$3","v":0},null,{"$f":"+'I M P R I M I R'!B248","v":0},{"$f":"+'I M P R I M I R'!C248","v":0},{"$f":"+'I M P R I M I R'!D248","v":"NOTA/OBSERVACIÓN."},{"$f":"+'I M P R I M I R'!E248","v":"<<<<>>>>NO COMPLETADO"},"2016-03-16",0,"465/16"]
[null,null,{"$f":"+'I M P R I M I R'!A249","v":"NS"},{"$f":"+'I M P R I M I R'!D$3","v":0},null,{"$f":"+'I M P R I M I R'!B249","v":0},{"$f":"+'I M P R I M I R'!C249","v":0},{"$f":"+'I M P R I M I R'!D249","v":"DOC. IDENTIDAD –sin puntos-: ……………………"},{"$f":"+'I M P R I M I R'!E249","v":"<<<<>>>>NO COMPLETADO"},"2016-03-16",0,"465/16"]
[null,null,{"$f":"+'I M P R I M I R'!A250","v":"NS"},{"$f":"+'I M P R I M I R'!D$3","v":0},null,{"$f":"+'I M P R I M I R'!B250","v":0},{"$f":"+'I M P R I M I R'!C250","v":0},{"$f":"+'I M P R I M I R'!D250","v":"CUIT/CUIL –sin puntos ni barras-:"},{"$f":"+'I M P R I M I R'!E250","v":"<<<<>>>>NO COMPLETADO"},"2016-03-16",0,"465/16"]
[null,null,{"$f":"+'I M P R I M I R'!A251","v":"NS"},{"$f":"+'I M P R I M I R'!D$3","v":0},null,{"$f":"+'I M P R I M I R'!B251","v":0},{"$f":"+'I M P R I M I R'!C251","v":0},{"$f":"+'I M P R I M I R'!D251","v":"FECHA DE NACIMIENTO –dd/mm/aa-:"},{"$f":"+'I M P R I M I R'!E251","v":"<<<<>>>>NO COMPLETADO"},"2016-03-16",0,"465/16"]
[null,null,{"$f":"+'I M P R I M I R'!A252","v":"NS"},{"$f":"+'I M P R I M I R'!D$3","v":0},null,{"$f":"+'I M P R I M I R'!B252","v":0},{"$f":"+'I M P R I M I R'!C252","v":0},{"$f":"+'I M P R I M I R'!D252","v":"LUGAR DE NACIMIENTO:"},{"$f":"+'I M P R I M I R'!E252","v":"<<<<>>>>NO COMPLETADO"},"2016-03-16",0,"465/16"]
[null,null,{"$f":"+'I M P R I M I R'!A253","v":"NS"},{"$f":"+'I M P R I M I R'!D$3","v":0},null,{"$f":"+'I M P R I M I R'!B253","v":0},{"$f":"+'I M P R I M I R'!C253","v":0},{"$f":"+'I M P R I M I R'!D253","v":"NACIONALIDAD:"},{"$f":"+'I M P R I M I R'!E253","v":"<<<<>>>>NO COMPLETADO"},"2016-03-16",0,"465/16"]
[null,null,{"$f":"+'I M P R I M I R'!A254","v":"NS"},{"$f":"+'I M P R I M I R'!D$3","v":0},null,{"$f":"+'I M P R I M I R'!B254","v":0},{"$f":"+'I M P R I M I R'!C254","v":0},{"$f":"+'I M P R I M I R'!D254","v":"PROFESIÓN:"},{"$f":"+'I M P R I M I R'!E254","v":"<<<<>>>>NO COMPLETADO"},"2016-03-16",0,"465/16"]
[null,null,{"$f":"+'I M P R I M I R'!A255","v":"NS"},{"$f":"+'I M P R I M I R'!D$3","v":0},null,{"$f":"+'I M P R I M I R'!B255","v":0},{"$f":"+'I M P R I M I R'!C255","v":0},{"$f":"+'I M P R I M I R'!D255","v":"DOMICILIO REAL:"},{"$f":"+'I M P R I M I R'!E255","v":"<<<<>>>>NO COMPLETADO"},"2016-03-16",0,"465/16"]
[null,null,{"$f":"+'I M P R I M I R'!A256","v":"NS"},{"$f":"+'I M P R I M I R'!D$3","v":0},null,{"$f":"+'I M P R I M I R'!B256","v":0},{"$f":"+'I M P R I M I R'!C256","v":0},{"$f":"+'I M P R I M I R'!D256","v":"CEL/TEL –sin puntos ni barras-:"},{"$f":"+'I M P R I M I R'!E256","v":"<<<<>>>>NO COMPLETADO"},"2016-03-16",0,"465/16"]
[null,null,{"$f":"+'I M P R I M I R'!A257","v":"NS"},{"$f":"+'I M P R I M I R'!D$3","v":0},null,{"$f":"+'I M P R I M I R'!B257","v":0},{"$f":"+'I M P R I M I R'!C257","v":0},{"$f":"+'I M P R I M I R'!D257","v":"EMAIL:"},{"$f":"+'I M P R I M I R'!E257","v":"<<<<>>>>NO COMPLETADO"},"2016-03-16",0,"465/16"]
[null,null,{"$f":"+'I M P R I M I R'!A258","v":"NS"},{"$f":"+'I M P R I M I R'!D$3","v":0},null,{"$f":"+'I M P R I M I R'!B258","v":0},{"$f":"+'I M P R I M I R'!C258","v":0},{"$f":"+'I M P R I M I R'!D258","v":"ESTADO CIVIL:"},{"$f":"+'I M P R I M I R'!E258","v":"<<<<>>>>NO COMPLETADO"},"2016-03-16",0,"465/16"]
[null,null,{"$f":"+'I M P R I M I R'!A259","v":"NS"},{"$f":"+'I M P R I M I R'!D$3","v":0},null,{"$f":"+'I M P R I M I R'!B259","v":0},{"$f":"+'I M P R I M I R'!C259","v":0},{"$f":"+'I M P R I M I R'!D259","v":"APELLIDO/S CÓNYUGE:"},{"$f":"+'I M P R I M I R'!E259","v":"<<<<>>>>NO COMPLETADO"},"2016-03-16",0,"465/16"]
[null,null,{"$f":"+'I M P R I M I R'!A260","v":"NS"},{"$f":"+'I M P R I M I R'!D$3","v":0},null,{"$f":"+'I M P R I M I R'!B260","v":0},{"$f":"+'I M P R I M I R'!C260","v":0},{"$f":"+'I M P R I M I R'!D260","v":"NOMBRE/S CÓNYUGE"},{"$f":"+'I M P R I M I R'!E260","v":"<<<<>>>>NO COMPLETADO"},"2016-03-16",0,"465/16"]
[null,null,{"$f":"+'I M P R I M I R'!A261","v":"NS"},{"$f":"+'I M P R I M I R'!D$3","v":0},null,{"$f":"+'I M P R I M I R'!B261","v":0},{"$f":"+'I M P R I M I R'!C261","v":0},{"$f":"+'I M P R I M I R'!D261","v":"DOC. IDENTIDAD (cónyuge) –sin puntos ni barras-: "},{"$f":"+'I M P R I M I R'!E261","v":"<<<<>>>>NO COMPLETADO"},"2016-03-16",0,"465/16"]
[null,null,{"$f":"+'I M P R I M I R'!A262","v":"NS"},{"$f":"+'I M P R I M I R'!D$3","v":0},null,{"$f":"+'I M P R I M I R'!B262","v":0},{"$f":"+'I M P R I M I R'!C262","v":0},{"$f":"+'I M P R I M I R'!D262","v":"NOTA/OBSERVACIÓN."},{"$f":"+'I M P R I M I R'!E262","v":"<<<<>>>>NO COMPLETADO"},"2016-03-16",0,"465/16"]
[null,null,{"$f":"+'I M P R I M I R'!A263","v":"NS"},{"$f":"+'I M P R I M I R'!D$3","v":0},null,{"$f":"+'I M P R I M I R'!B263","v":0},{"$f":"+'I M P R I M I R'!C263","v":0},{"$f":"+'I M P R I M I R'!D263","v":"DOC. IDENTIDAD –sin puntos-: ……………………"},{"$f":"+'I M P R I M I R'!E263","v":"<<<<>>>>NO COMPLETADO"},"2016-03-16",0,"465/16"]
[null,null,{"$f":"+'I M P R I M I R'!A264","v":"NS"},{"$f":"+'I M P R I M I R'!D$3","v":0},null,{"$f":"+'I M P R I M I R'!B264","v":0},{"$f":"+'I M P R I M I R'!C264","v":0},{"$f":"+'I M P R I M I R'!D264","v":"CUIT/CUIL –sin puntos ni barras-:"},{"$f":"+'I M P R I M I R'!E264","v":"<<<<>>>>NO COMPLETADO"},{"$f":"+H$2","v":"2016-03-16"},{"$f":"H$4","v":0},{"$f":"+H$3","v":"465/16"}]
[null,null,{"$f":"+'I M P R I M I R'!A265","v":"NS"},{"$f":"+'I M P R I M I R'!D$3","v":0},null,{"$f":"+'I M P R I M I R'!B265","v":0},{"$f":"+'I M P R I M I R'!C265","v":0},{"$f":"+'I M P R I M I R'!D265","v":"FECHA DE NACIMIENTO –dd/mm/aa-:"},{"$f":"+'I M P R I M I R'!E265","v":"<<<<>>>>NO COMPLETADO"},"2016-03-16",0,"465/16"]
[null,null,{"$f":"+'I M P R I M I R'!A266","v":"NS"},{"$f":"+'I M P R I M I R'!D$3","v":0},null,{"$f":"+'I M P R I M I R'!B266","v":0},{"$f":"+'I M P R I M I R'!C266","v":0},{"$f":"+'I M P R I M I R'!D266","v":"LUGAR DE NACIMIENTO:"},{"$f":"+'I M P R I M I R'!E266","v":"<<<<>>>>NO COMPLETADO"},"2016-03-16",0,"465/16"]
[null,null,{"$f":"+'I M P R I M I R'!A267","v":"NS"},{"$f":"+'I M P R I M I R'!D$3","v":0},null,{"$f":"+'I M P R I M I R'!B267","v":0},{"$f":"+'I M P R I M I R'!C267","v":0},{"$f":"+'I M P R I M I R'!D267","v":"NACIONALIDAD:"},{"$f":"+'I M P R I M I R'!E267","v":"<<<<>>>>NO COMPLETADO"},"2016-03-16",0,"465/16"]
[null,null,{"$f":"+'I M P R I M I R'!A268","v":"NS"},{"$f":"+'I M P R I M I R'!D$3","v":0},null,{"$f":"+'I M P R I M I R'!B268","v":0},{"$f":"+'I M P R I M I R'!C268","v":0},{"$f":"+'I M P R I M I R'!D268","v":"PROFESIÓN:"},{"$f":"+'I M P R I M I R'!E268","v":"<<<<>>>>NO COMPLETADO"},"2016-03-16",0,"465/16"]
[null,null,{"$f":"+'I M P R I M I R'!A269","v":"NS"},{"$f":"+'I M P R I M I R'!D$3","v":0},null,{"$f":"+'I M P R I M I R'!B269","v":0},{"$f":"+'I M P R I M I R'!C269","v":0},{"$f":"+'I M P R I M I R'!D269","v":"DOMICILIO REAL:"},{"$f":"+'I M P R I M I R'!E269","v":"<<<<>>>>NO COMPLETADO"},"2016-03-16",0,"465/16"]
[null,null,{"$f":"+'I M P R I M I R'!A270","v":"NS"},{"$f":"+'I M P R I M I R'!D$3","v":0},null,{"$f":"+'I M P R I M I R'!B270","v":0},{"$f":"+'I M P R I M I R'!C270","v":0},{"$f":"+'I M P R I M I R'!D270","v":"CEL/TEL –sin puntos ni barras-:"},{"$f":"+'I M P R I M I R'!E270","v":"<<<<>>>>NO COMPLETADO"},"2016-03-16",0,"465/16"]
[null,null,{"$f":"+'I M P R I M I R'!A271","v":"NS"},{"$f":"+'I M P R I M I R'!D$3","v":0},null,{"$f":"+'I M P R I M I R'!B271","v":0},{"$f":"+'I M P R I M I R'!C271","v":0},{"$f":"+'I M P R I M I R'!D271","v":"EMAIL:"},{"$f":"+'I M P R I M I R'!E271","v":"<<<<>>>>NO COMPLETADO"},"2016-03-16",0,"465/16"]
[null,null,{"$f":"+'I M P R I M I R'!A272","v":"NS"},{"$f":"+'I M P R I M I R'!D$3","v":0},null,{"$f":"+'I M P R I M I R'!B272","v":0},{"$f":"+'I M P R I M I R'!C272","v":0},{"$f":"+'I M P R I M I R'!D272","v":"ESTADO CIVIL:"},{"$f":"+'I M P R I M I R'!E272","v":"<<<<>>>>NO COMPLETADO"},"2016-03-16",0,"465/16"]
[null,null,{"$f":"+'I M P R I M I R'!A273","v":"NS"},{"$f":"+'I M P R I M I R'!D$3","v":0},null,{"$f":"+'I M P R I M I R'!B273","v":0},{"$f":"+'I M P R I M I R'!C273","v":0},{"$f":"+'I M P R I M I R'!D273","v":"APELLIDO/S CÓNYUGE:"},{"$f":"+'I M P R I M I R'!E273","v":"<<<<>>>>NO COMPLETADO"},"2016-03-16",0,"465/16"]
[null,null,{"$f":"+'I M P R I M I R'!A274","v":"NS"},{"$f":"+'I M P R I M I R'!D$3","v":0},null,{"$f":"+'I M P R I M I R'!B274","v":0},{"$f":"+'I M P R I M I R'!C274","v":0},{"$f":"+'I M P R I M I R'!D274","v":"NOMBRE/S CÓNYUGE"},{"$f":"+'I M P R I M I R'!E274","v":"<<<<>>>>NO COMPLETADO"},"2016-03-16",0,"465/16"]
[null,null,{"$f":"+'I M P R I M I R'!A275","v":"NS"},{"$f":"+'I M P R I M I R'!D$3","v":0},null,{"$f":"+'I M P R I M I R'!B275","v":0},{"$f":"+'I M P R I M I R'!C275","v":0},{"$f":"+'I M P R I M I R'!D275","v":"DOC. IDENTIDAD (cónyuge) –sin puntos ni barras-: "},{"$f":"+'I M P R I M I R'!E275","v":"<<<<>>>>NO COMPLETADO"},"2016-03-16",0,"465/16"]
[null,null,{"$f":"+'I M P R I M I R'!A276","v":"NS"},{"$f":"+'I M P R I M I R'!D$3","v":0},null,{"$f":"+'I M P R I M I R'!B276","v":0},{"$f":"+'I M P R I M I R'!C276","v":0},{"$f":"+'I M P R I M I R'!D276","v":"NOTA/OBSERVACIÓN."},{"$f":"+'I M P R I M I R'!E276","v":"<<<<>>>>NO COMPLETADO"},"2016-03-16",0,"465/16"]
[null,null,{"$f":"+'I M P R I M I R'!A277","v":"NS"},{"$f":"+'I M P R I M I R'!D$3","v":0},null,{"$f":"+'I M P R I M I R'!B277","v":0},{"$f":"+'I M P R I M I R'!C277","v":0},{"$f":"+'I M P R I M I R'!D277","v":"DOC. IDENTIDAD –sin puntos-: ……………………"},{"$f":"+'I M P R I M I R'!E277","v":"<<<<>>>>NO COMPLETADO"},"2016-03-16",0,"465/16"]
[null,null,{"$f":"+'I M P R I M I R'!A278","v":"NS"},{"$f":"+'I M P R I M I R'!D$3","v":0},null,{"$f":"+'I M P R I M I R'!B278","v":0},{"$f":"+'I M P R I M I R'!C278","v":0},{"$f":"+'I M P R I M I R'!D278","v":"CUIT/CUIL –sin puntos ni barras-:"},{"$f":"+'I M P R I M I R'!E278","v":"<<<<>>>>NO COMPLETADO"},"2016-03-16",0,"465/16"]
[null,null,{"$f":"+'I M P R I M I R'!A279","v":"NS"},{"$f":"+'I M P R I M I R'!D$3","v":0},null,{"$f":"+'I M P R I M I R'!B279","v":0},{"$f":"+'I M P R I M I R'!C279","v":0},{"$f":"+'I M P R I M I R'!D279","v":"FECHA DE NACIMIENTO –dd/mm/aa-:"},{"$f":"+'I M P R I M I R'!E279","v":"<<<<>>>>NO COMPLETADO"},"2016-03-16",0,"465/16"]
[null,null,{"$f":"+'I M P R I M I R'!A280","v":"NS"},{"$f":"+'I M P R I M I R'!D$3","v":0},null,{"$f":"+'I M P R I M I R'!B280","v":0},{"$f":"+'I M P R I M I R'!C280","v":0},{"$f":"+'I M P R I M I R'!D280","v":"LUGAR DE NACIMIENTO:"},{"$f":"+'I M P R I M I R'!E280","v":"<<<<>>>>NO COMPLETADO"},"2016-03-16",0,"465/16"]
[null,null,{"$f":"+'I M P R I M I R'!A281","v":"NS"},{"$f":"+'I M P R I M I R'!D$3","v":0},null,{"$f":"+'I M P R I M I R'!B281","v":0},{"$f":"+'I M P R I M I R'!C281","v":0},{"$f":"+'I M P R I M I R'!D281","v":"NACIONALIDAD:"},{"$f":"+'I M P R I M I R'!E281","v":"<<<<>>>>NO COMPLETADO"},"2016-03-16",0,"465/16"]
[null,null,{"$f":"+'I M P R I M I R'!A282","v":"NS"},{"$f":"+'I M P R I M I R'!D$3","v":0},null,{"$f":"+'I M P R I M I R'!B282","v":0},{"$f":"+'I M P R I M I R'!C282","v":0},{"$f":"+'I M P R I M I R'!D282","v":"PROFESIÓN:"},{"$f":"+'I M P R I M I R'!E282","v":"<<<<>>>>NO COMPLETADO"},"2016-03-16",0,"465/16"]
[null,null,{"$f":"+'I M P R I M I R'!A283","v":"NS"},{"$f":"+'I M P R I M I R'!D$3","v":0},null,{"$f":"+'I M P R I M I R'!B283","v":0},{"$f":"+'I M P R I M I R'!C283","v":0},{"$f":"+'I M P R I M I R'!D283","v":"DOMICILIO REAL:"},{"$f":"+'I M P R I M I R'!E283","v":"<<<<>>>>NO COMPLETADO"},"2016-03-16",0,"465/16"]
[null,null,{"$f":"+'I M P R I M I R'!A284","v":"NS"},{"$f":"+'I M P R I M I R'!D$3","v":0},null,{"$f":"+'I M P R I M I R'!B284","v":0},{"$f":"+'I M P R I M I R'!C284","v":0},{"$f":"+'I M P R I M I R'!D284","v":"CEL/TEL –sin puntos ni barras-:"},{"$f":"+'I M P R I M I R'!E284","v":"<<<<>>>>NO COMPLETADO"},"2016-03-16",0,"465/16"]
[null,null,{"$f":"+'I M P R I M I R'!A285","v":"NS"},{"$f":"+'I M P R I M I R'!D$3","v":0},null,{"$f":"+'I M P R I M I R'!B285","v":0},{"$f":"+'I M P R I M I R'!C285","v":0},{"$f":"+'I M P R I M I R'!D285","v":"EMAIL:"},{"$f":"+'I M P R I M I R'!E285","v":"<<<<>>>>NO COMPLETADO"},"2016-03-16",0,"465/16"]
[null,null,{"$f":"+'I M P R I M I R'!A286","v":"NS"},{"$f":"+'I M P R I M I R'!D$3","v":0},null,{"$f":"+'I M P R I M I R'!B286","v":0},{"$f":"+'I M P R I M I R'!C286","v":0},{"$f":"+'I M P R I M I R'!D286","v":"ESTADO CIVIL:"},{"$f":"+'I M P R I M I R'!E286","v":"<<<<>>>>NO COMPLETADO"},"2016-03-16",0,"465/16"]
[null,null,{"$f":"+'I M P R I M I R'!A287","v":"NS"},{"$f":"+'I M P R I M I R'!D$3","v":0},null,{"$f":"+'I M P R I M I R'!B287","v":0},{"$f":"+'I M P R I M I R'!C287","v":0},{"$f":"+'I M P R I M I R'!D287","v":"APELLIDO/S CÓNYUGE:"},{"$f":"+'I M P R I M I R'!E287","v":"<<<<>>>>NO COMPLETADO"},"2016-03-16",0,"465/16"]
[null,null,{"$f":"+'I M P R I M I R'!A288","v":"NS"},{"$f":"+'I M P R I M I R'!D$3","v":0},null,{"$f":"+'I M P R I M I R'!B288","v":0},{"$f":"+'I M P R I M I R'!C288","v":0},{"$f":"+'I M P R I M I R'!D288","v":"NOMBRE/S CÓNYUGE"},{"$f":"+'I M P R I M I R'!E288","v":"<<<<>>>>NO COMPLETADO"},"2016-03-16",0,"465/16"]
[null,null,{"$f":"+'I M P R I M I R'!A289","v":"NS"},{"$f":"+'I M P R I M I R'!D$3","v":0},null,{"$f":"+'I M P R I M I R'!B289","v":0},{"$f":"+'I M P R I M I R'!C289","v":0},{"$f":"+'I M P R I M I R'!D289","v":"DOC. IDENTIDAD (cónyuge) –sin puntos ni barras-: "},{"$f":"+'I M P R I M I R'!E289","v":"<<<<>>>>NO COMPLETADO"},"2016-03-16",0,"465/16"]
[null,null,{"$f":"+'I M P R I M I R'!A290","v":"NS"},{"$f":"+'I M P R I M I R'!D$3","v":0},null,{"$f":"+'I M P R I M I R'!B290","v":0},{"$f":"+'I M P R I M I R'!C290","v":0},{"$f":"+'I M P R I M I R'!D290","v":"NOTA/OBSERVACIÓN."},{"$f":"+'I M P R I M I R'!E290","v":"<<<<>>>>NO COMPLETADO"},"2016-03-16",0,"465/16"]
[null,null,{"$f":"+'I M P R I M I R'!A291","v":"NS"},{"$f":"+'I M P R I M I R'!D$3","v":0},null,{"$f":"+'I M P R I M I R'!B291","v":0},{"$f":"+'I M P R I M I R'!C291","v":0},{"$f":"+'I M P R I M I R'!D291","v":"DOC. IDENTIDAD –sin puntos-: ……………………"},{"$f":"+'I M P R I M I R'!E291","v":"<<<<>>>>NO COMPLETADO"},"2016-03-16",0,"465/16"]
[null,null,{"$f":"+'I M P R I M I R'!A292","v":"NS"},{"$f":"+'I M P R I M I R'!D$3","v":0},null,{"$f":"+'I M P R I M I R'!B292","v":0},{"$f":"+'I M P R I M I R'!C292","v":0},{"$f":"+'I M P R I M I R'!D292","v":"CUIT/CUIL –sin puntos ni barras-:"},{"$f":"+'I M P R I M I R'!E292","v":"<<<<>>>>NO COMPLETADO"},"2016-03-16",0,"465/16"]
[null,null,{"$f":"+'I M P R I M I R'!A293","v":"NS"},{"$f":"+'I M P R I M I R'!D$3","v":0},null,{"$f":"+'I M P R I M I R'!B293","v":0},{"$f":"+'I M P R I M I R'!C293","v":0},{"$f":"+'I M P R I M I R'!D293","v":"FECHA DE NACIMIENTO –dd/mm/aa-:"},{"$f":"+'I M P R I M I R'!E293","v":"<<<<>>>>NO COMPLETADO"},"2016-03-16",0,"465/16"]
[null,null,{"$f":"+'I M P R I M I R'!A294","v":"NS"},{"$f":"+'I M P R I M I R'!D$3","v":0},null,{"$f":"+'I M P R I M I R'!B294","v":0},{"$f":"+'I M P R I M I R'!C294","v":0},{"$f":"+'I M P R I M I R'!D294","v":"LUGAR DE NACIMIENTO:"},{"$f":"+'I M P R I M I R'!E294","v":"<<<<>>>>NO COMPLETADO"},"2016-03-16",0,"465/16"]
[null,null,{"$f":"+'I M P R I M I R'!A295","v":"NS"},{"$f":"+'I M P R I M I R'!D$3","v":0},null,{"$f":"+'I M P R I M I R'!B295","v":0},{"$f":"+'I M P R I M I R'!C295","v":0},{"$f":"+'I M P R I M I R'!D295","v":"NACIONALIDAD:"},{"$f":"+'I M P R I M I R'!E295","v":"<<<<>>>>NO COMPLETADO"},"2016-03-16",0,"465/16"]
[null,null,{"$f":"+'I M P R I M I R'!A296","v":"NS"},{"$f":"+'I M P R I M I R'!D$3","v":0},null,{"$f":"+'I M P R I M I R'!B296","v":0},{"$f":"+'I M P R I M I R'!C296","v":0},{"$f":"+'I M P R I M I R'!D296","v":"PROFESIÓN:"},{"$f":"+'I M P R I M I R'!E296","v":"<<<<>>>>NO COMPLETADO"},"2016-03-16",0,"465/16"]
[null,null,{"$f":"+'I M P R I M I R'!A297","v":"NS"},{"$f":"+'I M P R I M I R'!D$3","v":0},null,{"$f":"+'I M P R I M I R'!B297","v":0},{"$f":"+'I M P R I M I R'!C297","v":0},{"$f":"+'I M P R I M I R'!D297","v":"DOMICILIO REAL:"},{"$f":"+'I M P R I M I R'!E297","v":"<<<<>>>>NO COMPLETADO"},"2016-03-16",0,"465/16"]
[null,null,{"$f":"+'I M P R I M I R'!A298","v":"NS"},{"$f":"+'I M P R I M I R'!D$3","v":0},null,{"$f":"+'I M P R I M I R'!B298","v":0},{"$f":"+'I M P R I M I R'!C298","v":0},{"$f":"+'I M P R I M I R'!D298","v":"CEL/TEL –sin puntos ni barras-:"},{"$f":"+'I M P R I M I R'!E298","v":"<<<<>>>>NO COMPLETADO"},"2016-03-16",0,"465/16"]
[null,null,{"$f":"+'I M P R I M I R'!A299","v":"NS"},{"$f":"+'I M P R I M I R'!D$3","v":0},null,{"$f":"+'I M P R I M I R'!B299","v":0},{"$f":"+'I M P R I M I R'!C299","v":0},{"$f":"+'I M P R I M I R'!D299","v":"EMAIL:"},{"$f":"+'I M P R I M I R'!E299","v":"<<<<>>>>NO COMPLETADO"},"2016-03-16",0,"465/16"]
[null,null,{"$f":"+'I M P R I M I R'!A300","v":"NS"},{"$f":"+'I M P R I M I R'!D$3","v":0},null,{"$f":"+'I M P R I M I R'!B300","v":0},{"$f":"+'I M P R I M I R'!C300","v":0},{"$f":"+'I M P R I M I R'!D300","v":"ESTADO CIVIL:"},{"$f":"+'I M P R I M I R'!E300","v":"<<<<>>>>NO COMPLETADO"},"2016-03-16",0,"465/16"]
[null,null,{"$f":"+'I M P R I M I R'!A301","v":"NS"},{"$f":"+'I M P R I M I R'!D$3","v":0},null,{"$f":"+'I M P R I M I R'!B301","v":0},{"$f":"+'I M P R I M I R'!C301","v":0},{"$f":"+'I M P R I M I R'!D301","v":"APELLIDO/S CÓNYUGE:"},{"$f":"+'I M P R I M I R'!E301","v":"<<<<>>>>NO COMPLETADO"},"2016-03-16",0,"465/16"]
[null,null,{"$f":"+'I M P R I M I R'!A302","v":"NS"},{"$f":"+'I M P R I M I R'!D$3","v":0},null,{"$f":"+'I M P R I M I R'!B302","v":0},{"$f":"+'I M P R I M I R'!C302","v":0},{"$f":"+'I M P R I M I R'!D302","v":"NOMBRE/S CÓNYUGE"},{"$f":"+'I M P R I M I R'!E302","v":"<<<<>>>>NO COMPLETADO"},"2016-03-16",0,"465/16"]
[null,null,{"$f":"+'I M P R I M I R'!A303","v":"NS"},{"$f":"+'I M P R I M I R'!D$3","v":0},null,{"$f":"+'I M P R I M I R'!B303","v":0},{"$f":"+'I M P R I M I R'!C303","v":0},{"$f":"+'I M P R I M I R'!D303","v":"DOC. IDENTIDAD (cónyuge) –sin puntos ni barras-: "},{"$f":"+'I M P R I M I R'!E303","v":"<<<<>>>>NO COMPLETADO"},"2016-03-16",0,"465/16"]
[null,null,{"$f":"+'I M P R I M I R'!A304","v":"NS"},{"$f":"+'I M P R I M I R'!D$3","v":0},null,{"$f":"+'I M P R I M I R'!B304","v":0},{"$f":"+'I M P R I M I R'!C304","v":0},{"$f":"+'I M P R I M I R'!D304","v":"NOTA/OBSERVACIÓN."},{"$f":"+'I M P R I M I R'!E304","v":"<<<<>>>>NO COMPLETADO"},"2016-03-16",0,"465/16"]
[null,null,{"$f":"+'I M P R I M I R'!A305","v":"NS"},{"$f":"+'I M P R I M I R'!D$3","v":0},null,{"$f":"+'I M P R I M I R'!B305","v":0},{"$f":"+'I M P R I M I R'!C305","v":0},{"$f":"+'I M P R I M I R'!D305","v":"DOC. IDENTIDAD –sin puntos-: ……………………"},{"$f":"+'I M P R I M I R'!E305","v":"<<<<>>>>NO COMPLETADO"},"2016-03-16",0,"465/16"]
[null,null,{"$f":"+'I M P R I M I R'!A306","v":"NS"},{"$f":"+'I M P R I M I R'!D$3","v":0},null,{"$f":"+'I M P R I M I R'!B306","v":0},{"$f":"+'I M P R I M I R'!C306","v":0},{"$f":"+'I M P R I M I R'!D306","v":"CUIT/CUIL –sin puntos ni barras-:"},{"$f":"+'I M P R I M I R'!E306","v":"<<<<>>>>NO COMPLETADO"},"2016-03-16",0,"465/16"]
[null,null,{"$f":"+'I M P R I M I R'!A307","v":"NS"},{"$f":"+'I M P R I M I R'!D$3","v":0},null,{"$f":"+'I M P R I M I R'!B307","v":0},{"$f":"+'I M P R I M I R'!C307","v":0},{"$f":"+'I M P R I M I R'!D307","v":"FECHA DE NACIMIENTO –dd/mm/aa-:"},{"$f":"+'I M P R I M I R'!E307","v":"<<<<>>>>NO COMPLETADO"},"2016-03-16",0,"465/16"]
[null,null,{"$f":"+'I M P R I M I R'!A308","v":"NS"},{"$f":"+'I M P R I M I R'!D$3","v":0},null,{"$f":"+'I M P R I M I R'!B308","v":0},{"$f":"+'I M P R I M I R'!C308","v":0},{"$f":"+'I M P R I M I R'!D308","v":"LUGAR DE NACIMIENTO:"},{"$f":"+'I M P R I M I R'!E308","v":"<<<<>>>>NO COMPLETADO"},"2016-03-16",0,"465/16"]
[null,null,{"$f":"+'I M P R I M I R'!A309","v":"NS"},{"$f":"+'I M P R I M I R'!D$3","v":0},null,{"$f":"+'I M P R I M I R'!B309","v":0},{"$f":"+'I M P R I M I R'!C309","v":0},{"$f":"+'I M P R I M I R'!D309","v":"NACIONALIDAD:"},{"$f":"+'I M P R I M I R'!E309","v":"<<<<>>>>NO COMPLETADO"},"2016-03-16",0,"465/16"]
[null,null,{"$f":"+'I M P R I M I R'!A310","v":"NS"},{"$f":"+'I M P R I M I R'!D$3","v":0},null,{"$f":"+'I M P R I M I R'!B310","v":0},{"$f":"+'I M P R I M I R'!C310","v":0},{"$f":"+'I M P R I M I R'!D310","v":"PROFESIÓN:"},{"$f":"+'I M P R I M I R'!E310","v":"<<<<>>>>NO COMPLETADO"},"2016-03-16",0,"465/16"]
[null,null,{"$f":"+'I M P R I M I R'!A311","v":"NS"},{"$f":"+'I M P R I M I R'!D$3","v":0},null,{"$f":"+'I M P R I M I R'!B311","v":0},{"$f":"+'I M P R I M I R'!C311","v":0},{"$f":"+'I M P R I M I R'!D311","v":"DOMICILIO REAL:"},{"$f":"+'I M P R I M I R'!E311","v":"<<<<>>>>NO COMPLETADO"},"2016-03-16",0,"465/16"]
[null,null,{"$f":"+'I M P R I M I R'!A312","v":"NS"},{"$f":"+'I M P R I M I R'!D$3","v":0},null,{"$f":"+'I M P R I M I R'!B312","v":0},{"$f":"+'I M P R I M I R'!C312","v":0},{"$f":"+'I M P R I M I R'!D312","v":"CEL/TEL –sin puntos ni barras-:"},{"$f":"+'I M P R I M I R'!E312","v":"<<<<>>>>NO COMPLETADO"},"2016-03-16",0,"465/16"]
[null,null,{"$f":"+'I M P R I M I R'!A313","v":"NS"},{"$f":"+'I M P R I M I R'!D$3","v":0},null,{"$f":"+'I M P R I M I R'!B313","v":0},{"$f":"+'I M P R I M I R'!C313","v":0},{"$f":"+'I M P R I M I R'!D313","v":"EMAIL:"},{"$f":"+'I M P R I M I R'!E313","v":"<<<<>>>>NO COMPLETADO"},"2016-03-16",0,"465/16"]
[null,null,{"$f":"+'I M P R I M I R'!A314","v":"NS"},{"$f":"+'I M P R I M I R'!D$3","v":0},null,{"$f":"+'I M P R I M I R'!B314","v":0},{"$f":"+'I M P R I M I R'!C314","v":0},{"$f":"+'I M P R I M I R'!D314","v":"ESTADO CIVIL:"},{"$f":"+'I M P R I M I R'!E314","v":"<<<<>>>>NO COMPLETADO"},"2016-03-16",0,"465/16"]
[null,null,{"$f":"+'I M P R I M I R'!A315","v":"NS"},{"$f":"+'I M P R I M I R'!D$3","v":0},null,{"$f":"+'I M P R I M I R'!B315","v":0},{"$f":"+'I M P R I M I R'!C315","v":0},{"$f":"+'I M P R I M I R'!D315","v":"APELLIDO/S CÓNYUGE:"},{"$f":"+'I M P R I M I R'!E315","v":"<<<<>>>>NO COMPLETADO"},"2016-03-16",0,"465/16"]
[null,null,{"$f":"+'I M P R I M I R'!A316","v":"NS"},{"$f":"+'I M P R I M I R'!D$3","v":0},null,{"$f":"+'I M P R I M I R'!B316","v":0},{"$f":"+'I M P R I M I R'!C316","v":0},{"$f":"+'I M P R I M I R'!D316","v":"NOMBRE/S CÓNYUGE"},{"$f":"+'I M P R I M I R'!E316","v":"<<<<>>>>NO COMPLETADO"},"2016-03-16",0,"465/16"]
[null,null,{"$f":"+'I M P R I M I R'!A317","v":"NS"},{"$f":"+'I M P R I M I R'!D$3","v":0},null,{"$f":"+'I M P R I M I R'!B317","v":0},{"$f":"+'I M P R I M I R'!C317","v":0},{"$f":"+'I M P R I M I R'!D317","v":"DOC. IDENTIDAD (cónyuge) –sin puntos ni barras-: "},{"$f":"+'I M P R I M I R'!E317","v":"<<<<>>>>NO COMPLETADO"},"2016-03-16",0,"465/16"]
[null,null,{"$f":"+'I M P R I M I R'!A318","v":"NS"},{"$f":"+'I M P R I M I R'!D$3","v":0},null,{"$f":"+'I M P R I M I R'!B318","v":0},{"$f":"+'I M P R I M I R'!C318","v":0},{"$f":"+'I M P R I M I R'!D318","v":"NOTA/OBSERVACIÓN."},{"$f":"+'I M P R I M I R'!E318","v":"<<<<>>>>NO COMPLETADO"},"2016-03-16",0,"465/16"]
[null,null,{"$f":"+'I M P R I M I R'!A319","v":"NS"},{"$f":"+'I M P R I M I R'!D$3","v":0},null,{"$f":"+'I M P R I M I R'!B319","v":0},{"$f":"+'I M P R I M I R'!C319","v":0},{"$f":"+'I M P R I M I R'!D319","v":"DOC. IDENTIDAD –sin puntos-: ……………………"},{"$f":"+'I M P R I M I R'!E319","v":"<<<<>>>>NO COMPLETADO"},"2016-03-16",0,"465/16"]
[null,null,{"$f":"+'I M P R I M I R'!A320","v":"NS"},{"$f":"+'I M P R I M I R'!D$3","v":0},null,{"$f":"+'I M P R I M I R'!B320","v":0},{"$f":"+'I M P R I M I R'!C320","v":0},{"$f":"+'I M P R I M I R'!D320","v":"CUIT/CUIL –sin puntos ni barras-:"},{"$f":"+'I M P R I M I R'!E320","v":"<<<<>>>>NO COMPLETADO"},"2016-03-16",0,"465/16"]
[null,null,{"$f":"+'I M P R I M I R'!A321","v":"NS"},{"$f":"+'I M P R I M I R'!D$3","v":0},null,{"$f":"+'I M P R I M I R'!B321","v":0},{"$f":"+'I M P R I M I R'!C321","v":0},{"$f":"+'I M P R I M I R'!D321","v":"FECHA DE NACIMIENTO –dd/mm/aa-:"},{"$f":"+'I M P R I M I R'!E321","v":"<<<<>>>>NO COMPLETADO"},"2016-03-16",0,"465/16"]
[null,null,{"$f":"+'I M P R I M I R'!A322","v":"NS"},{"$f":"+'I M P R I M I R'!D$3","v":0},null,{"$f":"+'I M P R I M I R'!B322","v":0},{"$f":"+'I M P R I M I R'!C322","v":0},{"$f":"+'I M P R I M I R'!D322","v":"LUGAR DE NACIMIENTO:"},{"$f":"+'I M P R I M I R'!E322","v":"<<<<>>>>NO COMPLETADO"},"2016-03-16",0,"465/16"]
[null,null,{"$f":"+'I M P R I M I R'!A323","v":"NS"},{"$f":"+'I M P R I M I R'!D$3","v":0},null,{"$f":"+'I M P R I M I R'!B323","v":0},{"$f":"+'I M P R I M I R'!C323","v":0},{"$f":"+'I M P R I M I R'!D323","v":"NACIONALIDAD:"},{"$f":"+'I M P R I M I R'!E323","v":"<<<<>>>>NO COMPLETADO"},"2016-03-16",0,"465/16"]
[null,null,{"$f":"+'I M P R I M I R'!A324","v":"NS"},{"$f":"+'I M P R I M I R'!D$3","v":0},null,{"$f":"+'I M P R I M I R'!B324","v":0},{"$f":"+'I M P R I M I R'!C324","v":0},{"$f":"+'I M P R I M I R'!D324","v":"PROFESIÓN:"},{"$f":"+'I M P R I M I R'!E324","v":"<<<<>>>>NO COMPLETADO"},"2016-03-16",0,"465/16"]
[null,null,{"$f":"+'I M P R I M I R'!A325","v":"NS"},{"$f":"+'I M P R I M I R'!D$3","v":0},null,{"$f":"+'I M P R I M I R'!B325","v":0},{"$f":"+'I M P R I M I R'!C325","v":0},{"$f":"+'I M P R I M I R'!D325","v":"DOMICILIO REAL:"},{"$f":"+'I M P R I M I R'!E325","v":"<<<<>>>>NO COMPLETADO"},"2016-03-16",0,"465/16"]
[null,null,{"$f":"+'I M P R I M I R'!A326","v":"NS"},{"$f":"+'I M P R I M I R'!D$3","v":0},null,{"$f":"+'I M P R I M I R'!B326","v":0},{"$f":"+'I M P R I M I R'!C326","v":0},{"$f":"+'I M P R I M I R'!D326","v":"CEL/TEL –sin puntos ni barras-:"},{"$f":"+'I M P R I M I R'!E326","v":"<<<<>>>>NO COMPLETADO"},"2016-03-16",0,"465/16"]
[null,null,{"$f":"+'I M P R I M I R'!A327","v":"NS"},{"$f":"+'I M P R I M I R'!D$3","v":0},null,{"$f":"+'I M P R I M I R'!B327","v":0},{"$f":"+'I M P R I M I R'!C327","v":0},{"$f":"+'I M P R I M I R'!D327","v":"EMAIL:"},{"$f":"+'I M P R I M I R'!E327","v":"<<<<>>>>NO COMPLETADO"},"2016-03-16",0,"465/16"]
[null,null,{"$f":"+'I M P R I M I R'!A328","v":"NS"},{"$f":"+'I M P R I M I R'!D$3","v":0},null,{"$f":"+'I M P R I M I R'!B328","v":0},{"$f":"+'I M P R I M I R'!C328","v":0},{"$f":"+'I M P R I M I R'!D328","v":"ESTADO CIVIL:"},{"$f":"+'I M P R I M I R'!E328","v":"<<<<>>>>NO COMPLETADO"},{"$f":"+H$2","v":"2016-03-16"},{"$f":"H$4","v":0},{"$f":"+H$3","v":"465/16"}]
[null,null,{"$f":"+'I M P R I M I R'!A329","v":"NS"},{"$f":"+'I M P R I M I R'!D$3","v":0},null,{"$f":"+'I M P R I M I R'!B329","v":0},{"$f":"+'I M P R I M I R'!C329","v":0},{"$f":"+'I M P R I M I R'!D329","v":"APELLIDO/S CÓNYUGE:"},{"$f":"+'I M P R I M I R'!E329","v":"<<<<>>>>NO COMPLETADO"},"2016-03-16",0,"465/16"]
[null,null,{"$f":"+'I M P R I M I R'!A330","v":"NS"},{"$f":"+'I M P R I M I R'!D$3","v":0},null,{"$f":"+'I M P R I M I R'!B330","v":0},{"$f":"+'I M P R I M I R'!C330","v":0},{"$f":"+'I M P R I M I R'!D330","v":"NOMBRE/S CÓNYUGE"},{"$f":"+'I M P R I M I R'!E330","v":"<<<<>>>>NO COMPLETADO"},"2016-03-16",0,"465/16"]
[null,null,{"$f":"+'I M P R I M I R'!A331","v":"NS"},{"$f":"+'I M P R I M I R'!D$3","v":0},null,{"$f":"+'I M P R I M I R'!B331","v":0},{"$f":"+'I M P R I M I R'!C331","v":0},{"$f":"+'I M P R I M I R'!D331","v":"DOC. IDENTIDAD (cónyuge) –sin puntos ni barras-: "},{"$f":"+'I M P R I M I R'!E331","v":"<<<<>>>>NO COMPLETADO"},"2016-03-16",0,"465/16"]
[null,null,{"$f":"+'I M P R I M I R'!A332","v":"NS"},{"$f":"+'I M P R I M I R'!D$3","v":0},null,{"$f":"+'I M P R I M I R'!B332","v":0},{"$f":"+'I M P R I M I R'!C332","v":0},{"$f":"+'I M P R I M I R'!D332","v":"NOTA/OBSERVACIÓN."},{"$f":"+'I M P R I M I R'!E332","v":"<<<<>>>>NO COMPLETADO"},"2016-03-16",0,"465/16"]
[null,null,{"$f":"+'I M P R I M I R'!A333","v":"NS"},{"$f":"+'I M P R I M I R'!D$3","v":0},null,{"$f":"+'I M P R I M I R'!B333","v":0},{"$f":"+'I M P R I M I R'!C333","v":0},{"$f":"+'I M P R I M I R'!D333","v":"DOC. IDENTIDAD –sin puntos-: ……………………"},{"$f":"+'I M P R I M I R'!E333","v":"<<<<>>>>NO COMPLETADO"},"2016-03-16",0,"465/16"]
[null,null,{"$f":"+'I M P R I M I R'!A334","v":"NS"},{"$f":"+'I M P R I M I R'!D$3","v":0},null,{"$f":"+'I M P R I M I R'!B334","v":0},{"$f":"+'I M P R I M I R'!C334","v":0},{"$f":"+'I M P R I M I R'!D334","v":"CUIT/CUIL –sin puntos ni barras-:"},{"$f":"+'I M P R I M I R'!E334","v":"<<<<>>>>NO COMPLETADO"},"2016-03-16",0,"465/16"]
[null,null,{"$f":"+'I M P R I M I R'!A335","v":"NS"},{"$f":"+'I M P R I M I R'!D$3","v":0},null,{"$f":"+'I M P R I M I R'!B335","v":0},{"$f":"+'I M P R I M I R'!C335","v":0},{"$f":"+'I M P R I M I R'!D335","v":"FECHA DE NACIMIENTO –dd/mm/aa-:"},{"$f":"+'I M P R I M I R'!E335","v":"<<<<>>>>NO COMPLETADO"},"2016-03-16",0,"465/16"]
[null,null,{"$f":"+'I M P R I M I R'!A336","v":"NS"},{"$f":"+'I M P R I M I R'!D$3","v":0},null,{"$f":"+'I M P R I M I R'!B336","v":0},{"$f":"+'I M P R I M I R'!C336","v":0},{"$f":"+'I M P R I M I R'!D336","v":"LUGAR DE NACIMIENTO:"},{"$f":"+'I M P R I M I R'!E336","v":"<<<<>>>>NO COMPLETADO"},"2016-03-16",0,"465/16"]
[null,null,{"$f":"+'I M P R I M I R'!A337","v":"NS"},{"$f":"+'I M P R I M I R'!D$3","v":0},null,{"$f":"+'I M P R I M I R'!B337","v":0},{"$f":"+'I M P R I M I R'!C337","v":0},{"$f":"+'I M P R I M I R'!D337","v":"NACIONALIDAD:"},{"$f":"+'I M P R I M I R'!E337","v":"<<<<>>>>NO COMPLETADO"},"2016-03-16",0,"465/16"]
[null,null,{"$f":"+'I M P R I M I R'!A338","v":"NS"},{"$f":"+'I M P R I M I R'!D$3","v":0},null,{"$f":"+'I M P R I M I R'!B338","v":0},{"$f":"+'I M P R I M I R'!C338","v":0},{"$f":"+'I M P R I M I R'!D338","v":"PROFESIÓN:"},{"$f":"+'I M P R I M I R'!E338","v":"<<<<>>>>NO COMPLETADO"},"2016-03-16",0,"465/16"]
[null,null,{"$f":"+'I M P R I M I R'!A339","v":"NS"},{"$f":"+'I M P R I M I R'!D$3","v":0},null,{"$f":"+'I M P R I M I R'!B339","v":0},{"$f":"+'I M P R I M I R'!C339","v":0},{"$f":"+'I M P R I M I R'!D339","v":"DOMICILIO REAL:"},{"$f":"+'I M P R I M I R'!E339","v":"<<<<>>>>NO COMPLETADO"},"2016-03-16",0,"465/16"]
[null,null,{"$f":"+'I M P R I M I R'!A340","v":"NS"},{"$f":"+'I M P R I M I R'!D$3","v":0},null,{"$f":"+'I M P R I M I R'!B340","v":0},{"$f":"+'I M P R I M I R'!C340","v":0},{"$f":"+'I M P R I M I R'!D340","v":"CEL/TEL –sin puntos ni barras-:"},{"$f":"+'I M P R I M I R'!E340","v":"<<<<>>>>NO COMPLETADO"},"2016-03-16",0,"465/16"]
[null,null,{"$f":"+'I M P R I M I R'!A341","v":"NS"},{"$f":"+'I M P R I M I R'!D$3","v":0},null,{"$f":"+'I M P R I M I R'!B341","v":0},{"$f":"+'I M P R I M I R'!C341","v":0},{"$f":"+'I M P R I M I R'!D341","v":"EMAIL:"},{"$f":"+'I M P R I M I R'!E341","v":"<<<<>>>>NO COMPLETADO"},"2016-03-16",0,"465/16"]
[null,null,{"$f":"+'I M P R I M I R'!A342","v":"NS"},{"$f":"+'I M P R I M I R'!D$3","v":0},null,{"$f":"+'I M P R I M I R'!B342","v":0},{"$f":"+'I M P R I M I R'!C342","v":0},{"$f":"+'I M P R I M I R'!D342","v":"ESTADO CIVIL:"},{"$f":"+'I M P R I M I R'!E342","v":"<<<<>>>>NO COMPLETADO"},"2016-03-16",0,"465/16"]
[null,null,{"$f":"+'I M P R I M I R'!A343","v":"NS"},{"$f":"+'I M P R I M I R'!D$3","v":0},null,{"$f":"+'I M P R I M I R'!B343","v":0},{"$f":"+'I M P R I M I R'!C343","v":0},{"$f":"+'I M P R I M I R'!D343","v":"APELLIDO/S CÓNYUGE:"},{"$f":"+'I M P R I M I R'!E343","v":"<<<<>>>>NO COMPLETADO"},"2016-03-16",0,"465/16"]
[null,null,{"$f":"+'I M P R I M I R'!A344","v":"NS"},{"$f":"+'I M P R I M I R'!D$3","v":0},null,{"$f":"+'I M P R I M I R'!B344","v":0},{"$f":"+'I M P R I M I R'!C344","v":0},{"$f":"+'I M P R I M I R'!D344","v":"NOMBRE/S CÓNYUGE"},{"$f":"+'I M P R I M I R'!E344","v":"<<<<>>>>NO COMPLETADO"},"2016-03-16",0,"465/16"]
[null,null,{"$f":"+'I M P R I M I R'!A345","v":"NS"},{"$f":"+'I M P R I M I R'!D$3","v":0},null,{"$f":"+'I M P R I M I R'!B345","v":0},{"$f":"+'I M P R I M I R'!C345","v":0},{"$f":"+'I M P R I M I R'!D345","v":"DOC. IDENTIDAD (cónyuge) –sin puntos ni barras-: "},{"$f":"+'I M P R I M I R'!E345","v":"<<<<>>>>NO COMPLETADO"},"2016-03-16",0,"465/16"]
[null,null,{"$f":"+'I M P R I M I R'!A346","v":"NS"},{"$f":"+'I M P R I M I R'!D$3","v":0},null,{"$f":"+'I M P R I M I R'!B346","v":0},{"$f":"+'I M P R I M I R'!C346","v":0},{"$f":"+'I M P R I M I R'!D346","v":"NOTA/OBSERVACIÓN."},{"$f":"+'I M P R I M I R'!E346","v":"<<<<>>>>NO COMPLETADO"},"2016-03-16",0,"465/16"]
[null,null,{"$f":"+'I M P R I M I R'!A347","v":"NS"},{"$f":"+'I M P R I M I R'!D$3","v":0},null,{"$f":"+'I M P R I M I R'!B347","v":0},{"$f":"+'I M P R I M I R'!C347","v":0},{"$f":"+'I M P R I M I R'!D347","v":"DOC. IDENTIDAD –sin puntos-: ……………………"},{"$f":"+'I M P R I M I R'!E347","v":"<<<<>>>>NO COMPLETADO"},"2016-03-16",0,"465/16"]
[null,null,{"$f":"+'I M P R I M I R'!A348","v":"NS"},{"$f":"+'I M P R I M I R'!D$3","v":0},null,{"$f":"+'I M P R I M I R'!B348","v":0},{"$f":"+'I M P R I M I R'!C348","v":0},{"$f":"+'I M P R I M I R'!D348","v":"CUIT/CUIL –sin puntos ni barras-:"},{"$f":"+'I M P R I M I R'!E348","v":"<<<<>>>>NO COMPLETADO"},"2016-03-16",0,"465/16"]
[null,null,{"$f":"+'I M P R I M I R'!A349","v":"NS"},{"$f":"+'I M P R I M I R'!D$3","v":0},null,{"$f":"+'I M P R I M I R'!B349","v":0},{"$f":"+'I M P R I M I R'!C349","v":0},{"$f":"+'I M P R I M I R'!D349","v":"FECHA DE NACIMIENTO –dd/mm/aa-:"},{"$f":"+'I M P R I M I R'!E349","v":"<<<<>>>>NO COMPLETADO"},"2016-03-16",0,"465/16"]
[null,null,{"$f":"+'I M P R I M I R'!A350","v":"NS"},{"$f":"+'I M P R I M I R'!D$3","v":0},null,{"$f":"+'I M P R I M I R'!B350","v":0},{"$f":"+'I M P R I M I R'!C350","v":0},{"$f":"+'I M P R I M I R'!D350","v":"LUGAR DE NACIMIENTO:"},{"$f":"+'I M P R I M I R'!E350","v":"<<<<>>>>NO COMPLETADO"},"2016-03-16",0,"465/16"]
[null,null,{"$f":"+'I M P R I M I R'!A351","v":"NS"},{"$f":"+'I M P R I M I R'!D$3","v":0},null,{"$f":"+'I M P R I M I R'!B351","v":0},{"$f":"+'I M P R I M I R'!C351","v":0},{"$f":"+'I M P R I M I R'!D351","v":"NACIONALIDAD:"},{"$f":"+'I M P R I M I R'!E351","v":"<<<<>>>>NO COMPLETADO"},"2016-03-16",0,"465/16"]
[null,null,{"$f":"+'I M P R I M I R'!A352","v":"NS"},{"$f":"+'I M P R I M I R'!D$3","v":0},null,{"$f":"+'I M P R I M I R'!B352","v":0},{"$f":"+'I M P R I M I R'!C352","v":0},{"$f":"+'I M P R I M I R'!D352","v":"PROFESIÓN:"},{"$f":"+'I M P R I M I R'!E352","v":"<<<<>>>>NO COMPLETADO"},"2016-03-16",0,"465/16"]
[null,null,{"$f":"+'I M P R I M I R'!A353","v":"NS"},{"$f":"+'I M P R I M I R'!D$3","v":0},null,{"$f":"+'I M P R I M I R'!B353","v":0},{"$f":"+'I M P R I M I R'!C353","v":0},{"$f":"+'I M P R I M I R'!D353","v":"DOMICILIO REAL:"},{"$f":"+'I M P R I M I R'!E353","v":"<<<<>>>>NO COMPLETADO"},"2016-03-16",0,"465/16"]
[null,null,{"$f":"+'I M P R I M I R'!A354","v":"NS"},{"$f":"+'I M P R I M I R'!D$3","v":0},null,{"$f":"+'I M P R I M I R'!B354","v":0},{"$f":"+'I M P R I M I R'!C354","v":0},{"$f":"+'I M P R I M I R'!D354","v":"CEL/TEL –sin puntos ni barras-:"},{"$f":"+'I M P R I M I R'!E354","v":"<<<<>>>>NO COMPLETADO"},"2016-03-16",0,"465/16"]
[null,null,{"$f":"+'I M P R I M I R'!A355","v":"NS"},{"$f":"+'I M P R I M I R'!D$3","v":0},null,{"$f":"+'I M P R I M I R'!B355","v":0},{"$f":"+'I M P R I M I R'!C355","v":0},{"$f":"+'I M P R I M I R'!D355","v":"EMAIL:"},{"$f":"+'I M P R I M I R'!E355","v":"<<<<>>>>NO COMPLETADO"},"2016-03-16",0,"465/16"]
[null,null,{"$f":"+'I M P R I M I R'!A356","v":"NS"},{"$f":"+'I M P R I M I R'!D$3","v":0},null,{"$f":"+'I M P R I M I R'!B356","v":0},{"$f":"+'I M P R I M I R'!C356","v":0},{"$f":"+'I M P R I M I R'!D356","v":"ESTADO CIVIL:"},{"$f":"+'I M P R I M I R'!E356","v":"<<<<>>>>NO COMPLETADO"},"2016-03-16",0,"465/16"]
[null,null,{"$f":"+'I M P R I M I R'!A357","v":"NS"},{"$f":"+'I M P R I M I R'!D$3","v":0},null,{"$f":"+'I M P R I M I R'!B357","v":0},{"$f":"+'I M P R I M I R'!C357","v":0},{"$f":"+'I M P R I M I R'!D357","v":"APELLIDO/S CÓNYUGE:"},{"$f":"+'I M P R I M I R'!E357","v":"<<<<>>>>NO COMPLETADO"},"2016-03-16",0,"465/16"]
[null,null,{"$f":"+'I M P R I M I R'!A358","v":"NS"},{"$f":"+'I M P R I M I R'!D$3","v":0},null,{"$f":"+'I M P R I M I R'!B358","v":0},{"$f":"+'I M P R I M I R'!C358","v":0},{"$f":"+'I M P R I M I R'!D358","v":"NOMBRE/S CÓNYUGE"},{"$f":"+'I M P R I M I R'!E358","v":"<<<<>>>>NO COMPLETADO"},"2016-03-16",0,"465/16"]
[null,null,{"$f":"+'I M P R I M I R'!A359","v":"NS"},{"$f":"+'I M P R I M I R'!D$3","v":0},null,{"$f":"+'I M P R I M I R'!B359","v":0},{"$f":"+'I M P R I M I R'!C359","v":0},{"$f":"+'I M P R I M I R'!D359","v":"DOC. IDENTIDAD (cónyuge) –sin puntos ni barras-: "},{"$f":"+'I M P R I M I R'!E359","v":"<<<<>>>>NO COMPLETADO"},"2016-03-16",0,"465/16"]
[null,null,{"$f":"+'I M P R I M I R'!A360","v":"NS"},{"$f":"+'I M P R I M I R'!D$3","v":0},null,{"$f":"+'I M P R I M I R'!B360","v":0},{"$f":"+'I M P R I M I R'!C360","v":0},{"$f":"+'I M P R I M I R'!D360","v":"NOTA/OBSERVACIÓN."},{"$f":"+'I M P R I M I R'!E360","v":"<<<<>>>>NO COMPLETADO"},"2016-03-16",0,"465/16"]
[null,null,{"$f":"+'I M P R I M I R'!A361","v":"V"},{"$f":"+'I M P R I M I R'!D$3","v":0},null,{"$f":"+'I M P R I M I R'!B361","v":0},{"$f":"+'I M P R I M I R'!C361","v":0},{"$f":"+'I M P R I M I R'!D361","v":"NOMBRE CARGO ADMINISTRACIÓN QUE OCUPA:"},{"$f":"+'I M P R I M I R'!E361","v":"<<<<>>>>NO COMPLETADO"},"2016-03-16",0,"465/16"]
[null,null,{"$f":"+'I M P R I M I R'!A362","v":"V"},{"$f":"+'I M P R I M I R'!D$3","v":0},null,{"$f":"+'I M P R I M I R'!B362","v":0},{"$f":"+'I M P R I M I R'!C362","v":0},{"$f":"+'I M P R I M I R'!D362","v":"NOMBRE CARGO ADMINISTRACIÓN QUE OCUPA:"},{"$f":"+'I M P R I M I R'!E362","v":"<<<<>>>>NO COMPLETADO"},"2016-03-16",0,"465/16"]
[null,null,{"$f":"+'I M P R I M I R'!A363","v":"V"},{"$f":"+'I M P R I M I R'!D$3","v":0},null,{"$f":"+'I M P R I M I R'!B363","v":0},{"$f":"+'I M P R I M I R'!C363","v":0},{"$f":"+'I M P R I M I R'!D363","v":"NOMBRE CARGO ADMINISTRACIÓN QUE OCUPA:"},{"$f":"+'I M P R I M I R'!E363","v":"<<<<>>>>NO COMPLETADO"},"2016-03-16",0,"465/16"]
[null,null,{"$f":"+'I M P R I M I R'!A364","v":"V"},{"$f":"+'I M P R I M I R'!D$3","v":0},null,{"$f":"+'I M P R I M I R'!B364","v":0},{"$f":"+'I M P R I M I R'!C364","v":0},{"$f":"+'I M P R I M I R'!D364","v":"NOMBRE CARGO ADMINISTRACIÓN QUE OCUPA:"},{"$f":"+'I M P R I M I R'!E364","v":"<<<<>>>>NO COMPLETADO"},"2016-03-16",0,"465/16"]
[null,null,{"$f":"+'I M P R I M I R'!A365","v":"V"},{"$f":"+'I M P R I M I R'!D$3","v":0},null,{"$f":"+'I M P R I M I R'!B365","v":0},{"$f":"+'I M P R I M I R'!C365","v":0},{"$f":"+'I M P R I M I R'!D365","v":"NOMBRE CARGO ADMINISTRACIÓN QUE OCUPA:"},{"$f":"+'I M P R I M I R'!E365","v":"<<<<>>>>NO COMPLETADO"},"2016-03-16",0,"465/16"]
[null,null,{"$f":"+'I M P R I M I R'!A366","v":"V"},{"$f":"+'I M P R I M I R'!D$3","v":0},null,{"$f":"+'I M P R I M I R'!B366","v":0},{"$f":"+'I M P R I M I R'!C366","v":0},{"$f":"+'I M P R I M I R'!D366","v":"NOMBRE CARGO ADMINISTRACIÓN QUE OCUPA:"},{"$f":"+'I M P R I M I R'!E366","v":"<<<<>>>>NO COMPLETADO"},"2016-03-16",0,"465/16"]
[null,null,{"$f":"+'I M P R I M I R'!A367","v":"V"},{"$f":"+'I M P R I M I R'!D$3","v":0},null,{"$f":"+'I M P R I M I R'!B367","v":0},{"$f":"+'I M P R I M I R'!C367","v":0},{"$f":"+'I M P R I M I R'!D367","v":"NOMBRE CARGO ADMINISTRACIÓN QUE OCUPA:"},{"$f":"+'I M P R I M I R'!E367","v":"<<<<>>>>NO COMPLETADO"},"2016-03-16",0,"465/16"]
[null,null,{"$f":"+'I M P R I M I R'!A368","v":"V"},{"$f":"+'I M P R I M I R'!D$3","v":0},null,{"$f":"+'I M P R I M I R'!B368","v":0},{"$f":"+'I M P R I M I R'!C368","v":0},{"$f":"+'I M P R I M I R'!D368","v":"NOMBRE CARGO ADMINISTRACIÓN QUE OCUPA:"},{"$f":"+'I M P R I M I R'!E368","v":"<<<<>>>>NO COMPLETADO"},"2016-03-16",0,"465/16"]
[null,null,{"$f":"+'I M P R I M I R'!A369","v":"V"},{"$f":"+'I M P R I M I R'!D$3","v":0},null,{"$f":"+'I M P R I M I R'!B369","v":0},{"$f":"+'I M P R I M I R'!C369","v":0},{"$f":"+'I M P R I M I R'!D369","v":"NOMBRE CARGO ADMINISTRACIÓN QUE OCUPA:"},{"$f":"+'I M P R I M I R'!E369","v":"<<<<>>>>NO COMPLETADO"},"2016-03-16",0,"465/16"]
[null,null,{"$f":"+'I M P R I M I R'!A370","v":"V"},{"$f":"+'I M P R I M I R'!D$3","v":0},null,{"$f":"+'I M P R I M I R'!B370","v":0},{"$f":"+'I M P R I M I R'!C370","v":0},{"$f":"+'I M P R I M I R'!D370","v":"NOMBRE CARGO ADMINISTRACIÓN QUE OCUPA:"},{"$f":"+'I M P R I M I R'!E370","v":"<<<<>>>>NO COMPLETADO"},"2016-03-16",0,"465/16"]
[null,null,{"$f":"+'I M P R I M I R'!A371","v":"V"},{"$f":"+'I M P R I M I R'!D$3","v":0},null,{"$f":"+'I M P R I M I R'!B371","v":0},{"$f":"+'I M P R I M I R'!C371","v":0},{"$f":"+'I M P R I M I R'!D371","v":"NOMBRE CARGO ADMINISTRACIÓN QUE OCUPA:"},{"$f":"+'I M P R I M I R'!E371","v":"<<<<>>>>NO COMPLETADO"},"2016-03-16",0,"465/16"]
[null,null,{"$f":"+'I M P R I M I R'!A372","v":"V"},{"$f":"+'I M P R I M I R'!D$3","v":0},null,{"$f":"+'I M P R I M I R'!B372","v":0},{"$f":"+'I M P R I M I R'!C372","v":0},{"$f":"+'I M P R I M I R'!D372","v":"NOMBRE CARGO ADMINISTRACIÓN QUE OCUPA:"},{"$f":"+'I M P R I M I R'!E372","v":"<<<<>>>>NO COMPLETADO"},"2016-03-16",0,"465/16"]
[null,null,{"$f":"+'I M P R I M I R'!A373","v":"V"},{"$f":"+'I M P R I M I R'!D$3","v":0},null,{"$f":"+'I M P R I M I R'!B373","v":0},{"$f":"+'I M P R I M I R'!C373","v":0},{"$f":"+'I M P R I M I R'!D373","v":"NOMBRE CARGO ADMINISTRACIÓN QUE OCUPA:"},{"$f":"+'I M P R I M I R'!E373","v":"<<<<>>>>NO COMPLETADO"},"2016-03-16",0,"465/16"]
[null,null,{"$f":"+'I M P R I M I R'!A374","v":"V"},{"$f":"+'I M P R I M I R'!D$3","v":0},null,{"$f":"+'I M P R I M I R'!B374","v":0},{"$f":"+'I M P R I M I R'!C374","v":0},{"$f":"+'I M P R I M I R'!D374","v":"NOMBRE CARGO ADMINISTRACIÓN QUE OCUPA:"},{"$f":"+'I M P R I M I R'!E374","v":"<<<<>>>>NO COMPLETADO"},"2016-03-16",0,"465/16"]
[null,null,{"$f":"+'I M P R I M I R'!A375","v":"V"},{"$f":"+'I M P R I M I R'!D$3","v":0},null,{"$f":"+'I M P R I M I R'!B375","v":0},{"$f":"+'I M P R I M I R'!C375","v":0},{"$f":"+'I M P R I M I R'!D375","v":"NOMBRE CARGO ADMINISTRACIÓN QUE OCUPA:"},{"$f":"+'I M P R I M I R'!E375","v":"<<<<>>>>NO COMPLETADO"},"2016-03-16",0,"465/16"]
[null,null,{"$f":"+'I M P R I M I R'!A376","v":"V"},{"$f":"+'I M P R I M I R'!D$3","v":0},null,{"$f":"+'I M P R I M I R'!B376","v":0},{"$f":"+'I M P R I M I R'!C376","v":0},{"$f":"+'I M P R I M I R'!D376","v":"NOMBRE CARGO ADMINISTRACIÓN QUE OCUPA:"},{"$f":"+'I M P R I M I R'!E376","v":"<<<<>>>>NO COMPLETADO"},"2016-03-16",0,"465/16"]
[null,null,{"$f":"+'I M P R I M I R'!A377","v":"V"},{"$f":"+'I M P R I M I R'!D$3","v":0},null,{"$f":"+'I M P R I M I R'!B377","v":0},{"$f":"+'I M P R I M I R'!C377","v":0},{"$f":"+'I M P R I M I R'!D377","v":"NOMBRE CARGO ADMINISTRACIÓN QUE OCUPA:"},{"$f":"+'I M P R I M I R'!E377","v":"<<<<>>>>NO COMPLETADO"},"2016-03-16",0,"465/16"]
[null,null,{"$f":"+'I M P R I M I R'!A378","v":"V"},{"$f":"+'I M P R I M I R'!D$3","v":0},null,{"$f":"+'I M P R I M I R'!B378","v":0},{"$f":"+'I M P R I M I R'!C378","v":0},{"$f":"+'I M P R I M I R'!D378","v":"NOMBRE CARGO ADMINISTRACIÓN QUE OCUPA:"},{"$f":"+'I M P R I M I R'!E378","v":"<<<<>>>>NO COMPLETADO"},"2016-03-16",0,"465/16"]
[null,null,{"$f":"+'I M P R I M I R'!A379","v":"V"},{"$f":"+'I M P R I M I R'!D$3","v":0},null,{"$f":"+'I M P R I M I R'!B379","v":0},{"$f":"+'I M P R I M I R'!C379","v":0},{"$f":"+'I M P R I M I R'!D379","v":"NOMBRE CARGO ADMINISTRACIÓN QUE OCUPA:"},{"$f":"+'I M P R I M I R'!E379","v":"<<<<>>>>NO COMPLETADO"},"2016-03-16",0,"465/16"]
[null,null,{"$f":"+'I M P R I M I R'!A380","v":"V"},{"$f":"+'I M P R I M I R'!D$3","v":0},null,{"$f":"+'I M P R I M I R'!B380","v":0},{"$f":"+'I M P R I M I R'!C380","v":0},{"$f":"+'I M P R I M I R'!D380","v":"NOMBRE CARGO ADMINISTRACIÓN QUE OCUPA:"},{"$f":"+'I M P R I M I R'!E380","v":"<<<<>>>>NO COMPLETADO"},"2016-03-16",0,"465/16"]
[null,null,{"$f":"+'I M P R I M I R'!A381","v":"V"},{"$f":"+'I M P R I M I R'!D$3","v":0},null,{"$f":"+'I M P R I M I R'!B381","v":0},{"$f":"+'I M P R I M I R'!C381","v":0},{"$f":"+'I M P R I M I R'!D381","v":"NOMBRE CARGO ADMINISTRACIÓN QUE OCUPA:"},{"$f":"+'I M P R I M I R'!E381","v":"<<<<>>>>NO COMPLETADO"},"2016-03-16",0,"465/16"]
[null,null,{"$f":"+'I M P R I M I R'!A382","v":"V"},{"$f":"+'I M P R I M I R'!D$3","v":0},null,{"$f":"+'I M P R I M I R'!B382","v":0},{"$f":"+'I M P R I M I R'!C382","v":0},{"$f":"+'I M P R I M I R'!D382","v":"NOMBRE CARGO ADMINISTRACIÓN QUE OCUPA:"},{"$f":"+'I M P R I M I R'!E382","v":"<<<<>>>>NO COMPLETADO"},"2016-03-16",0,"465/16"]
[null,null,{"$f":"+'I M P R I M I R'!A383","v":"V"},{"$f":"+'I M P R I M I R'!D$3","v":0},null,{"$f":"+'I M P R I M I R'!B383","v":0},{"$f":"+'I M P R I M I R'!C383","v":0},{"$f":"+'I M P R I M I R'!D383","v":"NOMBRE CARGO ADMINISTRACIÓN QUE OCUPA:"},{"$f":"+'I M P R I M I R'!E383","v":"<<<<>>>>NO COMPLETADO"},"2016-03-16",0,"465/16"]
[null,null,{"$f":"+'I M P R I M I R'!A384","v":"V"},{"$f":"+'I M P R I M I R'!D$3","v":0},null,{"$f":"+'I M P R I M I R'!B384","v":0},{"$f":"+'I M P R I M I R'!C384","v":0},{"$f":"+'I M P R I M I R'!D384","v":"NOMBRE CARGO ADMINISTRACIÓN QUE OCUPA:"},{"$f":"+'I M P R I M I R'!E384","v":"<<<<>>>>NO COMPLETADO"},"2016-03-16",0,"465/16"]
[null,null,{"$f":"+'I M P R I M I R'!A385","v":"V"},{"$f":"+'I M P R I M I R'!D$3","v":0},null,{"$f":"+'I M P R I M I R'!B385","v":0},{"$f":"+'I M P R I M I R'!C385","v":0},{"$f":"+'I M P R I M I R'!D385","v":"NOMBRE CARGO ADMINISTRACIÓN QUE OCUPA:"},{"$f":"+'I M P R I M I R'!E385","v":"<<<<>>>>NO COMPLETADO"},"2016-03-16",0,"465/16"]
[null,null,{"$f":"+'I M P R I M I R'!A386","v":"V"},{"$f":"+'I M P R I M I R'!D$3","v":0},null,{"$f":"+'I M P R I M I R'!B386","v":0},{"$f":"+'I M P R I M I R'!C386","v":0},{"$f":"+'I M P R I M I R'!D386","v":"NOMBRE CARGO ADMINISTRACIÓN QUE OCUPA:"},{"$f":"+'I M P R I M I R'!E386","v":"<<<<>>>>NO COMPLETADO"},"2016-03-16",0,"465/16"]
[null,null,{"$f":"+'I M P R I M I R'!A387","v":"V"},{"$f":"+'I M P R I M I R'!D$3","v":0},null,{"$f":"+'I M P R I M I R'!B387","v":0},{"$f":"+'I M P R I M I R'!C387","v":0},{"$f":"+'I M P R I M I R'!D387","v":"NOMBRE CARGO ADMINISTRACIÓN QUE OCUPA:"},{"$f":"+'I M P R I M I R'!E387","v":"<<<<>>>>NO COMPLETADO"},"2016-03-16",0,"465/16"]
[null,null,{"$f":"+'I M P R I M I R'!A388","v":"V"},{"$f":"+'I M P R I M I R'!D$3","v":0},null,{"$f":"+'I M P R I M I R'!B388","v":0},{"$f":"+'I M P R I M I R'!C388","v":0},{"$f":"+'I M P R I M I R'!D388","v":"NOMBRE CARGO ADMINISTRACIÓN QUE OCUPA:"},{"$f":"+'I M P R I M I R'!E388","v":"<<<<>>>>NO COMPLETADO"},"2016-03-16",0,"465/16"]
[null,null,{"$f":"+'I M P R I M I R'!A389","v":"V"},{"$f":"+'I M P R I M I R'!D$3","v":0},null,{"$f":"+'I M P R I M I R'!B389","v":0},{"$f":"+'I M P R I M I R'!C389","v":0},{"$f":"+'I M P R I M I R'!D389","v":"NOMBRE CARGO ADMINISTRACIÓN QUE OCUPA:"},{"$f":"+'I M P R I M I R'!E389","v":"<<<<>>>>NO COMPLETADO"},"2016-03-16",0,"465/16"]
[null,null,{"$f":"+'I M P R I M I R'!A390","v":"VI"},{"$f":"+'I M P R I M I R'!D$3","v":0},null,{"$f":"+'I M P R I M I R'!B390","v":0},{"$f":"+'I M P R I M I R'!C390","v":0},{"$f":"+'I M P R I M I R'!D390","v":"NOMBRE CARGO FISCALIZACIÓN QUE OCUPA:"},{"$f":"+'I M P R I M I R'!E390","v":"<<<<>>>>NO COMPLETADO"},"2016-03-16",0,"465/16"]
[null,null,{"$f":"+'I M P R I M I R'!A391","v":"VI"},{"$f":"+'I M P R I M I R'!D$3","v":0},null,{"$f":"+'I M P R I M I R'!B391","v":0},{"$f":"+'I M P R I M I R'!C391","v":0},{"$f":"+'I M P R I M I R'!D391","v":"NOMBRE CARGO FISCALIZACIÓN QUE OCUPA:"},{"$f":"+'I M P R I M I R'!E391","v":"<<<<>>>>NO COMPLETADO"},"2016-03-16",0,"465/16"]
[null,null,{"$f":"+'I M P R I M I R'!A392","v":"VI"},{"$f":"+'I M P R I M I R'!D$3","v":0},null,{"$f":"+'I M P R I M I R'!B392","v":0},{"$f":"+'I M P R I M I R'!C392","v":0},{"$f":"+'I M P R I M I R'!D392","v":"NOMBRE CARGO FISCALIZACIÓN QUE OCUPA:"},{"$f":"+'I M P R I M I R'!E392","v":"<<<<>>>>NO COMPLETADO"},{"$f":"+H$2","v":"2016-03-16"},{"$f":"H$4","v":0},{"$f":"+H$3","v":"465/16"}]
[null,null,{"$f":"+'I M P R I M I R'!A393","v":"VI"},{"$f":"+'I M P R I M I R'!D$3","v":0},null,{"$f":"+'I M P R I M I R'!B393","v":0},{"$f":"+'I M P R I M I R'!C393","v":0},{"$f":"+'I M P R I M I R'!D393","v":"NOMBRE CARGO FISCALIZACIÓN QUE OCUPA:"},{"$f":"+'I M P R I M I R'!E393","v":"<<<<>>>>NO COMPLETADO"},"2016-03-16",0,"465/16"]
[null,null,{"$f":"+'I M P R I M I R'!A394","v":"VI"},{"$f":"+'I M P R I M I R'!D$3","v":0},null,{"$f":"+'I M P R I M I R'!B394","v":0},{"$f":"+'I M P R I M I R'!C394","v":0},{"$f":"+'I M P R I M I R'!D394","v":"NOMBRE CARGO FISCALIZACIÓN QUE OCUPA:"},{"$f":"+'I M P R I M I R'!E394","v":"<<<<>>>>NO COMPLETADO"},"2016-03-16",0,"465/16"]
[null,null,{"$f":"+'I M P R I M I R'!A395","v":"VI"},{"$f":"+'I M P R I M I R'!D$3","v":0},null,{"$f":"+'I M P R I M I R'!B395","v":0},{"$f":"+'I M P R I M I R'!C395","v":0},{"$f":"+'I M P R I M I R'!D395","v":"NOMBRE CARGO FISCALIZACIÓN QUE OCUPA:"},{"$f":"+'I M P R I M I R'!E395","v":"<<<<>>>>NO COMPLETADO"},"2016-03-16",0,"465/16"]
[null,null,{"$f":"+'I M P R I M I R'!A396","v":"VI"},{"$f":"+'I M P R I M I R'!D$3","v":0},null,{"$f":"+'I M P R I M I R'!B396","v":0},{"$f":"+'I M P R I M I R'!C396","v":0},{"$f":"+'I M P R I M I R'!D396","v":"NOMBRE CARGO FISCALIZACIÓN QUE OCUPA:"},{"$f":"+'I M P R I M I R'!E396","v":"<<<<>>>>NO COMPLETADO"},"2016-03-16",0,"465/16"]
[null,null,{"$f":"+'I M P R I M I R'!A397","v":"VI"},{"$f":"+'I M P R I M I R'!D$3","v":0},null,{"$f":"+'I M P R I M I R'!B397","v":0},{"$f":"+'I M P R I M I R'!C397","v":0},{"$f":"+'I M P R I M I R'!D397","v":"NOMBRE CARGO FISCALIZACIÓN QUE OCUPA:"},{"$f":"+'I M P R I M I R'!E397","v":"<<<<>>>>NO COMPLETADO"},"2016-03-16",0,"465/16"]
[null,null,{"$f":"+'I M P R I M I R'!A398","v":"VI"},{"$f":"+'I M P R I M I R'!D$3","v":0},null,{"$f":"+'I M P R I M I R'!B398","v":0},{"$f":"+'I M P R I M I R'!C398","v":0},{"$f":"+'I M P R I M I R'!D398","v":"NOMBRE CARGO FISCALIZACIÓN QUE OCUPA:"},{"$f":"+'I M P R I M I R'!E398","v":"<<<<>>>>NO COMPLETADO"},"2016-03-16",0,"465/16"]
[null,null,{"$f":"+'I M P R I M I R'!A399","v":"VI"},{"$f":"+'I M P R I M I R'!D$3","v":0},null,{"$f":"+'I M P R I M I R'!B399","v":0},{"$f":"+'I M P R I M I R'!C399","v":0},{"$f":"+'I M P R I M I R'!D399","v":"NOMBRE CARGO FISCALIZACIÓN QUE OCUPA:"},{"$f":"+'I M P R I M I R'!E399","v":"<<<<>>>>NO COMPLETADO"},"2016-03-16",0,"465/16"]
[null,null,{"$f":"+'I M P R I M I R'!A400","v":"VI"},{"$f":"+'I M P R I M I R'!D$3","v":0},null,{"$f":"+'I M P R I M I R'!B400","v":0},{"$f":"+'I M P R I M I R'!C400","v":0},{"$f":"+'I M P R I M I R'!D400","v":"NOMBRE CARGO FISCALIZACIÓN QUE OCUPA:"},{"$f":"+'I M P R I M I R'!E400","v":"<<<<>>>>NO COMPLETADO"},"2016-03-16",0,"465/16"]
[null,null,{"$f":"+'I M P R I M I R'!A401","v":"VI"},{"$f":"+'I M P R I M I R'!D$3","v":0},null,{"$f":"+'I M P R I M I R'!B401","v":0},{"$f":"+'I M P R I M I R'!C401","v":0},{"$f":"+'I M P R I M I R'!D401","v":"NOMBRE CARGO FISCALIZACIÓN QUE OCUPA:"},{"$f":"+'I M P R I M I R'!E401","v":"<<<<>>>>NO COMPLETADO"},"2016-03-16",0,"465/16"]
[null,null,{"$f":"+'I M P R I M I R'!A402","v":"VI"},{"$f":"+'I M P R I M I R'!D$3","v":0},null,{"$f":"+'I M P R I M I R'!B402","v":0},{"$f":"+'I M P R I M I R'!C402","v":0},{"$f":"+'I M P R I M I R'!D402","v":"NOMBRE CARGO FISCALIZACIÓN QUE OCUPA:"},{"$f":"+'I M P R I M I R'!E402","v":"<<<<>>>>NO COMPLETADO"},"2016-03-16",0,"465/16"]
[null,null,{"$f":"+'I M P R I M I R'!A403","v":"VI"},{"$f":"+'I M P R I M I R'!D$3","v":0},null,{"$f":"+'I M P R I M I R'!B403","v":0},{"$f":"+'I M P R I M I R'!C403","v":0},{"$f":"+'I M P R I M I R'!D403","v":"NOMBRE CARGO FISCALIZACIÓN QUE OCUPA:"},{"$f":"+'I M P R I M I R'!E403","v":"<<<<>>>>NO COMPLETADO"},"2016-03-16",0,"465/16"]
[null,null,{"$f":"+'I M P R I M I R'!A404","v":"VI"},{"$f":"+'I M P R I M I R'!D$3","v":0},null,{"$f":"+'I M P R I M I R'!B404","v":0},{"$f":"+'I M P R I M I R'!C404","v":0},{"$f":"+'I M P R I M I R'!D404","v":"NOMBRE CARGO FISCALIZACIÓN QUE OCUPA:"},{"$f":"+'I M P R I M I R'!E404","v":"<<<<>>>>NO COMPLETADO"},"2016-03-16",0,"465/16"]
[null,null,{"$f":"+'I M P R I M I R'!A405","v":"VI"},{"$f":"+'I M P R I M I R'!D$3","v":0},null,{"$f":"+'I M P R I M I R'!B405","v":0},{"$f":"+'I M P R I M I R'!C405","v":0},{"$f":"+'I M P R I M I R'!D405","v":"NOMBRE CARGO FISCALIZACIÓN QUE OCUPA:"},{"$f":"+'I M P R I M I R'!E405","v":"<<<<>>>>NO COMPLETADO"},"2016-03-16",0,"465/16"]
[null,null,{"$f":"+'I M P R I M I R'!A406","v":"VI"},{"$f":"+'I M P R I M I R'!D$3","v":0},null,{"$f":"+'I M P R I M I R'!B406","v":0},{"$f":"+'I M P R I M I R'!C406","v":0},{"$f":"+'I M P R I M I R'!D406","v":"NOMBRE CARGO FISCALIZACIÓN QUE OCUPA:"},{"$f":"+'I M P R I M I R'!E406","v":"<<<<>>>>NO COMPLETADO"},"2016-03-16",0,"465/16"]
[null,null,{"$f":"+'I M P R I M I R'!A407","v":"VI"},{"$f":"+'I M P R I M I R'!D$3","v":0},null,{"$f":"+'I M P R I M I R'!B407","v":0},{"$f":"+'I M P R I M I R'!C407","v":0},{"$f":"+'I M P R I M I R'!D407","v":"NOMBRE CARGO FISCALIZACIÓN QUE OCUPA:"},{"$f":"+'I M P R I M I R'!E407","v":"<<<<>>>>NO COMPLETADO"},"2016-03-16",0,"465/16"]
[null,null,{"$f":"+'I M P R I M I R'!A408","v":"VI"},{"$f":"+'I M P R I M I R'!D$3","v":0},null,{"$f":"+'I M P R I M I R'!B408","v":0},{"$f":"+'I M P R I M I R'!C408","v":0},{"$f":"+'I M P R I M I R'!D408","v":"NOMBRE CARGO FISCALIZACIÓN QUE OCUPA:"},{"$f":"+'I M P R I M I R'!E408","v":"<<<<>>>>NO COMPLETADO"},"2016-03-16",0,"465/16"]
[null,null,{"$f":"+'I M P R I M I R'!A409","v":"VI"},{"$f":"+'I M P R I M I R'!D$3","v":0},null,{"$f":"+'I M P R I M I R'!B409","v":0},{"$f":"+'I M P R I M I R'!C409","v":0},{"$f":"+'I M P R I M I R'!D409","v":"NOMBRE CARGO FISCALIZACIÓN QUE OCUPA:"},{"$f":"+'I M P R I M I R'!E409","v":"<<<<>>>>NO COMPLETADO"},"2016-03-16",0,"465/16"]
[null,null,{"$f":"+'I M P R I M I R'!A410","v":"VI"},{"$f":"+'I M P R I M I R'!D$3","v":0},null,{"$f":"+'I M P R I M I R'!B410","v":0},{"$f":"+'I M P R I M I R'!C410","v":0},{"$f":"+'I M P R I M I R'!D410","v":"NOMBRE CARGO FISCALIZACIÓN QUE OCUPA:"},{"$f":"+'I M P R I M I R'!E410","v":"<<<<>>>>NO COMPLETADO"},"2016-03-16",0,"465/16"]
[null,null,{"$f":"+'I M P R I M I R'!A411","v":"VI"},{"$f":"+'I M P R I M I R'!D$3","v":0},null,{"$f":"+'I M P R I M I R'!B411","v":0},{"$f":"+'I M P R I M I R'!C411","v":0},{"$f":"+'I M P R I M I R'!D411","v":"NOMBRE CARGO FISCALIZACIÓN QUE OCUPA:"},{"$f":"+'I M P R I M I R'!E411","v":"<<<<>>>>NO COMPLETADO"},"2016-03-16",0,"465/16"]
[null,null,{"$f":"+'I M P R I M I R'!A412","v":"VI"},{"$f":"+'I M P R I M I R'!D$3","v":0},null,{"$f":"+'I M P R I M I R'!B412","v":0},{"$f":"+'I M P R I M I R'!C412","v":0},{"$f":"+'I M P R I M I R'!D412","v":"NOMBRE CARGO FISCALIZACIÓN QUE OCUPA:"},{"$f":"+'I M P R I M I R'!E412","v":"<<<<>>>>NO COMPLETADO"},"2016-03-16",0,"465/16"]
[null,null,{"$f":"+'I M P R I M I R'!A413","v":"VI"},{"$f":"+'I M P R I M I R'!D$3","v":0},null,{"$f":"+'I M P R I M I R'!B413","v":0},{"$f":"+'I M P R I M I R'!C413","v":0},{"$f":"+'I M P R I M I R'!D413","v":"NOMBRE CARGO FISCALIZACIÓN QUE OCUPA:"},{"$f":"+'I M P R I M I R'!E413","v":"<<<<>>>>NO COMPLETADO"},"2016-03-16",0,"465/16"]
[null,null,{"$f":"+'I M P R I M I R'!A414","v":"VI"},{"$f":"+'I M P R I M I R'!D$3","v":0},null,{"$f":"+'I M P R I M I R'!B414","v":0},{"$f":"+'I M P R I M I R'!C414","v":0},{"$f":"+'I M P R I M I R'!D414","v":"NOMBRE CARGO FISCALIZACIÓN QUE OCUPA:"},{"$f":"+'I M P R I M I R'!E414","v":"<<<<>>>>NO COMPLETADO"},"2016-03-16",0,"465/16"]
[null,null,{"$f":"+'I M P R I M I R'!A415","v":"VI"},{"$f":"+'I M P R I M I R'!D$3","v":0},null,{"$f":"+'I M P R I M I R'!B415","v":0},{"$f":"+'I M P R I M I R'!C415","v":0},{"$f":"+'I M P R I M I R'!D415","v":"NOMBRE CARGO FISCALIZACIÓN QUE OCUPA:"},{"$f":"+'I M P R I M I R'!E415","v":"<<<<>>>>NO COMPLETADO"},"2016-03-16",0,"465/16"]
[null,null,{"$f":"+'I M P R I M I R'!A416","v":"VI"},{"$f":"+'I M P R I M I R'!D$3","v":0},null,{"$f":"+'I M P R I M I R'!B416","v":0},{"$f":"+'I M P R I M I R'!C416","v":0},{"$f":"+'I M P R I M I R'!D416","v":"NOMBRE CARGO FISCALIZACIÓN QUE OCUPA:"},{"$f":"+'I M P R I M I R'!E416","v":"<<<<>>>>NO COMPLETADO"},"2016-03-16",0,"465/16"]
[null,null,{"$f":"+'I M P R I M I R'!A417","v":"VI"},{"$f":"+'I M P R I M I R'!D$3","v":0},null,{"$f":"+'I M P R I M I R'!B417","v":0},{"$f":"+'I M P R I M I R'!C417","v":0},{"$f":"+'I M P R I M I R'!D417","v":"NOMBRE CARGO FISCALIZACIÓN QUE OCUPA:"},{"$f":"+'I M P R I M I R'!E417","v":"<<<<>>>>NO COMPLETADO"},"2016-03-16",0,"465/16"]
[null,null,{"$f":"+'I M P R I M I R'!A418","v":"VI"},{"$f":"+'I M P R I M I R'!D$3","v":0},null,{"$f":"+'I M P R I M I R'!B418","v":0},{"$f":"+'I M P R I M I R'!C418","v":0},{"$f":"+'I M P R I M I R'!D418","v":"NOMBRE CARGO FISCALIZACIÓN QUE OCUPA:"},{"$f":"+'I M P R I M I R'!E418","v":"<<<<>>>>NO COMPLETADO"},"2016-03-16",0,"465/16"]
[null,null,{"$f":"+'I M P R I M I R'!A419","v":"VII.A"},{"$f":"+'I M P R I M I R'!D$3","v":0},null,{"$f":"+'I M P R I M I R'!B419","v":0},{"$f":"+'I M P R I M I R'!C419","v":0},{"$f":"+'I M P R I M I R'!D419","v":"DOC. IDENTIDAD –sin puntos-: ……………………"},{"$f":"+'I M P R I M I R'!E419","v":"<<<<>>>>NO COMPLETADO"},"2016-03-16",0,"465/16"]
[null,null,{"$f":"+'I M P R I M I R'!A420","v":"VII.A"},{"$f":"+'I M P R I M I R'!D$3","v":0},null,{"$f":"+'I M P R I M I R'!B420","v":0},{"$f":"+'I M P R I M I R'!C420","v":0},{"$f":"+'I M P R I M I R'!D420","v":"CUIT/CUIL –sin puntos ni barras-:"},{"$f":"+'I M P R I M I R'!E420","v":"<<<<>>>>NO COMPLETADO"},"2016-03-16",0,"465/16"]
[null,null,{"$f":"+'I M P R I M I R'!A421","v":"VII.A"},{"$f":"+'I M P R I M I R'!D$3","v":0},null,{"$f":"+'I M P R I M I R'!B421","v":0},{"$f":"+'I M P R I M I R'!C421","v":0},{"$f":"+'I M P R I M I R'!D421","v":"FECHA DE NACIMIENTO –dd/mm/aa-:"},{"$f":"+'I M P R I M I R'!E421","v":"<<<<>>>>NO COMPLETADO"},"2016-03-16",0,"465/16"]
[null,null,{"$f":"+'I M P R I M I R'!A422","v":"VII.A"},{"$f":"+'I M P R I M I R'!D$3","v":0},null,{"$f":"+'I M P R I M I R'!B422","v":0},{"$f":"+'I M P R I M I R'!C422","v":0},{"$f":"+'I M P R I M I R'!D422","v":"LUGAR DE NACIMIENTO:"},{"$f":"+'I M P R I M I R'!E422","v":"<<<<>>>>NO COMPLETADO"},"2016-03-16",0,"465/16"]
[null,null,{"$f":"+'I M P R I M I R'!A423","v":"VII.A"},{"$f":"+'I M P R I M I R'!D$3","v":0},null,{"$f":"+'I M P R I M I R'!B423","v":0},{"$f":"+'I M P R I M I R'!C423","v":0},{"$f":"+'I M P R I M I R'!D423","v":"NACIONALIDAD:"},{"$f":"+'I M P R I M I R'!E423","v":"<<<<>>>>NO COMPLETADO"},"2016-03-16",0,"465/16"]
[null,null,{"$f":"+'I M P R I M I R'!A424","v":"VII.A"},{"$f":"+'I M P R I M I R'!D$3","v":0},null,{"$f":"+'I M P R I M I R'!B424","v":0},{"$f":"+'I M P R I M I R'!C424","v":0},{"$f":"+'I M P R I M I R'!D424","v":"PROFESIÓN:"},{"$f":"+'I M P R I M I R'!E424","v":"<<<<>>>>NO COMPLETADO"},"2016-03-16",0,"465/16"]
[null,null,{"$f":"+'I M P R I M I R'!A425","v":"VII.A"},{"$f":"+'I M P R I M I R'!D$3","v":0},null,{"$f":"+'I M P R I M I R'!B425","v":0},{"$f":"+'I M P R I M I R'!C425","v":0},{"$f":"+'I M P R I M I R'!D425","v":"DOMICILIO REAL:"},{"$f":"+'I M P R I M I R'!E425","v":"<<<<>>>>NO COMPLETADO"},"2016-03-16",0,"465/16"]
[null,null,{"$f":"+'I M P R I M I R'!A426","v":"VII.A"},{"$f":"+'I M P R I M I R'!D$3","v":0},null,{"$f":"+'I M P R I M I R'!B426","v":0},{"$f":"+'I M P R I M I R'!C426","v":0},{"$f":"+'I M P R I M I R'!D426","v":"CEL/TEL –sin puntos ni barras-:"},{"$f":"+'I M P R I M I R'!E426","v":"<<<<>>>>NO COMPLETADO"},"2016-03-16",0,"465/16"]
[null,null,{"$f":"+'I M P R I M I R'!A427","v":"VII.A"},{"$f":"+'I M P R I M I R'!D$3","v":0},null,{"$f":"+'I M P R I M I R'!B427","v":0},{"$f":"+'I M P R I M I R'!C427","v":0},{"$f":"+'I M P R I M I R'!D427","v":"EMAIL:"},{"$f":"+'I M P R I M I R'!E427","v":"<<<<>>>>NO COMPLETADO"},"2016-03-16",0,"465/16"]
[null,null,{"$f":"+'I M P R I M I R'!A428","v":"VII.A"},{"$f":"+'I M P R I M I R'!D$3","v":0},null,{"$f":"+'I M P R I M I R'!B428","v":0},{"$f":"+'I M P R I M I R'!C428","v":0},{"$f":"+'I M P R I M I R'!D428","v":"ESTADO CIVIL:"},{"$f":"+'I M P R I M I R'!E428","v":"<<<<>>>>NO COMPLETADO"},"2016-03-16",0,"465/16"]
[null,null,{"$f":"+'I M P R I M I R'!A429","v":"VII.A"},{"$f":"+'I M P R I M I R'!D$3","v":0},null,{"$f":"+'I M P R I M I R'!B429","v":0},{"$f":"+'I M P R I M I R'!C429","v":0},{"$f":"+'I M P R I M I R'!D429","v":"APELLIDO/S CÓNYUGE:"},{"$f":"+'I M P R I M I R'!E429","v":"<<<<>>>>NO COMPLETADO"},"2016-03-16",0,"465/16"]
[null,null,{"$f":"+'I M P R I M I R'!A430","v":"VII.A"},{"$f":"+'I M P R I M I R'!D$3","v":0},null,{"$f":"+'I M P R I M I R'!B430","v":0},{"$f":"+'I M P R I M I R'!C430","v":0},{"$f":"+'I M P R I M I R'!D430","v":"NOMBRE/S CÓNYUGE"},{"$f":"+'I M P R I M I R'!E430","v":"<<<<>>>>NO COMPLETADO"},"2016-03-16",0,"465/16"]
[null,null,{"$f":"+'I M P R I M I R'!A431","v":"VII.A"},{"$f":"+'I M P R I M I R'!D$3","v":0},null,{"$f":"+'I M P R I M I R'!B431","v":0},{"$f":"+'I M P R I M I R'!C431","v":0},{"$f":"+'I M P R I M I R'!D431","v":"DOC. IDENTIDAD (cónyuge) –sin puntos ni barras-: "},{"$f":"+'I M P R I M I R'!E431","v":"<<<<>>>>NO COMPLETADO"},"2016-03-16",0,"465/16"]
[null,null,{"$f":"+'I M P R I M I R'!A432","v":"VII.A"},{"$f":"+'I M P R I M I R'!D$3","v":0},null,{"$f":"+'I M P R I M I R'!B432","v":0},{"$f":"+'I M P R I M I R'!C432","v":0},{"$f":"+'I M P R I M I R'!D432","v":"DOC. IDENTIDAD –sin puntos-: ……………………"},{"$f":"+'I M P R I M I R'!E432","v":"<<<<>>>>NO COMPLETADO"},"2016-03-16",0,"465/16"]
[null,null,{"$f":"+'I M P R I M I R'!A433","v":"VII.A"},{"$f":"+'I M P R I M I R'!D$3","v":0},null,{"$f":"+'I M P R I M I R'!B433","v":0},{"$f":"+'I M P R I M I R'!C433","v":0},{"$f":"+'I M P R I M I R'!D433","v":"CUIT/CUIL –sin puntos ni barras-:"},{"$f":"+'I M P R I M I R'!E433","v":"<<<<>>>>NO COMPLETADO"},"2016-03-16",0,"465/16"]
[null,null,{"$f":"+'I M P R I M I R'!A434","v":"VII.A"},{"$f":"+'I M P R I M I R'!D$3","v":0},null,{"$f":"+'I M P R I M I R'!B434","v":0},{"$f":"+'I M P R I M I R'!C434","v":0},{"$f":"+'I M P R I M I R'!D434","v":"FECHA DE NACIMIENTO –dd/mm/aa-:"},{"$f":"+'I M P R I M I R'!E434","v":"<<<<>>>>NO COMPLETADO"},"2016-03-16",0,"465/16"]
[null,null,{"$f":"+'I M P R I M I R'!A435","v":"VII.A"},{"$f":"+'I M P R I M I R'!D$3","v":0},null,{"$f":"+'I M P R I M I R'!B435","v":0},{"$f":"+'I M P R I M I R'!C435","v":0},{"$f":"+'I M P R I M I R'!D435","v":"LUGAR DE NACIMIENTO:"},{"$f":"+'I M P R I M I R'!E435","v":"<<<<>>>>NO COMPLETADO"},"2016-03-16",0,"465/16"]
[null,null,{"$f":"+'I M P R I M I R'!A436","v":"VII.A"},{"$f":"+'I M P R I M I R'!D$3","v":0},null,{"$f":"+'I M P R I M I R'!B436","v":0},{"$f":"+'I M P R I M I R'!C436","v":0},{"$f":"+'I M P R I M I R'!D436","v":"NACIONALIDAD:"},{"$f":"+'I M P R I M I R'!E436","v":"<<<<>>>>NO COMPLETADO"},"2016-03-16",0,"465/16"]
[null,null,{"$f":"+'I M P R I M I R'!A437","v":"VII.A"},{"$f":"+'I M P R I M I R'!D$3","v":0},null,{"$f":"+'I M P R I M I R'!B437","v":0},{"$f":"+'I M P R I M I R'!C437","v":0},{"$f":"+'I M P R I M I R'!D437","v":"PROFESIÓN:"},{"$f":"+'I M P R I M I R'!E437","v":"<<<<>>>>NO COMPLETADO"},"2016-03-16",0,"465/16"]
[null,null,{"$f":"+'I M P R I M I R'!A438","v":"VII.A"},{"$f":"+'I M P R I M I R'!D$3","v":0},null,{"$f":"+'I M P R I M I R'!B438","v":0},{"$f":"+'I M P R I M I R'!C438","v":0},{"$f":"+'I M P R I M I R'!D438","v":"DOMICILIO REAL:"},{"$f":"+'I M P R I M I R'!E438","v":"<<<<>>>>NO COMPLETADO"},"2016-03-16",0,"465/16"]
[null,null,{"$f":"+'I M P R I M I R'!A439","v":"VII.A"},{"$f":"+'I M P R I M I R'!D$3","v":0},null,{"$f":"+'I M P R I M I R'!B439","v":0},{"$f":"+'I M P R I M I R'!C439","v":0},{"$f":"+'I M P R I M I R'!D439","v":"CEL/TEL –sin puntos ni barras-:"},{"$f":"+'I M P R I M I R'!E439","v":"<<<<>>>>NO COMPLETADO"},"2016-03-16",0,"465/16"]
[null,null,{"$f":"+'I M P R I M I R'!A440","v":"VII.A"},{"$f":"+'I M P R I M I R'!D$3","v":0},null,{"$f":"+'I M P R I M I R'!B440","v":0},{"$f":"+'I M P R I M I R'!C440","v":0},{"$f":"+'I M P R I M I R'!D440","v":"EMAIL:"},{"$f":"+'I M P R I M I R'!E440","v":"<<<<>>>>NO COMPLETADO"},"2016-03-16",0,"465/16"]
[null,null,{"$f":"+'I M P R I M I R'!A441","v":"VII.A"},{"$f":"+'I M P R I M I R'!D$3","v":0},null,{"$f":"+'I M P R I M I R'!B441","v":0},{"$f":"+'I M P R I M I R'!C441","v":0},{"$f":"+'I M P R I M I R'!D441","v":"ESTADO CIVIL:"},{"$f":"+'I M P R I M I R'!E441","v":"<<<<>>>>NO COMPLETADO"},"2016-03-16",0,"465/16"]
[null,null,{"$f":"+'I M P R I M I R'!A442","v":"VII.A"},{"$f":"+'I M P R I M I R'!D$3","v":0},null,{"$f":"+'I M P R I M I R'!B442","v":0},{"$f":"+'I M P R I M I R'!C442","v":0},{"$f":"+'I M P R I M I R'!D442","v":"APELLIDO/S CÓNYUGE:"},{"$f":"+'I M P R I M I R'!E442","v":"<<<<>>>>NO COMPLETADO"},"2016-03-16",0,"465/16"]
[null,null,{"$f":"+'I M P R I M I R'!A443","v":"VII.A"},{"$f":"+'I M P R I M I R'!D$3","v":0},null,{"$f":"+'I M P R I M I R'!B443","v":0},{"$f":"+'I M P R I M I R'!C443","v":0},{"$f":"+'I M P R I M I R'!D443","v":"NOMBRE/S CÓNYUGE"},{"$f":"+'I M P R I M I R'!E443","v":"<<<<>>>>NO COMPLETADO"},"2016-03-16",0,"465/16"]
[null,null,{"$f":"+'I M P R I M I R'!A444","v":"VII.A"},{"$f":"+'I M P R I M I R'!D$3","v":0},null,{"$f":"+'I M P R I M I R'!B444","v":0},{"$f":"+'I M P R I M I R'!C444","v":0},{"$f":"+'I M P R I M I R'!D444","v":"DOC. IDENTIDAD (cónyuge) –sin puntos ni barras-: "},{"$f":"+'I M P R I M I R'!E444","v":"<<<<>>>>NO COMPLETADO"},"2016-03-16",0,"465/16"]
[null,null,{"$f":"+'I M P R I M I R'!A445","v":"VII.A"},{"$f":"+'I M P R I M I R'!D$3","v":0},null,{"$f":"+'I M P R I M I R'!B445","v":0},{"$f":"+'I M P R I M I R'!C445","v":0},{"$f":"+'I M P R I M I R'!D445","v":"DOC. IDENTIDAD –sin puntos-: ……………………"},{"$f":"+'I M P R I M I R'!E445","v":"<<<<>>>>NO COMPLETADO"},"2016-03-16",0,"465/16"]
[null,null,{"$f":"+'I M P R I M I R'!A446","v":"VII.A"},{"$f":"+'I M P R I M I R'!D$3","v":0},null,{"$f":"+'I M P R I M I R'!B446","v":0},{"$f":"+'I M P R I M I R'!C446","v":0},{"$f":"+'I M P R I M I R'!D446","v":"CUIT/CUIL –sin puntos ni barras-:"},{"$f":"+'I M P R I M I R'!E446","v":"<<<<>>>>NO COMPLETADO"},"2016-03-16",0,"465/16"]
[null,null,{"$f":"+'I M P R I M I R'!A447","v":"VII.A"},{"$f":"+'I M P R I M I R'!D$3","v":0},null,{"$f":"+'I M P R I M I R'!B447","v":0},{"$f":"+'I M P R I M I R'!C447","v":0},{"$f":"+'I M P R I M I R'!D447","v":"FECHA DE NACIMIENTO –dd/mm/aa-:"},{"$f":"+'I M P R I M I R'!E447","v":"<<<<>>>>NO COMPLETADO"},"2016-03-16",0,"465/16"]
[null,null,{"$f":"+'I M P R I M I R'!A448","v":"VII.A"},{"$f":"+'I M P R I M I R'!D$3","v":0},null,{"$f":"+'I M P R I M I R'!B448","v":0},{"$f":"+'I M P R I M I R'!C448","v":0},{"$f":"+'I M P R I M I R'!D448","v":"LUGAR DE NACIMIENTO:"},{"$f":"+'I M P R I M I R'!E448","v":"<<<<>>>>NO COMPLETADO"},"2016-03-16",0,"465/16"]
[null,null,{"$f":"+'I M P R I M I R'!A449","v":"VII.A"},{"$f":"+'I M P R I M I R'!D$3","v":0},null,{"$f":"+'I M P R I M I R'!B449","v":0},{"$f":"+'I M P R I M I R'!C449","v":0},{"$f":"+'I M P R I M I R'!D449","v":"NACIONALIDAD:"},{"$f":"+'I M P R I M I R'!E449","v":"<<<<>>>>NO COMPLETADO"},"2016-03-16",0,"465/16"]
[null,null,{"$f":"+'I M P R I M I R'!A450","v":"VII.A"},{"$f":"+'I M P R I M I R'!D$3","v":0},null,{"$f":"+'I M P R I M I R'!B450","v":0},{"$f":"+'I M P R I M I R'!C450","v":0},{"$f":"+'I M P R I M I R'!D450","v":"PROFESIÓN:"},{"$f":"+'I M P R I M I R'!E450","v":"<<<<>>>>NO COMPLETADO"},"2016-03-16",0,"465/16"]
[null,null,{"$f":"+'I M P R I M I R'!A451","v":"VII.A"},{"$f":"+'I M P R I M I R'!D$3","v":0},null,{"$f":"+'I M P R I M I R'!B451","v":0},{"$f":"+'I M P R I M I R'!C451","v":0},{"$f":"+'I M P R I M I R'!D451","v":"DOMICILIO REAL:"},{"$f":"+'I M P R I M I R'!E451","v":"<<<<>>>>NO COMPLETADO"},"2016-03-16",0,"465/16"]
[null,null,{"$f":"+'I M P R I M I R'!A452","v":"VII.A"},{"$f":"+'I M P R I M I R'!D$3","v":0},null,{"$f":"+'I M P R I M I R'!B452","v":0},{"$f":"+'I M P R I M I R'!C452","v":0},{"$f":"+'I M P R I M I R'!D452","v":"CEL/TEL –sin puntos ni barras-:"},{"$f":"+'I M P R I M I R'!E452","v":"<<<<>>>>NO COMPLETADO"},"2016-03-16",0,"465/16"]
[null,null,{"$f":"+'I M P R I M I R'!A453","v":"VII.A"},{"$f":"+'I M P R I M I R'!D$3","v":0},null,{"$f":"+'I M P R I M I R'!B453","v":0},{"$f":"+'I M P R I M I R'!C453","v":0},{"$f":"+'I M P R I M I R'!D453","v":"EMAIL:"},{"$f":"+'I M P R I M I R'!E453","v":"<<<<>>>>NO COMPLETADO"},"2016-03-16",0,"465/16"]
[null,null,{"$f":"+'I M P R I M I R'!A454","v":"VII.A"},{"$f":"+'I M P R I M I R'!D$3","v":0},null,{"$f":"+'I M P R I M I R'!B454","v":0},{"$f":"+'I M P R I M I R'!C454","v":0},{"$f":"+'I M P R I M I R'!D454","v":"ESTADO CIVIL:"},{"$f":"+'I M P R I M I R'!E454","v":"<<<<>>>>NO COMPLETADO"},"2016-03-16",0,"465/16"]
[null,null,{"$f":"+'I M P R I M I R'!A455","v":"VII.A"},{"$f":"+'I M P R I M I R'!D$3","v":0},null,{"$f":"+'I M P R I M I R'!B455","v":0},{"$f":"+'I M P R I M I R'!C455","v":0},{"$f":"+'I M P R I M I R'!D455","v":"APELLIDO/S CÓNYUGE:"},{"$f":"+'I M P R I M I R'!E455","v":"<<<<>>>>NO COMPLETADO"},"2016-03-16",0,"465/16"]
[null,null,{"$f":"+'I M P R I M I R'!A456","v":"VII.A"},{"$f":"+'I M P R I M I R'!D$3","v":0},null,{"$f":"+'I M P R I M I R'!B456","v":0},{"$f":"+'I M P R I M I R'!C456","v":0},{"$f":"+'I M P R I M I R'!D456","v":"NOMBRE/S CÓNYUGE"},{"$f":"+'I M P R I M I R'!E456","v":"<<<<>>>>NO COMPLETADO"},{"$f":"+H$2","v":"2016-03-16"},{"$f":"H$4","v":0},{"$f":"+H$3","v":"465/16"}]
[null,null,{"$f":"+'I M P R I M I R'!A457","v":"VII.A"},{"$f":"+'I M P R I M I R'!D$3","v":0},null,{"$f":"+'I M P R I M I R'!B457","v":0},{"$f":"+'I M P R I M I R'!C457","v":0},{"$f":"+'I M P R I M I R'!D457","v":"DOC. IDENTIDAD (cónyuge) –sin puntos ni barras-: "},{"$f":"+'I M P R I M I R'!E457","v":"<<<<>>>>NO COMPLETADO"},"2016-03-16",0,"465/16"]
[null,null,{"$f":"+'I M P R I M I R'!A458","v":"VII.A"},{"$f":"+'I M P R I M I R'!D$3","v":0},null,{"$f":"+'I M P R I M I R'!B458","v":0},{"$f":"+'I M P R I M I R'!C458","v":0},{"$f":"+'I M P R I M I R'!D458","v":"DOC. IDENTIDAD –sin puntos-: ……………………"},{"$f":"+'I M P R I M I R'!E458","v":"<<<<>>>>NO COMPLETADO"},"2016-03-16",0,"465/16"]
[null,null,{"$f":"+'I M P R I M I R'!A459","v":"VII.A"},{"$f":"+'I M P R I M I R'!D$3","v":0},null,{"$f":"+'I M P R I M I R'!B459","v":0},{"$f":"+'I M P R I M I R'!C459","v":0},{"$f":"+'I M P R I M I R'!D459","v":"CUIT/CUIL –sin puntos ni barras-:"},{"$f":"+'I M P R I M I R'!E459","v":"<<<<>>>>NO COMPLETADO"},"2016-03-16",0,"465/16"]
[null,null,{"$f":"+'I M P R I M I R'!A460","v":"VII.A"},{"$f":"+'I M P R I M I R'!D$3","v":0},null,{"$f":"+'I M P R I M I R'!B460","v":0},{"$f":"+'I M P R I M I R'!C460","v":0},{"$f":"+'I M P R I M I R'!D460","v":"FECHA DE NACIMIENTO –dd/mm/aa-:"},{"$f":"+'I M P R I M I R'!E460","v":"<<<<>>>>NO COMPLETADO"},"2016-03-16",0,"465/16"]
[null,null,{"$f":"+'I M P R I M I R'!A461","v":"VII.A"},{"$f":"+'I M P R I M I R'!D$3","v":0},null,{"$f":"+'I M P R I M I R'!B461","v":0},{"$f":"+'I M P R I M I R'!C461","v":0},{"$f":"+'I M P R I M I R'!D461","v":"LUGAR DE NACIMIENTO:"},{"$f":"+'I M P R I M I R'!E461","v":"<<<<>>>>NO COMPLETADO"},"2016-03-16",0,"465/16"]
[null,null,{"$f":"+'I M P R I M I R'!A462","v":"VII.A"},{"$f":"+'I M P R I M I R'!D$3","v":0},null,{"$f":"+'I M P R I M I R'!B462","v":0},{"$f":"+'I M P R I M I R'!C462","v":0},{"$f":"+'I M P R I M I R'!D462","v":"NACIONALIDAD:"},{"$f":"+'I M P R I M I R'!E462","v":"<<<<>>>>NO COMPLETADO"},"2016-03-16",0,"465/16"]
[null,null,{"$f":"+'I M P R I M I R'!A463","v":"VII.A"},{"$f":"+'I M P R I M I R'!D$3","v":0},null,{"$f":"+'I M P R I M I R'!B463","v":0},{"$f":"+'I M P R I M I R'!C463","v":0},{"$f":"+'I M P R I M I R'!D463","v":"PROFESIÓN:"},{"$f":"+'I M P R I M I R'!E463","v":"<<<<>>>>NO COMPLETADO"},"2016-03-16",0,"465/16"]
[null,null,{"$f":"+'I M P R I M I R'!A464","v":"VII.A"},{"$f":"+'I M P R I M I R'!D$3","v":0},null,{"$f":"+'I M P R I M I R'!B464","v":0},{"$f":"+'I M P R I M I R'!C464","v":0},{"$f":"+'I M P R I M I R'!D464","v":"DOMICILIO REAL:"},{"$f":"+'I M P R I M I R'!E464","v":"<<<<>>>>NO COMPLETADO"},"2016-03-16",0,"465/16"]
[null,null,{"$f":"+'I M P R I M I R'!A465","v":"VII.A"},{"$f":"+'I M P R I M I R'!D$3","v":0},null,{"$f":"+'I M P R I M I R'!B465","v":0},{"$f":"+'I M P R I M I R'!C465","v":0},{"$f":"+'I M P R I M I R'!D465","v":"CEL/TEL –sin puntos ni barras-:"},{"$f":"+'I M P R I M I R'!E465","v":"<<<<>>>>NO COMPLETADO"},"2016-03-16",0,"465/16"]
[null,null,{"$f":"+'I M P R I M I R'!A466","v":"VII.A"},{"$f":"+'I M P R I M I R'!D$3","v":0},null,{"$f":"+'I M P R I M I R'!B466","v":0},{"$f":"+'I M P R I M I R'!C466","v":0},{"$f":"+'I M P R I M I R'!D466","v":"EMAIL:"},{"$f":"+'I M P R I M I R'!E466","v":"<<<<>>>>NO COMPLETADO"},"2016-03-16",0,"465/16"]
[null,null,{"$f":"+'I M P R I M I R'!A467","v":"VII.A"},{"$f":"+'I M P R I M I R'!D$3","v":0},null,{"$f":"+'I M P R I M I R'!B467","v":0},{"$f":"+'I M P R I M I R'!C467","v":0},{"$f":"+'I M P R I M I R'!D467","v":"ESTADO CIVIL:"},{"$f":"+'I M P R I M I R'!E467","v":"<<<<>>>>NO COMPLETADO"},"2016-03-16",0,"465/16"]
[null,null,{"$f":"+'I M P R I M I R'!A468","v":"VII.A"},{"$f":"+'I M P R I M I R'!D$3","v":0},null,{"$f":"+'I M P R I M I R'!B468","v":0},{"$f":"+'I M P R I M I R'!C468","v":0},{"$f":"+'I M P R I M I R'!D468","v":"APELLIDO/S CÓNYUGE:"},{"$f":"+'I M P R I M I R'!E468","v":"<<<<>>>>NO COMPLETADO"},"2016-03-16",0,"465/16"]
[null,null,{"$f":"+'I M P R I M I R'!A469","v":"VII.A"},{"$f":"+'I M P R I M I R'!D$3","v":0},null,{"$f":"+'I M P R I M I R'!B469","v":0},{"$f":"+'I M P R I M I R'!C469","v":0},{"$f":"+'I M P R I M I R'!D469","v":"NOMBRE/S CÓNYUGE"},{"$f":"+'I M P R I M I R'!E469","v":"<<<<>>>>NO COMPLETADO"},"2016-03-16",0,"465/16"]
[null,null,{"$f":"+'I M P R I M I R'!A470","v":"VII.A"},{"$f":"+'I M P R I M I R'!D$3","v":0},null,{"$f":"+'I M P R I M I R'!B470","v":0},{"$f":"+'I M P R I M I R'!C470","v":0},{"$f":"+'I M P R I M I R'!D470","v":"DOC. IDENTIDAD (cónyuge) –sin puntos ni barras-: "},{"$f":"+'I M P R I M I R'!E470","v":"<<<<>>>>NO COMPLETADO"},"2016-03-16",0,"465/16"]
[null,null,{"$f":"+'I M P R I M I R'!A471","v":"VII.A"},{"$f":"+'I M P R I M I R'!D$3","v":0},null,{"$f":"+'I M P R I M I R'!B471","v":0},{"$f":"+'I M P R I M I R'!C471","v":0},{"$f":"+'I M P R I M I R'!D471","v":"DOC. IDENTIDAD –sin puntos-: ……………………"},{"$f":"+'I M P R I M I R'!E471","v":"<<<<>>>>NO COMPLETADO"},"2016-03-16",0,"465/16"]
[null,null,{"$f":"+'I M P R I M I R'!A472","v":"VII.A"},{"$f":"+'I M P R I M I R'!D$3","v":0},null,{"$f":"+'I M P R I M I R'!B472","v":0},{"$f":"+'I M P R I M I R'!C472","v":0},{"$f":"+'I M P R I M I R'!D472","v":"CUIT/CUIL –sin puntos ni barras-:"},{"$f":"+'I M P R I M I R'!E472","v":"<<<<>>>>NO COMPLETADO"},"2016-03-16",0,"465/16"]
[null,null,{"$f":"+'I M P R I M I R'!A473","v":"VII.A"},{"$f":"+'I M P R I M I R'!D$3","v":0},null,{"$f":"+'I M P R I M I R'!B473","v":0},{"$f":"+'I M P R I M I R'!C473","v":0},{"$f":"+'I M P R I M I R'!D473","v":"FECHA DE NACIMIENTO –dd/mm/aa-:"},{"$f":"+'I M P R I M I R'!E473","v":"<<<<>>>>NO COMPLETADO"},"2016-03-16",0,"465/16"]
[null,null,{"$f":"+'I M P R I M I R'!A474","v":"VII.A"},{"$f":"+'I M P R I M I R'!D$3","v":0},null,{"$f":"+'I M P R I M I R'!B474","v":0},{"$f":"+'I M P R I M I R'!C474","v":0},{"$f":"+'I M P R I M I R'!D474","v":"LUGAR DE NACIMIENTO:"},{"$f":"+'I M P R I M I R'!E474","v":"<<<<>>>>NO COMPLETADO"},"2016-03-16",0,"465/16"]
[null,null,{"$f":"+'I M P R I M I R'!A475","v":"VII.A"},{"$f":"+'I M P R I M I R'!D$3","v":0},null,{"$f":"+'I M P R I M I R'!B475","v":0},{"$f":"+'I M P R I M I R'!C475","v":0},{"$f":"+'I M P R I M I R'!D475","v":"NACIONALIDAD:"},{"$f":"+'I M P R I M I R'!E475","v":"<<<<>>>>NO COMPLETADO"},"2016-03-16",0,"465/16"]
[null,null,{"$f":"+'I M P R I M I R'!A476","v":"VII.A"},{"$f":"+'I M P R I M I R'!D$3","v":0},null,{"$f":"+'I M P R I M I R'!B476","v":0},{"$f":"+'I M P R I M I R'!C476","v":0},{"$f":"+'I M P R I M I R'!D476","v":"PROFESIÓN:"},{"$f":"+'I M P R I M I R'!E476","v":"<<<<>>>>NO COMPLETADO"},"2016-03-16",0,"465/16"]
[null,null,{"$f":"+'I M P R I M I R'!A477","v":"VII.A"},{"$f":"+'I M P R I M I R'!D$3","v":0},null,{"$f":"+'I M P R I M I R'!B477","v":0},{"$f":"+'I M P R I M I R'!C477","v":0},{"$f":"+'I M P R I M I R'!D477","v":"DOMICILIO REAL:"},{"$f":"+'I M P R I M I R'!E477","v":"<<<<>>>>NO COMPLETADO"},"2016-03-16",0,"465/16"]
[null,null,{"$f":"+'I M P R I M I R'!A478","v":"VII.A"},{"$f":"+'I M P R I M I R'!D$3","v":0},null,{"$f":"+'I M P R I M I R'!B478","v":0},{"$f":"+'I M P R I M I R'!C478","v":0},{"$f":"+'I M P R I M I R'!D478","v":"CEL/TEL –sin puntos ni barras-:"},{"$f":"+'I M P R I M I R'!E478","v":"<<<<>>>>NO COMPLETADO"},"2016-03-16",0,"465/16"]
[null,null,{"$f":"+'I M P R I M I R'!A479","v":"VII.A"},{"$f":"+'I M P R I M I R'!D$3","v":0},null,{"$f":"+'I M P R I M I R'!B479","v":0},{"$f":"+'I M P R I M I R'!C479","v":0},{"$f":"+'I M P R I M I R'!D479","v":"EMAIL:"},{"$f":"+'I M P R I M I R'!E479","v":"<<<<>>>>NO COMPLETADO"},"2016-03-16",0,"465/16"]
[null,null,{"$f":"+'I M P R I M I R'!A480","v":"VII.A"},{"$f":"+'I M P R I M I R'!D$3","v":0},null,{"$f":"+'I M P R I M I R'!B480","v":0},{"$f":"+'I M P R I M I R'!C480","v":0},{"$f":"+'I M P R I M I R'!D480","v":"ESTADO CIVIL:"},{"$f":"+'I M P R I M I R'!E480","v":"<<<<>>>>NO COMPLETADO"},"2016-03-16",0,"465/16"]
[null,null,{"$f":"+'I M P R I M I R'!A481","v":"VII.A"},{"$f":"+'I M P R I M I R'!D$3","v":0},null,{"$f":"+'I M P R I M I R'!B481","v":0},{"$f":"+'I M P R I M I R'!C481","v":0},{"$f":"+'I M P R I M I R'!D481","v":"APELLIDO/S CÓNYUGE:"},{"$f":"+'I M P R I M I R'!E481","v":"<<<<>>>>NO COMPLETADO"},"2016-03-16",0,"465/16"]
[null,null,{"$f":"+'I M P R I M I R'!A482","v":"VII.A"},{"$f":"+'I M P R I M I R'!D$3","v":0},null,{"$f":"+'I M P R I M I R'!B482","v":0},{"$f":"+'I M P R I M I R'!C482","v":0},{"$f":"+'I M P R I M I R'!D482","v":"NOMBRE/S CÓNYUGE"},{"$f":"+'I M P R I M I R'!E482","v":"<<<<>>>>NO COMPLETADO"},"2016-03-16",0,"465/16"]
[null,null,{"$f":"+'I M P R I M I R'!A483","v":"VII.A"},{"$f":"+'I M P R I M I R'!D$3","v":0},null,{"$f":"+'I M P R I M I R'!B483","v":0},{"$f":"+'I M P R I M I R'!C483","v":0},{"$f":"+'I M P R I M I R'!D483","v":"DOC. IDENTIDAD (cónyuge) –sin puntos ni barras-: "},{"$f":"+'I M P R I M I R'!E483","v":"<<<<>>>>NO COMPLETADO"},"2016-03-16",0,"465/16"]
[null,null,{"$f":"+'I M P R I M I R'!A484","v":"VII.A"},{"$f":"+'I M P R I M I R'!D$3","v":0},null,{"$f":"+'I M P R I M I R'!B484","v":0},{"$f":"+'I M P R I M I R'!C484","v":0},{"$f":"+'I M P R I M I R'!D484","v":"DOC. IDENTIDAD –sin puntos-: ……………………"},{"$f":"+'I M P R I M I R'!E484","v":"<<<<>>>>NO COMPLETADO"},"2016-03-16",0,"465/16"]
[null,null,{"$f":"+'I M P R I M I R'!A485","v":"VII.A"},{"$f":"+'I M P R I M I R'!D$3","v":0},null,{"$f":"+'I M P R I M I R'!B485","v":0},{"$f":"+'I M P R I M I R'!C485","v":0},{"$f":"+'I M P R I M I R'!D485","v":"CUIT/CUIL –sin puntos ni barras-:"},{"$f":"+'I M P R I M I R'!E485","v":"<<<<>>>>NO COMPLETADO"},"2016-03-16",0,"465/16"]
[null,null,{"$f":"+'I M P R I M I R'!A486","v":"VII.A"},{"$f":"+'I M P R I M I R'!D$3","v":0},null,{"$f":"+'I M P R I M I R'!B486","v":0},{"$f":"+'I M P R I M I R'!C486","v":0},{"$f":"+'I M P R I M I R'!D486","v":"FECHA DE NACIMIENTO –dd/mm/aa-:"},{"$f":"+'I M P R I M I R'!E486","v":"<<<<>>>>NO COMPLETADO"},"2016-03-16",0,"465/16"]
[null,null,{"$f":"+'I M P R I M I R'!A487","v":"VII.A"},{"$f":"+'I M P R I M I R'!D$3","v":0},null,{"$f":"+'I M P R I M I R'!B487","v":0},{"$f":"+'I M P R I M I R'!C487","v":0},{"$f":"+'I M P R I M I R'!D487","v":"LUGAR DE NACIMIENTO:"},{"$f":"+'I M P R I M I R'!E487","v":"<<<<>>>>NO COMPLETADO"},"2016-03-16",0,"465/16"]
[null,null,{"$f":"+'I M P R I M I R'!A488","v":"VII.A"},{"$f":"+'I M P R I M I R'!D$3","v":0},null,{"$f":"+'I M P R I M I R'!B488","v":0},{"$f":"+'I M P R I M I R'!C488","v":0},{"$f":"+'I M P R I M I R'!D488","v":"NACIONALIDAD:"},{"$f":"+'I M P R I M I R'!E488","v":"<<<<>>>>NO COMPLETADO"},"2016-03-16",0,"465/16"]
[null,null,{"$f":"+'I M P R I M I R'!A489","v":"VII.A"},{"$f":"+'I M P R I M I R'!D$3","v":0},null,{"$f":"+'I M P R I M I R'!B489","v":0},{"$f":"+'I M P R I M I R'!C489","v":0},{"$f":"+'I M P R I M I R'!D489","v":"PROFESIÓN:"},{"$f":"+'I M P R I M I R'!E489","v":"<<<<>>>>NO COMPLETADO"},"2016-03-16",0,"465/16"]
[null,null,{"$f":"+'I M P R I M I R'!A490","v":"VII.A"},{"$f":"+'I M P R I M I R'!D$3","v":0},null,{"$f":"+'I M P R I M I R'!B490","v":0},{"$f":"+'I M P R I M I R'!C490","v":0},{"$f":"+'I M P R I M I R'!D490","v":"DOMICILIO REAL:"},{"$f":"+'I M P R I M I R'!E490","v":"<<<<>>>>NO COMPLETADO"},"2016-03-16",0,"465/16"]
[null,null,{"$f":"+'I M P R I M I R'!A491","v":"VII.A"},{"$f":"+'I M P R I M I R'!D$3","v":0},null,{"$f":"+'I M P R I M I R'!B491","v":0},{"$f":"+'I M P R I M I R'!C491","v":0},{"$f":"+'I M P R I M I R'!D491","v":"CEL/TEL –sin puntos ni barras-:"},{"$f":"+'I M P R I M I R'!E491","v":"<<<<>>>>NO COMPLETADO"},"2016-03-16",0,"465/16"]
[null,null,{"$f":"+'I M P R I M I R'!A492","v":"VII.A"},{"$f":"+'I M P R I M I R'!D$3","v":0},null,{"$f":"+'I M P R I M I R'!B492","v":0},{"$f":"+'I M P R I M I R'!C492","v":0},{"$f":"+'I M P R I M I R'!D492","v":"EMAIL:"},{"$f":"+'I M P R I M I R'!E492","v":"<<<<>>>>NO COMPLETADO"},"2016-03-16",0,"465/16"]
[null,null,{"$f":"+'I M P R I M I R'!A493","v":"VII.A"},{"$f":"+'I M P R I M I R'!D$3","v":0},null,{"$f":"+'I M P R I M I R'!B493","v":0},{"$f":"+'I M P R I M I R'!C493","v":0},{"$f":"+'I M P R I M I R'!D493","v":"ESTADO CIVIL:"},{"$f":"+'I M P R I M I R'!E493","v":"<<<<>>>>NO COMPLETADO"},"2016-03-16",0,"465/16"]
[null,null,{"$f":"+'I M P R I M I R'!A494","v":"VII.A"},{"$f":"+'I M P R I M I R'!D$3","v":0},null,{"$f":"+'I M P R I M I R'!B494","v":0},{"$f":"+'I M P R I M I R'!C494","v":0},{"$f":"+'I M P R I M I R'!D494","v":"APELLIDO/S CÓNYUGE:"},{"$f":"+'I M P R I M I R'!E494","v":"<<<<>>>>NO COMPLETADO"},"2016-03-16",0,"465/16"]
[null,null,{"$f":"+'I M P R I M I R'!A495","v":"VII.A"},{"$f":"+'I M P R I M I R'!D$3","v":0},null,{"$f":"+'I M P R I M I R'!B495","v":0},{"$f":"+'I M P R I M I R'!C495","v":0},{"$f":"+'I M P R I M I R'!D495","v":"NOMBRE/S CÓNYUGE"},{"$f":"+'I M P R I M I R'!E495","v":"<<<<>>>>NO COMPLETADO"},"2016-03-16",0,"465/16"]
[null,null,{"$f":"+'I M P R I M I R'!A496","v":"VII.A"},{"$f":"+'I M P R I M I R'!D$3","v":0},null,{"$f":"+'I M P R I M I R'!B496","v":0},{"$f":"+'I M P R I M I R'!C496","v":0},{"$f":"+'I M P R I M I R'!D496","v":"DOC. IDENTIDAD (cónyuge) –sin puntos ni barras-: "},{"$f":"+'I M P R I M I R'!E496","v":"<<<<>>>>NO COMPLETADO"},"2016-03-16",0,"465/16"]
[null,null,{"$f":"+'I M P R I M I R'!A497","v":"VII.A"},{"$f":"+'I M P R I M I R'!D$3","v":0},null,{"$f":"+'I M P R I M I R'!B497","v":0},{"$f":"+'I M P R I M I R'!C497","v":0},{"$f":"+'I M P R I M I R'!D497","v":"DOC. IDENTIDAD –sin puntos-: ……………………"},{"$f":"+'I M P R I M I R'!E497","v":"<<<<>>>>NO COMPLETADO"},"2016-03-16",0,"465/16"]
[null,null,{"$f":"+'I M P R I M I R'!A498","v":"VII.A"},{"$f":"+'I M P R I M I R'!D$3","v":0},null,{"$f":"+'I M P R I M I R'!B498","v":0},{"$f":"+'I M P R I M I R'!C498","v":0},{"$f":"+'I M P R I M I R'!D498","v":"CUIT/CUIL –sin puntos ni barras-:"},{"$f":"+'I M P R I M I R'!E498","v":"<<<<>>>>NO COMPLETADO"},"2016-03-16",0,"465/16"]
[null,null,{"$f":"+'I M P R I M I R'!A499","v":"VII.A"},{"$f":"+'I M P R I M I R'!D$3","v":0},null,{"$f":"+'I M P R I M I R'!B499","v":0},{"$f":"+'I M P R I M I R'!C499","v":0},{"$f":"+'I M P R I M I R'!D499","v":"FECHA DE NACIMIENTO –dd/mm/aa-:"},{"$f":"+'I M P R I M I R'!E499","v":"<<<<>>>>NO COMPLETADO"},"2016-03-16",0,"465/16"]
[null,null,{"$f":"+'I M P R I M I R'!A500","v":"VII.A"},{"$f":"+'I M P R I M I R'!D$3","v":0},null,{"$f":"+'I M P R I M I R'!B500","v":0},{"$f":"+'I M P R I M I R'!C500","v":0},{"$f":"+'I M P R I M I R'!D500","v":"LUGAR DE NACIMIENTO:"},{"$f":"+'I M P R I M I R'!E500","v":"<<<<>>>>NO COMPLETADO"},"2016-03-16",0,"465/16"]
[null,null,{"$f":"+'I M P R I M I R'!A501","v":"VII.A"},{"$f":"+'I M P R I M I R'!D$3","v":0},null,{"$f":"+'I M P R I M I R'!B501","v":0},{"$f":"+'I M P R I M I R'!C501","v":0},{"$f":"+'I M P R I M I R'!D501","v":"NACIONALIDAD:"},{"$f":"+'I M P R I M I R'!E501","v":"<<<<>>>>NO COMPLETADO"},"2016-03-16",0,"465/16"]
[null,null,{"$f":"+'I M P R I M I R'!A502","v":"VII.A"},{"$f":"+'I M P R I M I R'!D$3","v":0},null,{"$f":"+'I M P R I M I R'!B502","v":0},{"$f":"+'I M P R I M I R'!C502","v":0},{"$f":"+'I M P R I M I R'!D502","v":"PROFESIÓN:"},{"$f":"+'I M P R I M I R'!E502","v":"<<<<>>>>NO COMPLETADO"},"2016-03-16",0,"465/16"]
[null,null,{"$f":"+'I M P R I M I R'!A503","v":"VII.A"},{"$f":"+'I M P R I M I R'!D$3","v":0},null,{"$f":"+'I M P R I M I R'!B503","v":0},{"$f":"+'I M P R I M I R'!C503","v":0},{"$f":"+'I M P R I M I R'!D503","v":"DOMICILIO REAL:"},{"$f":"+'I M P R I M I R'!E503","v":"<<<<>>>>NO COMPLETADO"},"2016-03-16",0,"465/16"]
[null,null,{"$f":"+'I M P R I M I R'!A504","v":"VII.A"},{"$f":"+'I M P R I M I R'!D$3","v":0},null,{"$f":"+'I M P R I M I R'!B504","v":0},{"$f":"+'I M P R I M I R'!C504","v":0},{"$f":"+'I M P R I M I R'!D504","v":"CEL/TEL –sin puntos ni barras-:"},{"$f":"+'I M P R I M I R'!E504","v":"<<<<>>>>NO COMPLETADO"},"2016-03-16",0,"465/16"]
[null,null,{"$f":"+'I M P R I M I R'!A505","v":"VII.A"},{"$f":"+'I M P R I M I R'!D$3","v":0},null,{"$f":"+'I M P R I M I R'!B505","v":0},{"$f":"+'I M P R I M I R'!C505","v":0},{"$f":"+'I M P R I M I R'!D505","v":"EMAIL:"},{"$f":"+'I M P R I M I R'!E505","v":"<<<<>>>>NO COMPLETADO"},"2016-03-16",0,"465/16"]
[null,null,{"$f":"+'I M P R I M I R'!A506","v":"VII.A"},{"$f":"+'I M P R I M I R'!D$3","v":0},null,{"$f":"+'I M P R I M I R'!B506","v":0},{"$f":"+'I M P R I M I R'!C506","v":0},{"$f":"+'I M P R I M I R'!D506","v":"ESTADO CIVIL:"},{"$f":"+'I M P R I M I R'!E506","v":"<<<<>>>>NO COMPLETADO"},"2016-03-16",0,"465/16"]
[null,null,{"$f":"+'I M P R I M I R'!A507","v":"VII.A"},{"$f":"+'I M P R I M I R'!D$3","v":0},null,{"$f":"+'I M P R I M I R'!B507","v":0},{"$f":"+'I M P R I M I R'!C507","v":0},{"$f":"+'I M P R I M I R'!D507","v":"APELLIDO/S CÓNYUGE:"},{"$f":"+'I M P R I M I R'!E507","v":"<<<<>>>>NO COMPLETADO"},"2016-03-16",0,"465/16"]
[null,null,{"$f":"+'I M P R I M I R'!A508","v":"VII.A"},{"$f":"+'I M P R I M I R'!D$3","v":0},null,{"$f":"+'I M P R I M I R'!B508","v":0},{"$f":"+'I M P R I M I R'!C508","v":0},{"$f":"+'I M P R I M I R'!D508","v":"NOMBRE/S CÓNYUGE"},{"$f":"+'I M P R I M I R'!E508","v":"<<<<>>>>NO COMPLETADO"},"2016-03-16",0,"465/16"]
[null,null,{"$f":"+'I M P R I M I R'!A509","v":"VII.A"},{"$f":"+'I M P R I M I R'!D$3","v":0},null,{"$f":"+'I M P R I M I R'!B509","v":0},{"$f":"+'I M P R I M I R'!C509","v":0},{"$f":"+'I M P R I M I R'!D509","v":"DOC. IDENTIDAD (cónyuge) –sin puntos ni barras-: "},{"$f":"+'I M P R I M I R'!E509","v":"<<<<>>>>NO COMPLETADO"},"2016-03-16",0,"465/16"]
[null,null,{"$f":"+'I M P R I M I R'!A510","v":"VII.A"},{"$f":"+'I M P R I M I R'!D$3","v":0},null,{"$f":"+'I M P R I M I R'!B510","v":0},{"$f":"+'I M P R I M I R'!C510","v":0},{"$f":"+'I M P R I M I R'!D510","v":"DOC. IDENTIDAD –sin puntos-: ……………………"},{"$f":"+'I M P R I M I R'!E510","v":"<<<<>>>>NO COMPLETADO"},"2016-03-16",0,"465/16"]
[null,null,{"$f":"+'I M P R I M I R'!A511","v":"VII.A"},{"$f":"+'I M P R I M I R'!D$3","v":0},null,{"$f":"+'I M P R I M I R'!B511","v":0},{"$f":"+'I M P R I M I R'!C511","v":0},{"$f":"+'I M P R I M I R'!D511","v":"CUIT/CUIL –sin puntos ni barras-:"},{"$f":"+'I M P R I M I R'!E511","v":"<<<<>>>>NO COMPLETADO"},"2016-03-16",0,"465/16"]
[null,null,{"$f":"+'I M P R I M I R'!A512","v":"VII.A"},{"$f":"+'I M P R I M I R'!D$3","v":0},null,{"$f":"+'I M P R I M I R'!B512","v":0},{"$f":"+'I M P R I M I R'!C512","v":0},{"$f":"+'I M P R I M I R'!D512","v":"FECHA DE NACIMIENTO –dd/mm/aa-:"},{"$f":"+'I M P R I M I R'!E512","v":"<<<<>>>>NO COMPLETADO"},"2016-03-16",0,"465/16"]
[null,null,{"$f":"+'I M P R I M I R'!A513","v":"VII.A"},{"$f":"+'I M P R I M I R'!D$3","v":0},null,{"$f":"+'I M P R I M I R'!B513","v":0},{"$f":"+'I M P R I M I R'!C513","v":0},{"$f":"+'I M P R I M I R'!D513","v":"LUGAR DE NACIMIENTO:"},{"$f":"+'I M P R I M I R'!E513","v":"<<<<>>>>NO COMPLETADO"},"2016-03-16",0,"465/16"]
[null,null,{"$f":"+'I M P R I M I R'!A514","v":"VII.A"},{"$f":"+'I M P R I M I R'!D$3","v":0},null,{"$f":"+'I M P R I M I R'!B514","v":0},{"$f":"+'I M P R I M I R'!C514","v":0},{"$f":"+'I M P R I M I R'!D514","v":"NACIONALIDAD:"},{"$f":"+'I M P R I M I R'!E514","v":"<<<<>>>>NO COMPLETADO"},"2016-03-16",0,"465/16"]
[null,null,{"$f":"+'I M P R I M I R'!A515","v":"VII.A"},{"$f":"+'I M P R I M I R'!D$3","v":0},null,{"$f":"+'I M P R I M I R'!B515","v":0},{"$f":"+'I M P R I M I R'!C515","v":0},{"$f":"+'I M P R I M I R'!D515","v":"PROFESIÓN:"},{"$f":"+'I M P R I M I R'!E515","v":"<<<<>>>>NO COMPLETADO"},"2016-03-16",0,"465/16"]
[null,null,{"$f":"+'I M P R I M I R'!A516","v":"VII.A"},{"$f":"+'I M P R I M I R'!D$3","v":0},null,{"$f":"+'I M P R I M I R'!B516","v":0},{"$f":"+'I M P R I M I R'!C516","v":0},{"$f":"+'I M P R I M I R'!D516","v":"DOMICILIO REAL:"},{"$f":"+'I M P R I M I R'!E516","v":"<<<<>>>>NO COMPLETADO"},"2016-03-16",0,"465/16"]
[null,null,{"$f":"+'I M P R I M I R'!A517","v":"VII.A"},{"$f":"+'I M P R I M I R'!D$3","v":0},null,{"$f":"+'I M P R I M I R'!B517","v":0},{"$f":"+'I M P R I M I R'!C517","v":0},{"$f":"+'I M P R I M I R'!D517","v":"CEL/TEL –sin puntos ni barras-:"},{"$f":"+'I M P R I M I R'!E517","v":"<<<<>>>>NO COMPLETADO"},"2016-03-16",0,"465/16"]
[null,null,{"$f":"+'I M P R I M I R'!A518","v":"VII.A"},{"$f":"+'I M P R I M I R'!D$3","v":0},null,{"$f":"+'I M P R I M I R'!B518","v":0},{"$f":"+'I M P R I M I R'!C518","v":0},{"$f":"+'I M P R I M I R'!D518","v":"EMAIL:"},{"$f":"+'I M P R I M I R'!E518","v":"<<<<>>>>NO COMPLETADO"},"2016-03-16",0,"465/16"]
[null,null,{"$f":"+'I M P R I M I R'!A519","v":"VII.A"},{"$f":"+'I M P R I M I R'!D$3","v":0},null,{"$f":"+'I M P R I M I R'!B519","v":0},{"$f":"+'I M P R I M I R'!C519","v":0},{"$f":"+'I M P R I M I R'!D519","v":"ESTADO CIVIL:"},{"$f":"+'I M P R I M I R'!E519","v":"<<<<>>>>NO COMPLETADO"},"2016-03-16",0,"465/16"]
[null,null,{"$f":"+'I M P R I M I R'!A520","v":"VII.A"},{"$f":"+'I M P R I M I R'!D$3","v":0},null,{"$f":"+'I M P R I M I R'!B520","v":0},{"$f":"+'I M P R I M I R'!C520","v":0},{"$f":"+'I M P R I M I R'!D520","v":"APELLIDO/S CÓNYUGE:"},{"$f":"+'I M P R I M I R'!E520","v":"<<<<>>>>NO COMPLETADO"},{"$f":"+H$2","v":"2016-03-16"},{"$f":"H$4","v":0},{"$f":"+H$3","v":"465/16"}]
[null,null,{"$f":"+'I M P R I M I R'!A521","v":"VII.A"},{"$f":"+'I M P R I M I R'!D$3","v":0},null,{"$f":"+'I M P R I M I R'!B521","v":0},{"$f":"+'I M P R I M I R'!C521","v":0},{"$f":"+'I M P R I M I R'!D521","v":"NOMBRE/S CÓNYUGE"},{"$f":"+'I M P R I M I R'!E521","v":"<<<<>>>>NO COMPLETADO"},"2016-03-16",0,"465/16"]
[null,null,{"$f":"+'I M P R I M I R'!A522","v":"VII.A"},{"$f":"+'I M P R I M I R'!D$3","v":0},null,{"$f":"+'I M P R I M I R'!B522","v":0},{"$f":"+'I M P R I M I R'!C522","v":0},{"$f":"+'I M P R I M I R'!D522","v":"DOC. IDENTIDAD (cónyuge) –sin puntos ni barras-: "},{"$f":"+'I M P R I M I R'!E522","v":"<<<<>>>>NO COMPLETADO"},"2016-03-16",0,"465/16"]
[null,null,{"$f":"+'I M P R I M I R'!A523","v":"VII.A"},{"$f":"+'I M P R I M I R'!D$3","v":0},null,{"$f":"+'I M P R I M I R'!B523","v":0},{"$f":"+'I M P R I M I R'!C523","v":0},{"$f":"+'I M P R I M I R'!D523","v":"DOC. IDENTIDAD –sin puntos-: ……………………"},{"$f":"+'I M P R I M I R'!E523","v":"<<<<>>>>NO COMPLETADO"},"2016-03-16",0,"465/16"]
[null,null,{"$f":"+'I M P R I M I R'!A524","v":"VII.A"},{"$f":"+'I M P R I M I R'!D$3","v":0},null,{"$f":"+'I M P R I M I R'!B524","v":0},{"$f":"+'I M P R I M I R'!C524","v":0},{"$f":"+'I M P R I M I R'!D524","v":"CUIT/CUIL –sin puntos ni barras-:"},{"$f":"+'I M P R I M I R'!E524","v":"<<<<>>>>NO COMPLETADO"},"2016-03-16",0,"465/16"]
[null,null,{"$f":"+'I M P R I M I R'!A525","v":"VII.A"},{"$f":"+'I M P R I M I R'!D$3","v":0},null,{"$f":"+'I M P R I M I R'!B525","v":0},{"$f":"+'I M P R I M I R'!C525","v":0},{"$f":"+'I M P R I M I R'!D525","v":"FECHA DE NACIMIENTO –dd/mm/aa-:"},{"$f":"+'I M P R I M I R'!E525","v":"<<<<>>>>NO COMPLETADO"},"2016-03-16",0,"465/16"]
[null,null,{"$f":"+'I M P R I M I R'!A526","v":"VII.A"},{"$f":"+'I M P R I M I R'!D$3","v":0},null,{"$f":"+'I M P R I M I R'!B526","v":0},{"$f":"+'I M P R I M I R'!C526","v":0},{"$f":"+'I M P R I M I R'!D526","v":"LUGAR DE NACIMIENTO:"},{"$f":"+'I M P R I M I R'!E526","v":"<<<<>>>>NO COMPLETADO"},"2016-03-16",0,"465/16"]
[null,null,{"$f":"+'I M P R I M I R'!A527","v":"VII.A"},{"$f":"+'I M P R I M I R'!D$3","v":0},null,{"$f":"+'I M P R I M I R'!B527","v":0},{"$f":"+'I M P R I M I R'!C527","v":0},{"$f":"+'I M P R I M I R'!D527","v":"NACIONALIDAD:"},{"$f":"+'I M P R I M I R'!E527","v":"<<<<>>>>NO COMPLETADO"},"2016-03-16",0,"465/16"]
[null,null,{"$f":"+'I M P R I M I R'!A528","v":"VII.A"},{"$f":"+'I M P R I M I R'!D$3","v":0},null,{"$f":"+'I M P R I M I R'!B528","v":0},{"$f":"+'I M P R I M I R'!C528","v":0},{"$f":"+'I M P R I M I R'!D528","v":"PROFESIÓN:"},{"$f":"+'I M P R I M I R'!E528","v":"<<<<>>>>NO COMPLETADO"},"2016-03-16",0,"465/16"]
[null,null,{"$f":"+'I M P R I M I R'!A529","v":"VII.A"},{"$f":"+'I M P R I M I R'!D$3","v":0},null,{"$f":"+'I M P R I M I R'!B529","v":0},{"$f":"+'I M P R I M I R'!C529","v":0},{"$f":"+'I M P R I M I R'!D529","v":"DOMICILIO REAL:"},{"$f":"+'I M P R I M I R'!E529","v":"<<<<>>>>NO COMPLETADO"},"2016-03-16",0,"465/16"]
[null,null,{"$f":"+'I M P R I M I R'!A530","v":"VII.A"},{"$f":"+'I M P R I M I R'!D$3","v":0},null,{"$f":"+'I M P R I M I R'!B530","v":0},{"$f":"+'I M P R I M I R'!C530","v":0},{"$f":"+'I M P R I M I R'!D530","v":"CEL/TEL –sin puntos ni barras-:"},{"$f":"+'I M P R I M I R'!E530","v":"<<<<>>>>NO COMPLETADO"},"2016-03-16",0,"465/16"]
[null,null,{"$f":"+'I M P R I M I R'!A531","v":"VII.A"},{"$f":"+'I M P R I M I R'!D$3","v":0},null,{"$f":"+'I M P R I M I R'!B531","v":0},{"$f":"+'I M P R I M I R'!C531","v":0},{"$f":"+'I M P R I M I R'!D531","v":"EMAIL:"},{"$f":"+'I M P R I M I R'!E531","v":"<<<<>>>>NO COMPLETADO"},"2016-03-16",0,"465/16"]
[null,null,{"$f":"+'I M P R I M I R'!A532","v":"VII.A"},{"$f":"+'I M P R I M I R'!D$3","v":0},null,{"$f":"+'I M P R I M I R'!B532","v":0},{"$f":"+'I M P R I M I R'!C532","v":0},{"$f":"+'I M P R I M I R'!D532","v":"ESTADO CIVIL:"},{"$f":"+'I M P R I M I R'!E532","v":"<<<<>>>>NO COMPLETADO"},"2016-03-16",0,"465/16"]
[null,null,{"$f":"+'I M P R I M I R'!A533","v":"VII.A"},{"$f":"+'I M P R I M I R'!D$3","v":0},null,{"$f":"+'I M P R I M I R'!B533","v":0},{"$f":"+'I M P R I M I R'!C533","v":0},{"$f":"+'I M P R I M I R'!D533","v":"APELLIDO/S CÓNYUGE:"},{"$f":"+'I M P R I M I R'!E533","v":"<<<<>>>>NO COMPLETADO"},"2016-03-16",0,"465/16"]
[null,null,{"$f":"+'I M P R I M I R'!A534","v":"VII.A"},{"$f":"+'I M P R I M I R'!D$3","v":0},null,{"$f":"+'I M P R I M I R'!B534","v":0},{"$f":"+'I M P R I M I R'!C534","v":0},{"$f":"+'I M P R I M I R'!D534","v":"NOMBRE/S CÓNYUGE"},{"$f":"+'I M P R I M I R'!E534","v":"<<<<>>>>NO COMPLETADO"},"2016-03-16",0,"465/16"]
[null,null,{"$f":"+'I M P R I M I R'!A535","v":"VII.A"},{"$f":"+'I M P R I M I R'!D$3","v":0},null,{"$f":"+'I M P R I M I R'!B535","v":0},{"$f":"+'I M P R I M I R'!C535","v":0},{"$f":"+'I M P R I M I R'!D535","v":"DOC. IDENTIDAD (cónyuge) –sin puntos ni barras-: "},{"$f":"+'I M P R I M I R'!E535","v":"<<<<>>>>NO COMPLETADO"},"2016-03-16",0,"465/16"]
[null,null,{"$f":"+'I M P R I M I R'!A536","v":"VII.A"},{"$f":"+'I M P R I M I R'!D$3","v":0},null,{"$f":"+'I M P R I M I R'!B536","v":0},{"$f":"+'I M P R I M I R'!C536","v":0},{"$f":"+'I M P R I M I R'!D536","v":"DOC. IDENTIDAD –sin puntos-: ……………………"},{"$f":"+'I M P R I M I R'!E536","v":"<<<<>>>>NO COMPLETADO"},"2016-03-16",0,"465/16"]
[null,null,{"$f":"+'I M P R I M I R'!A537","v":"VII.A"},{"$f":"+'I M P R I M I R'!D$3","v":0},null,{"$f":"+'I M P R I M I R'!B537","v":0},{"$f":"+'I M P R I M I R'!C537","v":0},{"$f":"+'I M P R I M I R'!D537","v":"CUIT/CUIL –sin puntos ni barras-:"},{"$f":"+'I M P R I M I R'!E537","v":"<<<<>>>>NO COMPLETADO"},"2016-03-16",0,"465/16"]
[null,null,{"$f":"+'I M P R I M I R'!A538","v":"VII.A"},{"$f":"+'I M P R I M I R'!D$3","v":0},null,{"$f":"+'I M P R I M I R'!B538","v":0},{"$f":"+'I M P R I M I R'!C538","v":0},{"$f":"+'I M P R I M I R'!D538","v":"FECHA DE NACIMIENTO –dd/mm/aa-:"},{"$f":"+'I M P R I M I R'!E538","v":"<<<<>>>>NO COMPLETADO"},"2016-03-16",0,"465/16"]
[null,null,{"$f":"+'I M P R I M I R'!A539","v":"VII.A"},{"$f":"+'I M P R I M I R'!D$3","v":0},null,{"$f":"+'I M P R I M I R'!B539","v":0},{"$f":"+'I M P R I M I R'!C539","v":0},{"$f":"+'I M P R I M I R'!D539","v":"LUGAR DE NACIMIENTO:"},{"$f":"+'I M P R I M I R'!E539","v":"<<<<>>>>NO COMPLETADO"},"2016-03-16",0,"465/16"]
[null,null,{"$f":"+'I M P R I M I R'!A540","v":"VII.A"},{"$f":"+'I M P R I M I R'!D$3","v":0},null,{"$f":"+'I M P R I M I R'!B540","v":0},{"$f":"+'I M P R I M I R'!C540","v":0},{"$f":"+'I M P R I M I R'!D540","v":"NACIONALIDAD:"},{"$f":"+'I M P R I M I R'!E540","v":"<<<<>>>>NO COMPLETADO"},"2016-03-16",0,"465/16"]
[null,null,{"$f":"+'I M P R I M I R'!A541","v":"VII.A"},{"$f":"+'I M P R I M I R'!D$3","v":0},null,{"$f":"+'I M P R I M I R'!B541","v":0},{"$f":"+'I M P R I M I R'!C541","v":0},{"$f":"+'I M P R I M I R'!D541","v":"PROFESIÓN:"},{"$f":"+'I M P R I M I R'!E541","v":"<<<<>>>>NO COMPLETADO"},"2016-03-16",0,"465/16"]
[null,null,{"$f":"+'I M P R I M I R'!A542","v":"VII.A"},{"$f":"+'I M P R I M I R'!D$3","v":0},null,{"$f":"+'I M P R I M I R'!B542","v":0},{"$f":"+'I M P R I M I R'!C542","v":0},{"$f":"+'I M P R I M I R'!D542","v":"DOMICILIO REAL:"},{"$f":"+'I M P R I M I R'!E542","v":"<<<<>>>>NO COMPLETADO"},"2016-03-16",0,"465/16"]
[null,null,{"$f":"+'I M P R I M I R'!A543","v":"VII.A"},{"$f":"+'I M P R I M I R'!D$3","v":0},null,{"$f":"+'I M P R I M I R'!B543","v":0},{"$f":"+'I M P R I M I R'!C543","v":0},{"$f":"+'I M P R I M I R'!D543","v":"CEL/TEL –sin puntos ni barras-:"},{"$f":"+'I M P R I M I R'!E543","v":"<<<<>>>>NO COMPLETADO"},"2016-03-16",0,"465/16"]
[null,null,{"$f":"+'I M P R I M I R'!A544","v":"VII.A"},{"$f":"+'I M P R I M I R'!D$3","v":0},null,{"$f":"+'I M P R I M I R'!B544","v":0},{"$f":"+'I M P R I M I R'!C544","v":0},{"$f":"+'I M P R I M I R'!D544","v":"EMAIL:"},{"$f":"+'I M P R I M I R'!E544","v":"<<<<>>>>NO COMPLETADO"},"2016-03-16",0,"465/16"]
[null,null,{"$f":"+'I M P R I M I R'!A545","v":"VII.A"},{"$f":"+'I M P R I M I R'!D$3","v":0},null,{"$f":"+'I M P R I M I R'!B545","v":0},{"$f":"+'I M P R I M I R'!C545","v":0},{"$f":"+'I M P R I M I R'!D545","v":"ESTADO CIVIL:"},{"$f":"+'I M P R I M I R'!E545","v":"<<<<>>>>NO COMPLETADO"},"2016-03-16",0,"465/16"]
[null,null,{"$f":"+'I M P R I M I R'!A546","v":"VII.A"},{"$f":"+'I M P R I M I R'!D$3","v":0},null,{"$f":"+'I M P R I M I R'!B546","v":0},{"$f":"+'I M P R I M I R'!C546","v":0},{"$f":"+'I M P R I M I R'!D546","v":"APELLIDO/S CÓNYUGE:"},{"$f":"+'I M P R I M I R'!E546","v":"<<<<>>>>NO COMPLETADO"},"2016-03-16",0,"465/16"]
[null,null,{"$f":"+'I M P R I M I R'!A547","v":"VII.A"},{"$f":"+'I M P R I M I R'!D$3","v":0},null,{"$f":"+'I M P R I M I R'!B547","v":0},{"$f":"+'I M P R I M I R'!C547","v":0},{"$f":"+'I M P R I M I R'!D547","v":"NOMBRE/S CÓNYUGE"},{"$f":"+'I M P R I M I R'!E547","v":"<<<<>>>>NO COMPLETADO"},"2016-03-16",0,"465/16"]
[null,null,{"$f":"+'I M P R I M I R'!A548","v":"VII.A"},{"$f":"+'I M P R I M I R'!D$3","v":0},null,{"$f":"+'I M P R I M I R'!B548","v":0},{"$f":"+'I M P R I M I R'!C548","v":0},{"$f":"+'I M P R I M I R'!D548","v":"DOC. IDENTIDAD (cónyuge) –sin puntos ni barras-: "},{"$f":"+'I M P R I M I R'!E548","v":"<<<<>>>>NO COMPLETADO"},"2016-03-16",0,"465/16"]
[null,null,{"$f":"+'I M P R I M I R'!A549","v":"VII.A"},{"$f":"+'I M P R I M I R'!D$3","v":0},null,{"$f":"+'I M P R I M I R'!B549","v":0},{"$f":"+'I M P R I M I R'!C549","v":0},{"$f":"+'I M P R I M I R'!D549","v":"DOC. IDENTIDAD –sin puntos-: ……………………"},{"$f":"+'I M P R I M I R'!E549","v":"<<<<>>>>NO COMPLETADO"},"2016-03-16",0,"465/16"]
[null,null,{"$f":"+'I M P R I M I R'!A550","v":"VII.A"},{"$f":"+'I M P R I M I R'!D$3","v":0},null,{"$f":"+'I M P R I M I R'!B550","v":0},{"$f":"+'I M P R I M I R'!C550","v":0},{"$f":"+'I M P R I M I R'!D550","v":"CUIT/CUIL –sin puntos ni barras-:"},{"$f":"+'I M P R I M I R'!E550","v":"<<<<>>>>NO COMPLETADO"},"2016-03-16",0,"465/16"]
[null,null,{"$f":"+'I M P R I M I R'!A551","v":"VII.A"},{"$f":"+'I M P R I M I R'!D$3","v":0},null,{"$f":"+'I M P R I M I R'!B551","v":0},{"$f":"+'I M P R I M I R'!C551","v":0},{"$f":"+'I M P R I M I R'!D551","v":"FECHA DE NACIMIENTO –dd/mm/aa-:"},{"$f":"+'I M P R I M I R'!E551","v":"<<<<>>>>NO COMPLETADO"},"2016-03-16",0,"465/16"]
[null,null,{"$f":"+'I M P R I M I R'!A552","v":"VII.A"},{"$f":"+'I M P R I M I R'!D$3","v":0},null,{"$f":"+'I M P R I M I R'!B552","v":0},{"$f":"+'I M P R I M I R'!C552","v":0},{"$f":"+'I M P R I M I R'!D552","v":"LUGAR DE NACIMIENTO:"},{"$f":"+'I M P R I M I R'!E552","v":"<<<<>>>>NO COMPLETADO"},"2016-03-16",0,"465/16"]
[null,null,{"$f":"+'I M P R I M I R'!A553","v":"VII.A"},{"$f":"+'I M P R I M I R'!D$3","v":0},null,{"$f":"+'I M P R I M I R'!B553","v":0},{"$f":"+'I M P R I M I R'!C553","v":0},{"$f":"+'I M P R I M I R'!D553","v":"NACIONALIDAD:"},{"$f":"+'I M P R I M I R'!E553","v":"<<<<>>>>NO COMPLETADO"},"2016-03-16",0,"465/16"]
[null,null,{"$f":"+'I M P R I M I R'!A554","v":"VII.A"},{"$f":"+'I M P R I M I R'!D$3","v":0},null,{"$f":"+'I M P R I M I R'!B554","v":0},{"$f":"+'I M P R I M I R'!C554","v":0},{"$f":"+'I M P R I M I R'!D554","v":"PROFESIÓN:"},{"$f":"+'I M P R I M I R'!E554","v":"<<<<>>>>NO COMPLETADO"},"2016-03-16",0,"465/16"]
[null,null,{"$f":"+'I M P R I M I R'!A555","v":"VII.A"},{"$f":"+'I M P R I M I R'!D$3","v":0},null,{"$f":"+'I M P R I M I R'!B555","v":0},{"$f":"+'I M P R I M I R'!C555","v":0},{"$f":"+'I M P R I M I R'!D555","v":"DOMICILIO REAL:"},{"$f":"+'I M P R I M I R'!E555","v":"<<<<>>>>NO COMPLETADO"},"2016-03-16",0,"465/16"]
[null,null,{"$f":"+'I M P R I M I R'!A556","v":"VII.A"},{"$f":"+'I M P R I M I R'!D$3","v":0},null,{"$f":"+'I M P R I M I R'!B556","v":0},{"$f":"+'I M P R I M I R'!C556","v":0},{"$f":"+'I M P R I M I R'!D556","v":"CEL/TEL –sin puntos ni barras-:"},{"$f":"+'I M P R I M I R'!E556","v":"<<<<>>>>NO COMPLETADO"},"2016-03-16",0,"465/16"]
[null,null,{"$f":"+'I M P R I M I R'!A557","v":"VII.A"},{"$f":"+'I M P R I M I R'!D$3","v":0},null,{"$f":"+'I M P R I M I R'!B557","v":0},{"$f":"+'I M P R I M I R'!C557","v":0},{"$f":"+'I M P R I M I R'!D557","v":"EMAIL:"},{"$f":"+'I M P R I M I R'!E557","v":"<<<<>>>>NO COMPLETADO"},"2016-03-16",0,"465/16"]
[null,null,{"$f":"+'I M P R I M I R'!A558","v":"VII.A"},{"$f":"+'I M P R I M I R'!D$3","v":0},null,{"$f":"+'I M P R I M I R'!B558","v":0},{"$f":"+'I M P R I M I R'!C558","v":0},{"$f":"+'I M P R I M I R'!D558","v":"ESTADO CIVIL:"},{"$f":"+'I M P R I M I R'!E558","v":"<<<<>>>>NO COMPLETADO"},"2016-03-16",0,"465/16"]
[null,null,{"$f":"+'I M P R I M I R'!A559","v":"VII.A"},{"$f":"+'I M P R I M I R'!D$3","v":0},null,{"$f":"+'I M P R I M I R'!B559","v":0},{"$f":"+'I M P R I M I R'!C559","v":0},{"$f":"+'I M P R I M I R'!D559","v":"APELLIDO/S CÓNYUGE:"},{"$f":"+'I M P R I M I R'!E559","v":"<<<<>>>>NO COMPLETADO"},"2016-03-16",0,"465/16"]
[null,null,{"$f":"+'I M P R I M I R'!A560","v":"VII.A"},{"$f":"+'I M P R I M I R'!D$3","v":0},null,{"$f":"+'I M P R I M I R'!B560","v":0},{"$f":"+'I M P R I M I R'!C560","v":0},{"$f":"+'I M P R I M I R'!D560","v":"NOMBRE/S CÓNYUGE"},{"$f":"+'I M P R I M I R'!E560","v":"<<<<>>>>NO COMPLETADO"},"2016-03-16",0,"465/16"]
[null,null,{"$f":"+'I M P R I M I R'!A561","v":"VII.A"},{"$f":"+'I M P R I M I R'!D$3","v":0},null,{"$f":"+'I M P R I M I R'!B561","v":0},{"$f":"+'I M P R I M I R'!C561","v":0},{"$f":"+'I M P R I M I R'!D561","v":"DOC. IDENTIDAD (cónyuge) –sin puntos ni barras-: "},{"$f":"+'I M P R I M I R'!E561","v":"<<<<>>>>NO COMPLETADO"},"2016-03-16",0,"465/16"]
[null,null,{"$f":"+'I M P R I M I R'!A562","v":"VII.A"},{"$f":"+'I M P R I M I R'!D$3","v":0},null,{"$f":"+'I M P R I M I R'!B562","v":0},{"$f":"+'I M P R I M I R'!C562","v":0},{"$f":"+'I M P R I M I R'!D562","v":"DOC. IDENTIDAD –sin puntos-: ……………………"},{"$f":"+'I M P R I M I R'!E562","v":"<<<<>>>>NO COMPLETADO"},"2016-03-16",0,"465/16"]
[null,null,{"$f":"+'I M P R I M I R'!A563","v":"VII.A"},{"$f":"+'I M P R I M I R'!D$3","v":0},null,{"$f":"+'I M P R I M I R'!B563","v":0},{"$f":"+'I M P R I M I R'!C563","v":0},{"$f":"+'I M P R I M I R'!D563","v":"CUIT/CUIL –sin puntos ni barras-:"},{"$f":"+'I M P R I M I R'!E563","v":"<<<<>>>>NO COMPLETADO"},"2016-03-16",0,"465/16"]
[null,null,{"$f":"+'I M P R I M I R'!A564","v":"VII.A"},{"$f":"+'I M P R I M I R'!D$3","v":0},null,{"$f":"+'I M P R I M I R'!B564","v":0},{"$f":"+'I M P R I M I R'!C564","v":0},{"$f":"+'I M P R I M I R'!D564","v":"FECHA DE NACIMIENTO –dd/mm/aa-:"},{"$f":"+'I M P R I M I R'!E564","v":"<<<<>>>>NO COMPLETADO"},"2016-03-16",0,"465/16"]
[null,null,{"$f":"+'I M P R I M I R'!A565","v":"VII.A"},{"$f":"+'I M P R I M I R'!D$3","v":0},null,{"$f":"+'I M P R I M I R'!B565","v":0},{"$f":"+'I M P R I M I R'!C565","v":0},{"$f":"+'I M P R I M I R'!D565","v":"LUGAR DE NACIMIENTO:"},{"$f":"+'I M P R I M I R'!E565","v":"<<<<>>>>NO COMPLETADO"},"2016-03-16",0,"465/16"]
[null,null,{"$f":"+'I M P R I M I R'!A566","v":"VII.A"},{"$f":"+'I M P R I M I R'!D$3","v":0},null,{"$f":"+'I M P R I M I R'!B566","v":0},{"$f":"+'I M P R I M I R'!C566","v":0},{"$f":"+'I M P R I M I R'!D566","v":"NACIONALIDAD:"},{"$f":"+'I M P R I M I R'!E566","v":"<<<<>>>>NO COMPLETADO"},"2016-03-16",0,"465/16"]
[null,null,{"$f":"+'I M P R I M I R'!A567","v":"VII.A"},{"$f":"+'I M P R I M I R'!D$3","v":0},null,{"$f":"+'I M P R I M I R'!B567","v":0},{"$f":"+'I M P R I M I R'!C567","v":0},{"$f":"+'I M P R I M I R'!D567","v":"PROFESIÓN:"},{"$f":"+'I M P R I M I R'!E567","v":"<<<<>>>>NO COMPLETADO"},"2016-03-16",0,"465/16"]
[null,null,{"$f":"+'I M P R I M I R'!A568","v":"VII.A"},{"$f":"+'I M P R I M I R'!D$3","v":0},null,{"$f":"+'I M P R I M I R'!B568","v":0},{"$f":"+'I M P R I M I R'!C568","v":0},{"$f":"+'I M P R I M I R'!D568","v":"DOMICILIO REAL:"},{"$f":"+'I M P R I M I R'!E568","v":"<<<<>>>>NO COMPLETADO"},"2016-03-16",0,"465/16"]
[null,null,{"$f":"+'I M P R I M I R'!A569","v":"VII.A"},{"$f":"+'I M P R I M I R'!D$3","v":0},null,{"$f":"+'I M P R I M I R'!B569","v":0},{"$f":"+'I M P R I M I R'!C569","v":0},{"$f":"+'I M P R I M I R'!D569","v":"CEL/TEL –sin puntos ni barras-:"},{"$f":"+'I M P R I M I R'!E569","v":"<<<<>>>>NO COMPLETADO"},"2016-03-16",0,"465/16"]
[null,null,{"$f":"+'I M P R I M I R'!A570","v":"VII.A"},{"$f":"+'I M P R I M I R'!D$3","v":0},null,{"$f":"+'I M P R I M I R'!B570","v":0},{"$f":"+'I M P R I M I R'!C570","v":0},{"$f":"+'I M P R I M I R'!D570","v":"EMAIL:"},{"$f":"+'I M P R I M I R'!E570","v":"<<<<>>>>NO COMPLETADO"},"2016-03-16",0,"465/16"]
[null,null,{"$f":"+'I M P R I M I R'!A571","v":"VII.A"},{"$f":"+'I M P R I M I R'!D$3","v":0},null,{"$f":"+'I M P R I M I R'!B571","v":0},{"$f":"+'I M P R I M I R'!C571","v":0},{"$f":"+'I M P R I M I R'!D571","v":"ESTADO CIVIL:"},{"$f":"+'I M P R I M I R'!E571","v":"<<<<>>>>NO COMPLETADO"},"2016-03-16",0,"465/16"]
[null,null,{"$f":"+'I M P R I M I R'!A572","v":"VII.A"},{"$f":"+'I M P R I M I R'!D$3","v":0},null,{"$f":"+'I M P R I M I R'!B572","v":0},{"$f":"+'I M P R I M I R'!C572","v":0},{"$f":"+'I M P R I M I R'!D572","v":"APELLIDO/S CÓNYUGE:"},{"$f":"+'I M P R I M I R'!E572","v":"<<<<>>>>NO COMPLETADO"},"2016-03-16",0,"465/16"]
[null,null,{"$f":"+'I M P R I M I R'!A573","v":"VII.A"},{"$f":"+'I M P R I M I R'!D$3","v":0},null,{"$f":"+'I M P R I M I R'!B573","v":0},{"$f":"+'I M P R I M I R'!C573","v":0},{"$f":"+'I M P R I M I R'!D573","v":"NOMBRE/S CÓNYUGE"},{"$f":"+'I M P R I M I R'!E573","v":"<<<<>>>>NO COMPLETADO"},"2016-03-16",0,"465/16"]
[null,null,{"$f":"+'I M P R I M I R'!A574","v":"VII.A"},{"$f":"+'I M P R I M I R'!D$3","v":0},null,{"$f":"+'I M P R I M I R'!B574","v":0},{"$f":"+'I M P R I M I R'!C574","v":0},{"$f":"+'I M P R I M I R'!D574","v":"DOC. IDENTIDAD (cónyuge) –sin puntos ni barras-: "},{"$f":"+'I M P R I M I R'!E574","v":"<<<<>>>>NO COMPLETADO"},"2016-03-16",0,"465/16"]
[null,null,{"$f":"+'I M P R I M I R'!A575","v":"VII.A"},{"$f":"+'I M P R I M I R'!D$3","v":0},null,{"$f":"+'I M P R I M I R'!B575","v":0},{"$f":"+'I M P R I M I R'!C575","v":0},{"$f":"+'I M P R I M I R'!D575","v":"DOC. IDENTIDAD –sin puntos-: ……………………"},{"$f":"+'I M P R I M I R'!E575","v":"<<<<>>>>NO COMPLETADO"},"2016-03-16",0,"465/16"]
[null,null,{"$f":"+'I M P R I M I R'!A576","v":"VII.A"},{"$f":"+'I M P R I M I R'!D$3","v":0},null,{"$f":"+'I M P R I M I R'!B576","v":0},{"$f":"+'I M P R I M I R'!C576","v":0},{"$f":"+'I M P R I M I R'!D576","v":"CUIT/CUIL –sin puntos ni barras-:"},{"$f":"+'I M P R I M I R'!E576","v":"<<<<>>>>NO COMPLETADO"},"2016-03-16",0,"465/16"]
[null,null,{"$f":"+'I M P R I M I R'!A577","v":"VII.A"},{"$f":"+'I M P R I M I R'!D$3","v":0},null,{"$f":"+'I M P R I M I R'!B577","v":0},{"$f":"+'I M P R I M I R'!C577","v":0},{"$f":"+'I M P R I M I R'!D577","v":"FECHA DE NACIMIENTO –dd/mm/aa-:"},{"$f":"+'I M P R I M I R'!E577","v":"<<<<>>>>NO COMPLETADO"},"2016-03-16",0,"465/16"]
[null,null,{"$f":"+'I M P R I M I R'!A578","v":"VII.A"},{"$f":"+'I M P R I M I R'!D$3","v":0},null,{"$f":"+'I M P R I M I R'!B578","v":0},{"$f":"+'I M P R I M I R'!C578","v":0},{"$f":"+'I M P R I M I R'!D578","v":"LUGAR DE NACIMIENTO:"},{"$f":"+'I M P R I M I R'!E578","v":"<<<<>>>>NO COMPLETADO"},"2016-03-16",0,"465/16"]
[null,null,{"$f":"+'I M P R I M I R'!A579","v":"VII.A"},{"$f":"+'I M P R I M I R'!D$3","v":0},null,{"$f":"+'I M P R I M I R'!B579","v":0},{"$f":"+'I M P R I M I R'!C579","v":0},{"$f":"+'I M P R I M I R'!D579","v":"NACIONALIDAD:"},{"$f":"+'I M P R I M I R'!E579","v":"<<<<>>>>NO COMPLETADO"},"2016-03-16",0,"465/16"]
[null,null,{"$f":"+'I M P R I M I R'!A580","v":"VII.A"},{"$f":"+'I M P R I M I R'!D$3","v":0},null,{"$f":"+'I M P R I M I R'!B580","v":0},{"$f":"+'I M P R I M I R'!C580","v":0},{"$f":"+'I M P R I M I R'!D580","v":"PROFESIÓN:"},{"$f":"+'I M P R I M I R'!E580","v":"<<<<>>>>NO COMPLETADO"},"2016-03-16",0,"465/16"]
[null,null,{"$f":"+'I M P R I M I R'!A581","v":"VII.A"},{"$f":"+'I M P R I M I R'!D$3","v":0},null,{"$f":"+'I M P R I M I R'!B581","v":0},{"$f":"+'I M P R I M I R'!C581","v":0},{"$f":"+'I M P R I M I R'!D581","v":"DOMICILIO REAL:"},{"$f":"+'I M P R I M I R'!E581","v":"<<<<>>>>NO COMPLETADO"},"2016-03-16",0,"465/16"]
[null,null,{"$f":"+'I M P R I M I R'!A582","v":"VII.A"},{"$f":"+'I M P R I M I R'!D$3","v":0},null,{"$f":"+'I M P R I M I R'!B582","v":0},{"$f":"+'I M P R I M I R'!C582","v":0},{"$f":"+'I M P R I M I R'!D582","v":"CEL/TEL –sin puntos ni barras-:"},{"$f":"+'I M P R I M I R'!E582","v":"<<<<>>>>NO COMPLETADO"},"2016-03-16",0,"465/16"]
[null,null,{"$f":"+'I M P R I M I R'!A583","v":"VII.A"},{"$f":"+'I M P R I M I R'!D$3","v":0},null,{"$f":"+'I M P R I M I R'!B583","v":0},{"$f":"+'I M P R I M I R'!C583","v":0},{"$f":"+'I M P R I M I R'!D583","v":"EMAIL:"},{"$f":"+'I M P R I M I R'!E583","v":"<<<<>>>>NO COMPLETADO"},"2016-03-16",0,"465/16"]
[null,null,{"$f":"+'I M P R I M I R'!A584","v":"VII.A"},{"$f":"+'I M P R I M I R'!D$3","v":0},null,{"$f":"+'I M P R I M I R'!B584","v":0},{"$f":"+'I M P R I M I R'!C584","v":0},{"$f":"+'I M P R I M I R'!D584","v":"ESTADO CIVIL:"},{"$f":"+'I M P R I M I R'!E584","v":"<<<<>>>>NO COMPLETADO"},{"$f":"+H$2","v":"2016-03-16"},{"$f":"H$4","v":0},{"$f":"+H$3","v":"465/16"}]
[null,null,{"$f":"+'I M P R I M I R'!A585","v":"VII.A"},{"$f":"+'I M P R I M I R'!D$3","v":0},null,{"$f":"+'I M P R I M I R'!B585","v":0},{"$f":"+'I M P R I M I R'!C585","v":0},{"$f":"+'I M P R I M I R'!D585","v":"APELLIDO/S CÓNYUGE:"},{"$f":"+'I M P R I M I R'!E585","v":"<<<<>>>>NO COMPLETADO"},"2016-03-16",0,"465/16"]
[null,null,{"$f":"+'I M P R I M I R'!A586","v":"VII.A"},{"$f":"+'I M P R I M I R'!D$3","v":0},null,{"$f":"+'I M P R I M I R'!B586","v":0},{"$f":"+'I M P R I M I R'!C586","v":0},{"$f":"+'I M P R I M I R'!D586","v":"NOMBRE/S CÓNYUGE"},{"$f":"+'I M P R I M I R'!E586","v":"<<<<>>>>NO COMPLETADO"},"2016-03-16",0,"465/16"]
[null,null,{"$f":"+'I M P R I M I R'!A587","v":"VII.A"},{"$f":"+'I M P R I M I R'!D$3","v":0},null,{"$f":"+'I M P R I M I R'!B587","v":0},{"$f":"+'I M P R I M I R'!C587","v":0},{"$f":"+'I M P R I M I R'!D587","v":"DOC. IDENTIDAD (cónyuge) –sin puntos ni barras-: "},{"$f":"+'I M P R I M I R'!E587","v":"<<<<>>>>NO COMPLETADO"},"2016-03-16",0,"465/16"]
[null,null,{"$f":"+'I M P R I M I R'!A588","v":"VII.A"},{"$f":"+'I M P R I M I R'!D$3","v":0},null,{"$f":"+'I M P R I M I R'!B588","v":0},{"$f":"+'I M P R I M I R'!C588","v":0},{"$f":"+'I M P R I M I R'!D588","v":"DOC. IDENTIDAD –sin puntos-: ……………………"},{"$f":"+'I M P R I M I R'!E588","v":"<<<<>>>>NO COMPLETADO"},"2016-03-16",0,"465/16"]
[null,null,{"$f":"+'I M P R I M I R'!A589","v":"VII.A"},{"$f":"+'I M P R I M I R'!D$3","v":0},null,{"$f":"+'I M P R I M I R'!B589","v":0},{"$f":"+'I M P R I M I R'!C589","v":0},{"$f":"+'I M P R I M I R'!D589","v":"CUIT/CUIL –sin puntos ni barras-:"},{"$f":"+'I M P R I M I R'!E589","v":"<<<<>>>>NO COMPLETADO"},"2016-03-16",0,"465/16"]
[null,null,{"$f":"+'I M P R I M I R'!A590","v":"VII.A"},{"$f":"+'I M P R I M I R'!D$3","v":0},null,{"$f":"+'I M P R I M I R'!B590","v":0},{"$f":"+'I M P R I M I R'!C590","v":0},{"$f":"+'I M P R I M I R'!D590","v":"FECHA DE NACIMIENTO –dd/mm/aa-:"},{"$f":"+'I M P R I M I R'!E590","v":"<<<<>>>>NO COMPLETADO"},"2016-03-16",0,"465/16"]
[null,null,{"$f":"+'I M P R I M I R'!A591","v":"VII.A"},{"$f":"+'I M P R I M I R'!D$3","v":0},null,{"$f":"+'I M P R I M I R'!B591","v":0},{"$f":"+'I M P R I M I R'!C591","v":0},{"$f":"+'I M P R I M I R'!D591","v":"LUGAR DE NACIMIENTO:"},{"$f":"+'I M P R I M I R'!E591","v":"<<<<>>>>NO COMPLETADO"},"2016-03-16",0,"465/16"]
[null,null,{"$f":"+'I M P R I M I R'!A592","v":"VII.A"},{"$f":"+'I M P R I M I R'!D$3","v":0},null,{"$f":"+'I M P R I M I R'!B592","v":0},{"$f":"+'I M P R I M I R'!C592","v":0},{"$f":"+'I M P R I M I R'!D592","v":"NACIONALIDAD:"},{"$f":"+'I M P R I M I R'!E592","v":"<<<<>>>>NO COMPLETADO"},"2016-03-16",0,"465/16"]
[null,null,{"$f":"+'I M P R I M I R'!A593","v":"VII.A"},{"$f":"+'I M P R I M I R'!D$3","v":0},null,{"$f":"+'I M P R I M I R'!B593","v":0},{"$f":"+'I M P R I M I R'!C593","v":0},{"$f":"+'I M P R I M I R'!D593","v":"PROFESIÓN:"},{"$f":"+'I M P R I M I R'!E593","v":"<<<<>>>>NO COMPLETADO"},"2016-03-16",0,"465/16"]
[null,null,{"$f":"+'I M P R I M I R'!A594","v":"VII.A"},{"$f":"+'I M P R I M I R'!D$3","v":0},null,{"$f":"+'I M P R I M I R'!B594","v":0},{"$f":"+'I M P R I M I R'!C594","v":0},{"$f":"+'I M P R I M I R'!D594","v":"DOMICILIO REAL:"},{"$f":"+'I M P R I M I R'!E594","v":"<<<<>>>>NO COMPLETADO"},"2016-03-16",0,"465/16"]
[null,null,{"$f":"+'I M P R I M I R'!A595","v":"VII.A"},{"$f":"+'I M P R I M I R'!D$3","v":0},null,{"$f":"+'I M P R I M I R'!B595","v":0},{"$f":"+'I M P R I M I R'!C595","v":0},{"$f":"+'I M P R I M I R'!D595","v":"CEL/TEL –sin puntos ni barras-:"},{"$f":"+'I M P R I M I R'!E595","v":"<<<<>>>>NO COMPLETADO"},"2016-03-16",0,"465/16"]
[null,null,{"$f":"+'I M P R I M I R'!A596","v":"VII.A"},{"$f":"+'I M P R I M I R'!D$3","v":0},null,{"$f":"+'I M P R I M I R'!B596","v":0},{"$f":"+'I M P R I M I R'!C596","v":0},{"$f":"+'I M P R I M I R'!D596","v":"EMAIL:"},{"$f":"+'I M P R I M I R'!E596","v":"<<<<>>>>NO COMPLETADO"},"2016-03-16",0,"465/16"]
[null,null,{"$f":"+'I M P R I M I R'!A597","v":"VII.A"},{"$f":"+'I M P R I M I R'!D$3","v":0},null,{"$f":"+'I M P R I M I R'!B597","v":0},{"$f":"+'I M P R I M I R'!C597","v":0},{"$f":"+'I M P R I M I R'!D597","v":"ESTADO CIVIL:"},{"$f":"+'I M P R I M I R'!E597","v":"<<<<>>>>NO COMPLETADO"},"2016-03-16",0,"465/16"]
[null,null,{"$f":"+'I M P R I M I R'!A598","v":"VII.A"},{"$f":"+'I M P R I M I R'!D$3","v":0},null,{"$f":"+'I M P R I M I R'!B598","v":0},{"$f":"+'I M P R I M I R'!C598","v":0},{"$f":"+'I M P R I M I R'!D598","v":"APELLIDO/S CÓNYUGE:"},{"$f":"+'I M P R I M I R'!E598","v":"<<<<>>>>NO COMPLETADO"},"2016-03-16",0,"465/16"]
[null,null,{"$f":"+'I M P R I M I R'!A599","v":"VII.A"},{"$f":"+'I M P R I M I R'!D$3","v":0},null,{"$f":"+'I M P R I M I R'!B599","v":0},{"$f":"+'I M P R I M I R'!C599","v":0},{"$f":"+'I M P R I M I R'!D599","v":"NOMBRE/S CÓNYUGE"},{"$f":"+'I M P R I M I R'!E599","v":"<<<<>>>>NO COMPLETADO"},"2016-03-16",0,"465/16"]
[null,null,{"$f":"+'I M P R I M I R'!A600","v":"VII.A"},{"$f":"+'I M P R I M I R'!D$3","v":0},null,{"$f":"+'I M P R I M I R'!B600","v":0},{"$f":"+'I M P R I M I R'!C600","v":0},{"$f":"+'I M P R I M I R'!D600","v":"DOC. IDENTIDAD (cónyuge) –sin puntos ni barras-: "},{"$f":"+'I M P R I M I R'!E600","v":"<<<<>>>>NO COMPLETADO"},"2016-03-16",0,"465/16"]
[null,null,{"$f":"+'I M P R I M I R'!A601","v":"VII.B"},{"$f":"+'I M P R I M I R'!D$3","v":0},null,{"$f":"+'I M P R I M I R'!B601","v":0},{"$f":"+'I M P R I M I R'!C601","v":0},{"$f":"+'I M P R I M I R'!D601","v":"CUIT –sin puntos ni barras-:"},{"$f":"+'I M P R I M I R'!E601","v":"<<<<>>>>NO COMPLETADO"},"2016-03-16",0,"465/16"]
[null,null,{"$f":"+'I M P R I M I R'!A602","v":"VII.B"},{"$f":"+'I M P R I M I R'!D$3","v":0},null,{"$f":"+'I M P R I M I R'!B602","v":0},{"$f":"+'I M P R I M I R'!C602","v":0},{"$f":"+'I M P R I M I R'!D602","v":"TIPO DE PERSONA JCA -sociedad, asociación, mutual, etc-:"},{"$f":"+'I M P R I M I R'!E602","v":"<<<<>>>>NO COMPLETADO"},"2016-03-16",0,"465/16"]
[null,null,{"$f":"+'I M P R I M I R'!A603","v":"VII.B"},{"$f":"+'I M P R I M I R'!D$3","v":0},null,{"$f":"+'I M P R I M I R'!B603","v":0},{"$f":"+'I M P R I M I R'!C603","v":0},{"$f":"+'I M P R I M I R'!D603","v":"ORGANISMO /s DONDE SE INSCRIBIÓ CONSTITUCIÓN:"},{"$f":"+'I M P R I M I R'!E603","v":"<<<<>>>>NO COMPLETADO"},"2016-03-16",0,"465/16"]
[null,null,{"$f":"+'I M P R I M I R'!A604","v":"VII.B"},{"$f":"+'I M P R I M I R'!D$3","v":0},null,{"$f":"+'I M P R I M I R'!B604","v":0},{"$f":"+'I M P R I M I R'!C604","v":0},{"$f":"+'I M P R I M I R'!D604","v":"DATOS DE RESOLUCIÓN/OTROS INSCRIPCIÓN:"},{"$f":"+'I M P R I M I R'!E604","v":"<<<<>>>>NO COMPLETADO"},"2016-03-16",0,"465/16"]
[null,null,{"$f":"+'I M P R I M I R'!A605","v":"VII.B"},{"$f":"+'I M P R I M I R'!D$3","v":0},null,{"$f":"+'I M P R I M I R'!B605","v":0},{"$f":"+'I M P R I M I R'!C605","v":0},{"$f":"+'I M P R I M I R'!D605","v":"FECHA DE INSCRIPCIÓN:"},{"$f":"+'I M P R I M I R'!E605","v":"<<<<>>>>NO COMPLETADO"},"2016-03-16",0,"465/16"]
[null,null,{"$f":"+'I M P R I M I R'!A606","v":"VII.B"},{"$f":"+'I M P R I M I R'!D$3","v":0},null,{"$f":"+'I M P R I M I R'!B606","v":0},{"$f":"+'I M P R I M I R'!C606","v":0},{"$f":"+'I M P R I M I R'!D606","v":"LUGAR DE INSCRIPCIÓN:"},{"$f":"+'I M P R I M I R'!E606","v":"<<<<>>>>NO COMPLETADO"},"2016-03-16",0,"465/16"]
[null,null,{"$f":"+'I M P R I M I R'!A607","v":"VII.B"},{"$f":"+'I M P R I M I R'!D$3","v":0},null,{"$f":"+'I M P R I M I R'!B607","v":0},{"$f":"+'I M P R I M I R'!C607","v":0},{"$f":"+'I M P R I M I R'!D607","v":"DOMICILIOS SOCIAL:"},{"$f":"+'I M P R I M I R'!E607","v":"<<<<>>>>NO COMPLETADO"},"2016-03-16",0,"465/16"]
[null,null,{"$f":"+'I M P R I M I R'!A608","v":"VII.B"},{"$f":"+'I M P R I M I R'!D$3","v":0},null,{"$f":"+'I M P R I M I R'!B608","v":0},{"$f":"+'I M P R I M I R'!C608","v":0},{"$f":"+'I M P R I M I R'!D608","v":"SEDE SOCIAL:"},{"$f":"+'I M P R I M I R'!E608","v":"<<<<>>>>NO COMPLETADO"},"2016-03-16",0,"465/16"]
[null,null,{"$f":"+'I M P R I M I R'!A609","v":"VII.B"},{"$f":"+'I M P R I M I R'!D$3","v":0},null,{"$f":"+'I M P R I M I R'!B609","v":0},{"$f":"+'I M P R I M I R'!C609","v":0},{"$f":"+'I M P R I M I R'!D609","v":"TEL/CEL –sin puntos ni barras-:"},{"$f":"+'I M P R I M I R'!E609","v":"<<<<>>>>NO COMPLETADO"},"2016-03-16",0,"465/16"]
[null,null,{"$f":"+'I M P R I M I R'!A610","v":"VII.B"},{"$f":"+'I M P R I M I R'!D$3","v":0},null,{"$f":"+'I M P R I M I R'!B610","v":0},{"$f":"+'I M P R I M I R'!C610","v":0},{"$f":"+'I M P R I M I R'!D610","v":"EMAIL:"},{"$f":"+'I M P R I M I R'!E610","v":"<<<<>>>>NO COMPLETADO"},"2016-03-16",0,"465/16"]
[null,null,{"$f":"+'I M P R I M I R'!A611","v":"III.Q"},{"$f":"+'I M P R I M I R'!D$3","v":0},null,{"$f":"+'I M P R I M I R'!B611","v":0},{"$f":"+'I M P R I M I R'!C611","v":0},{"$f":"+'I M P R I M I R'!D611","v":"NROS DE ACCIONES/CUOTAS TITULAR:"},{"$f":"+'I M P R I M I R'!E611","v":"<<<<>>>>NO COMPLETADO"},"2016-03-16",0,"465/16"]
[null,null,{"$f":"+'I M P R I M I R'!A612","v":"III.%"},{"$f":"+'I M P R I M I R'!D$3","v":0},null,{"$f":"+'I M P R I M I R'!B612","v":0},{"$f":"+'I M P R I M I R'!C612","v":0},{"$f":"+'I M P R I M I R'!D612","v":"PARTICIPACIÓN S/CAPITAL (%):"},{"$f":"+'I M P R I M I R'!E612","v":"<<<<>>>>NO COMPLETADO"},"2016-03-16",0,"465/16"]
[null,null,{"$f":"+'I M P R I M I R'!A613","v":"III.CS"},{"$f":"+'I M P R I M I R'!D$3","v":0},null,{"$f":"+'I M P R I M I R'!B613","v":0},{"$f":"+'I M P R I M I R'!C613","v":0},{"$f":"+'I M P R I M I R'!D613","v":"CAPITAL SUSCRIPTO:"},{"$f":"+'I M P R I M I R'!E613","v":"<<<<>>>>NO COMPLETADO"},"2016-03-16",0,"465/16"]
[null,null,{"$f":"+'I M P R I M I R'!A614","v":"III.CI"},{"$f":"+'I M P R I M I R'!D$3","v":0},null,{"$f":"+'I M P R I M I R'!B614","v":0},{"$f":"+'I M P R I M I R'!C614","v":0},{"$f":"+'I M P R I M I R'!D614","v":"CAPITAL INTEGRADO:"},{"$f":"+'I M P R I M I R'!E614","v":"<<<<>>>>NO COMPLETADO"},"2016-03-16",0,"465/16"]
[null,null,{"$f":"+'I M P R I M I R'!A615","v":"III"},{"$f":"+'I M P R I M I R'!D$3","v":0},null,{"$f":"+'I M P R I M I R'!B615","v":0},{"$f":"+'I M P R I M I R'!C615","v":0},{"$f":"+'I M P R I M I R'!D615","v":"¿SOCIO/ACC. FUNDADOR? -SI/NO-:"},{"$f":"+'I M P R I M I R'!E615","v":"<<<<>>>>NO COMPLETADO"},"2016-03-16",0,"465/16"]
[null,null,{"$f":"+'I M P R I M I R'!A616","v":"III"},{"$f":"+'I M P R I M I R'!D$3","v":0},null,{"$f":"+'I M P R I M I R'!B616","v":0},{"$f":"+'I M P R I M I R'!C616","v":0},{"$f":"+'I M P R I M I R'!D616","v":"NOMBRE/S Y APLELLIDO/S DE QUIEN/ES ES CESIONARIO:"},{"$f":"+'I M P R I M I R'!E616","v":"<<<<>>>>NO COMPLETADO"},"2016-03-16",0,"465/16"]
[null,null,{"$f":"+'I M P R I M I R'!A617","v":"VII.B"},{"$f":"+'I M P R I M I R'!D$3","v":0},null,{"$f":"+'I M P R I M I R'!B617","v":0},{"$f":"+'I M P R I M I R'!C617","v":0},{"$f":"+'I M P R I M I R'!D617","v":"NOTA/OBSERVACIÓN."},{"$f":"+'I M P R I M I R'!E617","v":"<<<<>>>>NO COMPLETADO"},"2016-03-16",0,"465/16"]
[null,null,{"$f":"+'I M P R I M I R'!A618","v":"VII.B"},{"$f":"+'I M P R I M I R'!D$3","v":0},null,{"$f":"+'I M P R I M I R'!B618","v":0},{"$f":"+'I M P R I M I R'!C618","v":0},{"$f":"+'I M P R I M I R'!D618","v":"CUIT –sin puntos ni barras-:"},{"$f":"+'I M P R I M I R'!E618","v":"<<<<>>>>NO COMPLETADO"},"2016-03-16",0,"465/16"]
[null,null,{"$f":"+'I M P R I M I R'!A619","v":"VII.B"},{"$f":"+'I M P R I M I R'!D$3","v":0},null,{"$f":"+'I M P R I M I R'!B619","v":0},{"$f":"+'I M P R I M I R'!C619","v":0},{"$f":"+'I M P R I M I R'!D619","v":"TIPO DE PERSONA JCA -sociedad, asociación, mutual, etc-:"},{"$f":"+'I M P R I M I R'!E619","v":"<<<<>>>>NO COMPLETADO"},"2016-03-16",0,"465/16"]
[null,null,{"$f":"+'I M P R I M I R'!A620","v":"VII.B"},{"$f":"+'I M P R I M I R'!D$3","v":0},null,{"$f":"+'I M P R I M I R'!B620","v":0},{"$f":"+'I M P R I M I R'!C620","v":0},{"$f":"+'I M P R I M I R'!D620","v":"ORGANISMO /s DONDE SE INSCRIBIÓ CONSTITUCIÓN:"},{"$f":"+'I M P R I M I R'!E620","v":"<<<<>>>>NO COMPLETADO"},"2016-03-16",0,"465/16"]
[null,null,{"$f":"+'I M P R I M I R'!A621","v":"VII.B"},{"$f":"+'I M P R I M I R'!D$3","v":0},null,{"$f":"+'I M P R I M I R'!B621","v":0},{"$f":"+'I M P R I M I R'!C621","v":0},{"$f":"+'I M P R I M I R'!D621","v":"DATOS DE RESOLUCIÓN/OTROS INSCRIPCIÓN:"},{"$f":"+'I M P R I M I R'!E621","v":"<<<<>>>>NO COMPLETADO"},"2016-03-16",0,"465/16"]
[null,null,{"$f":"+'I M P R I M I R'!A622","v":"VII.B"},{"$f":"+'I M P R I M I R'!D$3","v":0},null,{"$f":"+'I M P R I M I R'!B622","v":0},{"$f":"+'I M P R I M I R'!C622","v":0},{"$f":"+'I M P R I M I R'!D622","v":"FECHA DE INSCRIPCIÓN:"},{"$f":"+'I M P R I M I R'!E622","v":"<<<<>>>>NO COMPLETADO"},"2016-03-16",0,"465/16"]
[null,null,{"$f":"+'I M P R I M I R'!A623","v":"VII.B"},{"$f":"+'I M P R I M I R'!D$3","v":0},null,{"$f":"+'I M P R I M I R'!B623","v":0},{"$f":"+'I M P R I M I R'!C623","v":0},{"$f":"+'I M P R I M I R'!D623","v":"LUGAR DE INSCRIPCIÓN:"},{"$f":"+'I M P R I M I R'!E623","v":"<<<<>>>>NO COMPLETADO"},"2016-03-16",0,"465/16"]
[null,null,{"$f":"+'I M P R I M I R'!A624","v":"VII.B"},{"$f":"+'I M P R I M I R'!D$3","v":0},null,{"$f":"+'I M P R I M I R'!B624","v":0},{"$f":"+'I M P R I M I R'!C624","v":0},{"$f":"+'I M P R I M I R'!D624","v":"DOMICILIOS SOCIAL:"},{"$f":"+'I M P R I M I R'!E624","v":"<<<<>>>>NO COMPLETADO"},"2016-03-16",0,"465/16"]
[null,null,{"$f":"+'I M P R I M I R'!A625","v":"VII.B"},{"$f":"+'I M P R I M I R'!D$3","v":0},null,{"$f":"+'I M P R I M I R'!B625","v":0},{"$f":"+'I M P R I M I R'!C625","v":0},{"$f":"+'I M P R I M I R'!D625","v":"SEDE SOCIAL:"},{"$f":"+'I M P R I M I R'!E625","v":"<<<<>>>>NO COMPLETADO"},"2016-03-16",0,"465/16"]
[null,null,{"$f":"+'I M P R I M I R'!A626","v":"VII.B"},{"$f":"+'I M P R I M I R'!D$3","v":0},null,{"$f":"+'I M P R I M I R'!B626","v":0},{"$f":"+'I M P R I M I R'!C626","v":0},{"$f":"+'I M P R I M I R'!D626","v":"TEL/CEL –sin puntos ni barras-:"},{"$f":"+'I M P R I M I R'!E626","v":"<<<<>>>>NO COMPLETADO"},"2016-03-16",0,"465/16"]
[null,null,{"$f":"+'I M P R I M I R'!A627","v":"VII.B"},{"$f":"+'I M P R I M I R'!D$3","v":0},null,{"$f":"+'I M P R I M I R'!B627","v":0},{"$f":"+'I M P R I M I R'!C627","v":0},{"$f":"+'I M P R I M I R'!D627","v":"EMAIL:"},{"$f":"+'I M P R I M I R'!E627","v":"<<<<>>>>NO COMPLETADO"},"2016-03-16",0,"465/16"]
[null,null,{"$f":"+'I M P R I M I R'!A628","v":"III.Q"},{"$f":"+'I M P R I M I R'!D$3","v":0},null,{"$f":"+'I M P R I M I R'!B628","v":0},{"$f":"+'I M P R I M I R'!C628","v":0},{"$f":"+'I M P R I M I R'!D628","v":"NROS DE ACCIONES/CUOTAS TITULAR:"},{"$f":"+'I M P R I M I R'!E628","v":"<<<<>>>>NO COMPLETADO"},"2016-03-16",0,"465/16"]
[null,null,{"$f":"+'I M P R I M I R'!A629","v":"III.%"},{"$f":"+'I M P R I M I R'!D$3","v":0},null,{"$f":"+'I M P R I M I R'!B629","v":0},{"$f":"+'I M P R I M I R'!C629","v":0},{"$f":"+'I M P R I M I R'!D629","v":"PARTICIPACIÓN S/CAPITAL (%):"},{"$f":"+'I M P R I M I R'!E629","v":"<<<<>>>>NO COMPLETADO"},"2016-03-16",0,"465/16"]
[null,null,{"$f":"+'I M P R I M I R'!A630","v":"III.CS"},{"$f":"+'I M P R I M I R'!D$3","v":0},null,{"$f":"+'I M P R I M I R'!B630","v":0},{"$f":"+'I M P R I M I R'!C630","v":0},{"$f":"+'I M P R I M I R'!D630","v":"CAPITAL SUSCRIPTO:"},{"$f":"+'I M P R I M I R'!E630","v":"<<<<>>>>NO COMPLETADO"},"2016-03-16",0,"465/16"]
[null,null,{"$f":"+'I M P R I M I R'!A631","v":"III.CI"},{"$f":"+'I M P R I M I R'!D$3","v":0},null,{"$f":"+'I M P R I M I R'!B631","v":0},{"$f":"+'I M P R I M I R'!C631","v":0},{"$f":"+'I M P R I M I R'!D631","v":"CAPITAL INTEGRADO:"},{"$f":"+'I M P R I M I R'!E631","v":"<<<<>>>>NO COMPLETADO"},"2016-03-16",0,"465/16"]
[null,null,{"$f":"+'I M P R I M I R'!A632","v":"III"},{"$f":"+'I M P R I M I R'!D$3","v":0},null,{"$f":"+'I M P R I M I R'!B632","v":0},{"$f":"+'I M P R I M I R'!C632","v":0},{"$f":"+'I M P R I M I R'!D632","v":"¿SOCIO/ACC. FUNDADOR? -SI/NO-:"},{"$f":"+'I M P R I M I R'!E632","v":"<<<<>>>>NO COMPLETADO"},"2016-03-16",0,"465/16"]
[null,null,{"$f":"+'I M P R I M I R'!A633","v":"III"},{"$f":"+'I M P R I M I R'!D$3","v":0},null,{"$f":"+'I M P R I M I R'!B633","v":0},{"$f":"+'I M P R I M I R'!C633","v":0},{"$f":"+'I M P R I M I R'!D633","v":"NOMBRE/S Y APLELLIDO/S DE QUIEN/ES ES CESIONARIO:"},{"$f":"+'I M P R I M I R'!E633","v":"<<<<>>>>NO COMPLETADO"},"2016-03-16",0,"465/16"]
[null,null,{"$f":"+'I M P R I M I R'!A634","v":"VII.B"},{"$f":"+'I M P R I M I R'!D$3","v":0},null,{"$f":"+'I M P R I M I R'!B634","v":0},{"$f":"+'I M P R I M I R'!C634","v":0},{"$f":"+'I M P R I M I R'!D634","v":"NOTA/OBSERVACIÓN."},{"$f":"+'I M P R I M I R'!E634","v":"<<<<>>>>NO COMPLETADO"},"2016-03-16",0,"465/16"]
[null,null,{"$f":"+'I M P R I M I R'!A635","v":"VII.B"},{"$f":"+'I M P R I M I R'!D$3","v":0},null,{"$f":"+'I M P R I M I R'!B635","v":0},{"$f":"+'I M P R I M I R'!C635","v":0},{"$f":"+'I M P R I M I R'!D635","v":"CUIT –sin puntos ni barras-:"},{"$f":"+'I M P R I M I R'!E635","v":"<<<<>>>>NO COMPLETADO"},"2016-03-16",0,"465/16"]
[null,null,{"$f":"+'I M P R I M I R'!A636","v":"VII.B"},{"$f":"+'I M P R I M I R'!D$3","v":0},null,{"$f":"+'I M P R I M I R'!B636","v":0},{"$f":"+'I M P R I M I R'!C636","v":0},{"$f":"+'I M P R I M I R'!D636","v":"TIPO DE PERSONA JCA -sociedad, asociación, mutual, etc-:"},{"$f":"+'I M P R I M I R'!E636","v":"<<<<>>>>NO COMPLETADO"},"2016-03-16",0,"465/16"]
[null,null,{"$f":"+'I M P R I M I R'!A637","v":"VII.B"},{"$f":"+'I M P R I M I R'!D$3","v":0},null,{"$f":"+'I M P R I M I R'!B637","v":0},{"$f":"+'I M P R I M I R'!C637","v":0},{"$f":"+'I M P R I M I R'!D637","v":"ORGANISMO /s DONDE SE INSCRIBIÓ CONSTITUCIÓN:"},{"$f":"+'I M P R I M I R'!E637","v":"<<<<>>>>NO COMPLETADO"},"2016-03-16",0,"465/16"]
[null,null,{"$f":"+'I M P R I M I R'!A638","v":"VII.B"},{"$f":"+'I M P R I M I R'!D$3","v":0},null,{"$f":"+'I M P R I M I R'!B638","v":0},{"$f":"+'I M P R I M I R'!C638","v":0},{"$f":"+'I M P R I M I R'!D638","v":"DATOS DE RESOLUCIÓN/OTROS INSCRIPCIÓN:"},{"$f":"+'I M P R I M I R'!E638","v":"<<<<>>>>NO COMPLETADO"},"2016-03-16",0,"465/16"]
[null,null,{"$f":"+'I M P R I M I R'!A639","v":"VII.B"},{"$f":"+'I M P R I M I R'!D$3","v":0},null,{"$f":"+'I M P R I M I R'!B639","v":0},{"$f":"+'I M P R I M I R'!C639","v":0},{"$f":"+'I M P R I M I R'!D639","v":"FECHA DE INSCRIPCIÓN:"},{"$f":"+'I M P R I M I R'!E639","v":"<<<<>>>>NO COMPLETADO"},"2016-03-16",0,"465/16"]
[null,null,{"$f":"+'I M P R I M I R'!A640","v":"VII.B"},{"$f":"+'I M P R I M I R'!D$3","v":0},null,{"$f":"+'I M P R I M I R'!B640","v":0},{"$f":"+'I M P R I M I R'!C640","v":0},{"$f":"+'I M P R I M I R'!D640","v":"LUGAR DE INSCRIPCIÓN:"},{"$f":"+'I M P R I M I R'!E640","v":"<<<<>>>>NO COMPLETADO"},"2016-03-16",0,"465/16"]
[null,null,{"$f":"+'I M P R I M I R'!A641","v":"VII.B"},{"$f":"+'I M P R I M I R'!D$3","v":0},null,{"$f":"+'I M P R I M I R'!B641","v":0},{"$f":"+'I M P R I M I R'!C641","v":0},{"$f":"+'I M P R I M I R'!D641","v":"DOMICILIOS SOCIAL:"},{"$f":"+'I M P R I M I R'!E641","v":"<<<<>>>>NO COMPLETADO"},"2016-03-16",0,"465/16"]
[null,null,{"$f":"+'I M P R I M I R'!A642","v":"VII.B"},{"$f":"+'I M P R I M I R'!D$3","v":0},null,{"$f":"+'I M P R I M I R'!B642","v":0},{"$f":"+'I M P R I M I R'!C642","v":0},{"$f":"+'I M P R I M I R'!D642","v":"SEDE SOCIAL:"},{"$f":"+'I M P R I M I R'!E642","v":"<<<<>>>>NO COMPLETADO"},"2016-03-16",0,"465/16"]
[null,null,{"$f":"+'I M P R I M I R'!A643","v":"VII.B"},{"$f":"+'I M P R I M I R'!D$3","v":0},null,{"$f":"+'I M P R I M I R'!B643","v":0},{"$f":"+'I M P R I M I R'!C643","v":0},{"$f":"+'I M P R I M I R'!D643","v":"TEL/CEL –sin puntos ni barras-:"},{"$f":"+'I M P R I M I R'!E643","v":"<<<<>>>>NO COMPLETADO"},"2016-03-16",0,"465/16"]
[null,null,{"$f":"+'I M P R I M I R'!A644","v":"VII.B"},{"$f":"+'I M P R I M I R'!D$3","v":0},null,{"$f":"+'I M P R I M I R'!B644","v":0},{"$f":"+'I M P R I M I R'!C644","v":0},{"$f":"+'I M P R I M I R'!D644","v":"EMAIL:"},{"$f":"+'I M P R I M I R'!E644","v":"<<<<>>>>NO COMPLETADO"},"2016-03-16",0,"465/16"]
[null,null,{"$f":"+'I M P R I M I R'!A645","v":"III.Q"},{"$f":"+'I M P R I M I R'!D$3","v":0},null,{"$f":"+'I M P R I M I R'!B645","v":0},{"$f":"+'I M P R I M I R'!C645","v":0},{"$f":"+'I M P R I M I R'!D645","v":"NROS DE ACCIONES/CUOTAS TITULAR:"},{"$f":"+'I M P R I M I R'!E645","v":"<<<<>>>>NO COMPLETADO"},"2016-03-16",0,"465/16"]
[null,null,{"$f":"+'I M P R I M I R'!A646","v":"III.%"},{"$f":"+'I M P R I M I R'!D$3","v":0},null,{"$f":"+'I M P R I M I R'!B646","v":0},{"$f":"+'I M P R I M I R'!C646","v":0},{"$f":"+'I M P R I M I R'!D646","v":"PARTICIPACIÓN S/CAPITAL (%):"},{"$f":"+'I M P R I M I R'!E646","v":"<<<<>>>>NO COMPLETADO"},"2016-03-16",0,"465/16"]
[null,null,{"$f":"+'I M P R I M I R'!A647","v":"III.CS"},{"$f":"+'I M P R I M I R'!D$3","v":0},null,{"$f":"+'I M P R I M I R'!B647","v":0},{"$f":"+'I M P R I M I R'!C647","v":0},{"$f":"+'I M P R I M I R'!D647","v":"CAPITAL SUSCRIPTO:"},{"$f":"+'I M P R I M I R'!E647","v":"<<<<>>>>NO COMPLETADO"},"2016-03-16",0,"465/16"]
[null,null,{"$f":"+'I M P R I M I R'!A648","v":"III.CI"},{"$f":"+'I M P R I M I R'!D$3","v":0},null,{"$f":"+'I M P R I M I R'!B648","v":0},{"$f":"+'I M P R I M I R'!C648","v":0},{"$f":"+'I M P R I M I R'!D648","v":"CAPITAL INTEGRADO:"},{"$f":"+'I M P R I M I R'!E648","v":"<<<<>>>>NO COMPLETADO"},{"$f":"+H$2","v":"2016-03-16"},{"$f":"H$4","v":0},{"$f":"+H$3","v":"465/16"}]
[null,null,{"$f":"+'I M P R I M I R'!A649","v":"III"},{"$f":"+'I M P R I M I R'!D$3","v":0},null,{"$f":"+'I M P R I M I R'!B649","v":0},{"$f":"+'I M P R I M I R'!C649","v":0},{"$f":"+'I M P R I M I R'!D649","v":"¿SOCIO/ACC. FUNDADOR? -SI/NO-:"},{"$f":"+'I M P R I M I R'!E649","v":"<<<<>>>>NO COMPLETADO"},"2016-03-16",0,"465/16"]
[null,null,{"$f":"+'I M P R I M I R'!A650","v":"III"},{"$f":"+'I M P R I M I R'!D$3","v":0},null,{"$f":"+'I M P R I M I R'!B650","v":0},{"$f":"+'I M P R I M I R'!C650","v":0},{"$f":"+'I M P R I M I R'!D650","v":"NOMBRE/S Y APLELLIDO/S DE QUIEN/ES ES CESIONARIO:"},{"$f":"+'I M P R I M I R'!E650","v":"<<<<>>>>NO COMPLETADO"},"2016-03-16",0,"465/16"]
[null,null,{"$f":"+'I M P R I M I R'!A651","v":"VII.B"},{"$f":"+'I M P R I M I R'!D$3","v":0},null,{"$f":"+'I M P R I M I R'!B651","v":0},{"$f":"+'I M P R I M I R'!C651","v":0},{"$f":"+'I M P R I M I R'!D651","v":"NOTA/OBSERVACIÓN."},{"$f":"+'I M P R I M I R'!E651","v":"<<<<>>>>NO COMPLETADO"},"2016-03-16",0,"465/16"]
[null,null,{"$f":"+'I M P R I M I R'!A652","v":"VII.B"},{"$f":"+'I M P R I M I R'!D$3","v":0},null,{"$f":"+'I M P R I M I R'!B652","v":0},{"$f":"+'I M P R I M I R'!C652","v":0},{"$f":"+'I M P R I M I R'!D652","v":"CUIT –sin puntos ni barras-:"},{"$f":"+'I M P R I M I R'!E652","v":"<<<<>>>>NO COMPLETADO"},"2016-03-16",0,"465/16"]
[null,null,{"$f":"+'I M P R I M I R'!A653","v":"VII.B"},{"$f":"+'I M P R I M I R'!D$3","v":0},null,{"$f":"+'I M P R I M I R'!B653","v":0},{"$f":"+'I M P R I M I R'!C653","v":0},{"$f":"+'I M P R I M I R'!D653","v":"TIPO DE PERSONA JCA -sociedad, asociación, mutual, etc-:"},{"$f":"+'I M P R I M I R'!E653","v":"<<<<>>>>NO COMPLETADO"},"2016-03-16",0,"465/16"]
[null,null,{"$f":"+'I M P R I M I R'!A654","v":"VII.B"},{"$f":"+'I M P R I M I R'!D$3","v":0},null,{"$f":"+'I M P R I M I R'!B654","v":0},{"$f":"+'I M P R I M I R'!C654","v":0},{"$f":"+'I M P R I M I R'!D654","v":"ORGANISMO /s DONDE SE INSCRIBIÓ CONSTITUCIÓN:"},{"$f":"+'I M P R I M I R'!E654","v":"<<<<>>>>NO COMPLETADO"},"2016-03-16",0,"465/16"]
[null,null,{"$f":"+'I M P R I M I R'!A655","v":"VII.B"},{"$f":"+'I M P R I M I R'!D$3","v":0},null,{"$f":"+'I M P R I M I R'!B655","v":0},{"$f":"+'I M P R I M I R'!C655","v":0},{"$f":"+'I M P R I M I R'!D655","v":"DATOS DE RESOLUCIÓN/OTROS INSCRIPCIÓN:"},{"$f":"+'I M P R I M I R'!E655","v":"<<<<>>>>NO COMPLETADO"},"2016-03-16",0,"465/16"]
[null,null,{"$f":"+'I M P R I M I R'!A656","v":"VII.B"},{"$f":"+'I M P R I M I R'!D$3","v":0},null,{"$f":"+'I M P R I M I R'!B656","v":0},{"$f":"+'I M P R I M I R'!C656","v":0},{"$f":"+'I M P R I M I R'!D656","v":"FECHA DE INSCRIPCIÓN:"},{"$f":"+'I M P R I M I R'!E656","v":"<<<<>>>>NO COMPLETADO"},"2016-03-16",0,"465/16"]
[null,null,{"$f":"+'I M P R I M I R'!A657","v":"VII.B"},{"$f":"+'I M P R I M I R'!D$3","v":0},null,{"$f":"+'I M P R I M I R'!B657","v":0},{"$f":"+'I M P R I M I R'!C657","v":0},{"$f":"+'I M P R I M I R'!D657","v":"LUGAR DE INSCRIPCIÓN:"},{"$f":"+'I M P R I M I R'!E657","v":"<<<<>>>>NO COMPLETADO"},"2016-03-16",0,"465/16"]
[null,null,{"$f":"+'I M P R I M I R'!A658","v":"VII.B"},{"$f":"+'I M P R I M I R'!D$3","v":0},null,{"$f":"+'I M P R I M I R'!B658","v":0},{"$f":"+'I M P R I M I R'!C658","v":0},{"$f":"+'I M P R I M I R'!D658","v":"DOMICILIOS SOCIAL:"},{"$f":"+'I M P R I M I R'!E658","v":"<<<<>>>>NO COMPLETADO"},"2016-03-16",0,"465/16"]
[null,null,{"$f":"+'I M P R I M I R'!A659","v":"VII.B"},{"$f":"+'I M P R I M I R'!D$3","v":0},null,{"$f":"+'I M P R I M I R'!B659","v":0},{"$f":"+'I M P R I M I R'!C659","v":0},{"$f":"+'I M P R I M I R'!D659","v":"SEDE SOCIAL:"},{"$f":"+'I M P R I M I R'!E659","v":"<<<<>>>>NO COMPLETADO"},"2016-03-16",0,"465/16"]
[null,null,{"$f":"+'I M P R I M I R'!A660","v":"VII.B"},{"$f":"+'I M P R I M I R'!D$3","v":0},null,{"$f":"+'I M P R I M I R'!B660","v":0},{"$f":"+'I M P R I M I R'!C660","v":0},{"$f":"+'I M P R I M I R'!D660","v":"TEL/CEL –sin puntos ni barras-:"},{"$f":"+'I M P R I M I R'!E660","v":"<<<<>>>>NO COMPLETADO"},"2016-03-16",0,"465/16"]
[null,null,{"$f":"+'I M P R I M I R'!A661","v":"VII.B"},{"$f":"+'I M P R I M I R'!D$3","v":0},null,{"$f":"+'I M P R I M I R'!B661","v":0},{"$f":"+'I M P R I M I R'!C661","v":0},{"$f":"+'I M P R I M I R'!D661","v":"EMAIL:"},{"$f":"+'I M P R I M I R'!E661","v":"<<<<>>>>NO COMPLETADO"},"2016-03-16",0,"465/16"]
[null,null,{"$f":"+'I M P R I M I R'!A662","v":"III.Q"},{"$f":"+'I M P R I M I R'!D$3","v":0},null,{"$f":"+'I M P R I M I R'!B662","v":0},{"$f":"+'I M P R I M I R'!C662","v":0},{"$f":"+'I M P R I M I R'!D662","v":"NROS DE ACCIONES/CUOTAS TITULAR:"},{"$f":"+'I M P R I M I R'!E662","v":"<<<<>>>>NO COMPLETADO"},"2016-03-16",0,"465/16"]
[null,null,{"$f":"+'I M P R I M I R'!A663","v":"III.%"},{"$f":"+'I M P R I M I R'!D$3","v":0},null,{"$f":"+'I M P R I M I R'!B663","v":0},{"$f":"+'I M P R I M I R'!C663","v":0},{"$f":"+'I M P R I M I R'!D663","v":"PARTICIPACIÓN S/CAPITAL (%):"},{"$f":"+'I M P R I M I R'!E663","v":"<<<<>>>>NO COMPLETADO"},"2016-03-16",0,"465/16"]
[null,null,{"$f":"+'I M P R I M I R'!A664","v":"III.CS"},{"$f":"+'I M P R I M I R'!D$3","v":0},null,{"$f":"+'I M P R I M I R'!B664","v":0},{"$f":"+'I M P R I M I R'!C664","v":0},{"$f":"+'I M P R I M I R'!D664","v":"CAPITAL SUSCRIPTO:"},{"$f":"+'I M P R I M I R'!E664","v":"<<<<>>>>NO COMPLETADO"},"2016-03-16",0,"465/16"]
[null,null,{"$f":"+'I M P R I M I R'!A665","v":"III.CI"},{"$f":"+'I M P R I M I R'!D$3","v":0},null,{"$f":"+'I M P R I M I R'!B665","v":0},{"$f":"+'I M P R I M I R'!C665","v":0},{"$f":"+'I M P R I M I R'!D665","v":"CAPITAL INTEGRADO:"},{"$f":"+'I M P R I M I R'!E665","v":"<<<<>>>>NO COMPLETADO"},"2016-03-16",0,"465/16"]
[null,null,{"$f":"+'I M P R I M I R'!A666","v":"III"},{"$f":"+'I M P R I M I R'!D$3","v":0},null,{"$f":"+'I M P R I M I R'!B666","v":0},{"$f":"+'I M P R I M I R'!C666","v":0},{"$f":"+'I M P R I M I R'!D666","v":"¿SOCIO/ACC. FUNDADOR? -SI/NO-:"},{"$f":"+'I M P R I M I R'!E666","v":"<<<<>>>>NO COMPLETADO"},"2016-03-16",0,"465/16"]
[null,null,{"$f":"+'I M P R I M I R'!A667","v":"III"},{"$f":"+'I M P R I M I R'!D$3","v":0},null,{"$f":"+'I M P R I M I R'!B667","v":0},{"$f":"+'I M P R I M I R'!C667","v":0},{"$f":"+'I M P R I M I R'!D667","v":"NOMBRE/S Y APLELLIDO/S DE QUIEN/ES ES CESIONARIO:"},{"$f":"+'I M P R I M I R'!E667","v":"<<<<>>>>NO COMPLETADO"},"2016-03-16",0,"465/16"]
[null,null,{"$f":"+'I M P R I M I R'!A668","v":"VII.B"},{"$f":"+'I M P R I M I R'!D$3","v":0},null,{"$f":"+'I M P R I M I R'!B668","v":0},{"$f":"+'I M P R I M I R'!C668","v":0},{"$f":"+'I M P R I M I R'!D668","v":"NOTA/OBSERVACIÓN."},{"$f":"+'I M P R I M I R'!E668","v":"<<<<>>>>NO COMPLETADO"},"2016-03-16",0,"465/16"]
[null,null,{"$f":"+'I M P R I M I R'!A669","v":"VII.B"},{"$f":"+'I M P R I M I R'!D$3","v":0},null,{"$f":"+'I M P R I M I R'!B669","v":0},{"$f":"+'I M P R I M I R'!C669","v":0},{"$f":"+'I M P R I M I R'!D669","v":"CUIT –sin puntos ni barras-:"},{"$f":"+'I M P R I M I R'!E669","v":"<<<<>>>>NO COMPLETADO"},"2016-03-16",0,"465/16"]
[null,null,{"$f":"+'I M P R I M I R'!A670","v":"VII.B"},{"$f":"+'I M P R I M I R'!D$3","v":0},null,{"$f":"+'I M P R I M I R'!B670","v":0},{"$f":"+'I M P R I M I R'!C670","v":0},{"$f":"+'I M P R I M I R'!D670","v":"TIPO DE PERSONA JCA -sociedad, asociación, mutual, etc-:"},{"$f":"+'I M P R I M I R'!E670","v":"<<<<>>>>NO COMPLETADO"},"2016-03-16",0,"465/16"]
[null,null,{"$f":"+'I M P R I M I R'!A671","v":"VII.B"},{"$f":"+'I M P R I M I R'!D$3","v":0},null,{"$f":"+'I M P R I M I R'!B671","v":0},{"$f":"+'I M P R I M I R'!C671","v":0},{"$f":"+'I M P R I M I R'!D671","v":"ORGANISMO /s DONDE SE INSCRIBIÓ CONSTITUCIÓN:"},{"$f":"+'I M P R I M I R'!E671","v":"<<<<>>>>NO COMPLETADO"},"2016-03-16",0,"465/16"]
[null,null,{"$f":"+'I M P R I M I R'!A672","v":"VII.B"},{"$f":"+'I M P R I M I R'!D$3","v":0},null,{"$f":"+'I M P R I M I R'!B672","v":0},{"$f":"+'I M P R I M I R'!C672","v":0},{"$f":"+'I M P R I M I R'!D672","v":"DATOS DE RESOLUCIÓN/OTROS INSCRIPCIÓN:"},{"$f":"+'I M P R I M I R'!E672","v":"<<<<>>>>NO COMPLETADO"},"2016-03-16",0,"465/16"]
[null,null,{"$f":"+'I M P R I M I R'!A673","v":"VII.B"},{"$f":"+'I M P R I M I R'!D$3","v":0},null,{"$f":"+'I M P R I M I R'!B673","v":0},{"$f":"+'I M P R I M I R'!C673","v":0},{"$f":"+'I M P R I M I R'!D673","v":"FECHA DE INSCRIPCIÓN:"},{"$f":"+'I M P R I M I R'!E673","v":"<<<<>>>>NO COMPLETADO"},"2016-03-16",0,"465/16"]
[null,null,{"$f":"+'I M P R I M I R'!A674","v":"VII.B"},{"$f":"+'I M P R I M I R'!D$3","v":0},null,{"$f":"+'I M P R I M I R'!B674","v":0},{"$f":"+'I M P R I M I R'!C674","v":0},{"$f":"+'I M P R I M I R'!D674","v":"LUGAR DE INSCRIPCIÓN:"},{"$f":"+'I M P R I M I R'!E674","v":"<<<<>>>>NO COMPLETADO"},"2016-03-16",0,"465/16"]
[null,null,{"$f":"+'I M P R I M I R'!A675","v":"VII.B"},{"$f":"+'I M P R I M I R'!D$3","v":0},null,{"$f":"+'I M P R I M I R'!B675","v":0},{"$f":"+'I M P R I M I R'!C675","v":0},{"$f":"+'I M P R I M I R'!D675","v":"DOMICILIOS SOCIAL:"},{"$f":"+'I M P R I M I R'!E675","v":"<<<<>>>>NO COMPLETADO"},"2016-03-16",0,"465/16"]
[null,null,{"$f":"+'I M P R I M I R'!A676","v":"VII.B"},{"$f":"+'I M P R I M I R'!D$3","v":0},null,{"$f":"+'I M P R I M I R'!B676","v":0},{"$f":"+'I M P R I M I R'!C676","v":0},{"$f":"+'I M P R I M I R'!D676","v":"SEDE SOCIAL:"},{"$f":"+'I M P R I M I R'!E676","v":"<<<<>>>>NO COMPLETADO"},"2016-03-16",0,"465/16"]
[null,null,{"$f":"+'I M P R I M I R'!A677","v":"VII.B"},{"$f":"+'I M P R I M I R'!D$3","v":0},null,{"$f":"+'I M P R I M I R'!B677","v":0},{"$f":"+'I M P R I M I R'!C677","v":0},{"$f":"+'I M P R I M I R'!D677","v":"TEL/CEL –sin puntos ni barras-:"},{"$f":"+'I M P R I M I R'!E677","v":"<<<<>>>>NO COMPLETADO"},"2016-03-16",0,"465/16"]
[null,null,{"$f":"+'I M P R I M I R'!A678","v":"VII.B"},{"$f":"+'I M P R I M I R'!D$3","v":0},null,{"$f":"+'I M P R I M I R'!B678","v":0},{"$f":"+'I M P R I M I R'!C678","v":0},{"$f":"+'I M P R I M I R'!D678","v":"EMAIL:"},{"$f":"+'I M P R I M I R'!E678","v":"<<<<>>>>NO COMPLETADO"},"2016-03-16",0,"465/16"]
[null,null,{"$f":"+'I M P R I M I R'!A679","v":"III.Q"},{"$f":"+'I M P R I M I R'!D$3","v":0},null,{"$f":"+'I M P R I M I R'!B679","v":0},{"$f":"+'I M P R I M I R'!C679","v":0},{"$f":"+'I M P R I M I R'!D679","v":"NROS DE ACCIONES/CUOTAS TITULAR:"},{"$f":"+'I M P R I M I R'!E679","v":"<<<<>>>>NO COMPLETADO"},"2016-03-16",0,"465/16"]
[null,null,{"$f":"+'I M P R I M I R'!A680","v":"III.%"},{"$f":"+'I M P R I M I R'!D$3","v":0},null,{"$f":"+'I M P R I M I R'!B680","v":0},{"$f":"+'I M P R I M I R'!C680","v":0},{"$f":"+'I M P R I M I R'!D680","v":"PARTICIPACIÓN S/CAPITAL (%):"},{"$f":"+'I M P R I M I R'!E680","v":"<<<<>>>>NO COMPLETADO"},"2016-03-16",0,"465/16"]
[null,null,{"$f":"+'I M P R I M I R'!A681","v":"III.CS"},{"$f":"+'I M P R I M I R'!D$3","v":0},null,{"$f":"+'I M P R I M I R'!B681","v":0},{"$f":"+'I M P R I M I R'!C681","v":0},{"$f":"+'I M P R I M I R'!D681","v":"CAPITAL SUSCRIPTO:"},{"$f":"+'I M P R I M I R'!E681","v":"<<<<>>>>NO COMPLETADO"},"2016-03-16",0,"465/16"]
[null,null,{"$f":"+'I M P R I M I R'!A682","v":"III.CI"},{"$f":"+'I M P R I M I R'!D$3","v":0},null,{"$f":"+'I M P R I M I R'!B682","v":0},{"$f":"+'I M P R I M I R'!C682","v":0},{"$f":"+'I M P R I M I R'!D682","v":"CAPITAL INTEGRADO:"},{"$f":"+'I M P R I M I R'!E682","v":"<<<<>>>>NO COMPLETADO"},"2016-03-16",0,"465/16"]
[null,null,{"$f":"+'I M P R I M I R'!A683","v":"III"},{"$f":"+'I M P R I M I R'!D$3","v":0},null,{"$f":"+'I M P R I M I R'!B683","v":0},{"$f":"+'I M P R I M I R'!C683","v":0},{"$f":"+'I M P R I M I R'!D683","v":"¿SOCIO/ACC. FUNDADOR? -SI/NO-:"},{"$f":"+'I M P R I M I R'!E683","v":"<<<<>>>>NO COMPLETADO"},"2016-03-16",0,"465/16"]
[null,null,{"$f":"+'I M P R I M I R'!A684","v":"III"},{"$f":"+'I M P R I M I R'!D$3","v":0},null,{"$f":"+'I M P R I M I R'!B684","v":0},{"$f":"+'I M P R I M I R'!C684","v":0},{"$f":"+'I M P R I M I R'!D684","v":"NOMBRE/S Y APLELLIDO/S DE QUIEN/ES ES CESIONARIO:"},{"$f":"+'I M P R I M I R'!E684","v":"<<<<>>>>NO COMPLETADO"},"2016-03-16",0,"465/16"]
[null,null,{"$f":"+'I M P R I M I R'!A685","v":"VII.B"},{"$f":"+'I M P R I M I R'!D$3","v":0},null,{"$f":"+'I M P R I M I R'!B685","v":0},{"$f":"+'I M P R I M I R'!C685","v":0},{"$f":"+'I M P R I M I R'!D685","v":"NOTA/OBSERVACIÓN."},{"$f":"+'I M P R I M I R'!E685","v":"<<<<>>>>NO COMPLETADO"},"2016-03-16",0,"465/16"]
[null,null,{"$f":"+'I M P R I M I R'!A686","v":"VII.B"},{"$f":"+'I M P R I M I R'!D$3","v":0},null,{"$f":"+'I M P R I M I R'!B686","v":0},{"$f":"+'I M P R I M I R'!C686","v":0},{"$f":"+'I M P R I M I R'!D686","v":"CUIT –sin puntos ni barras-:"},{"$f":"+'I M P R I M I R'!E686","v":"<<<<>>>>NO COMPLETADO"},"2016-03-16",0,"465/16"]
[null,null,{"$f":"+'I M P R I M I R'!A687","v":"VII.B"},{"$f":"+'I M P R I M I R'!D$3","v":0},null,{"$f":"+'I M P R I M I R'!B687","v":0},{"$f":"+'I M P R I M I R'!C687","v":0},{"$f":"+'I M P R I M I R'!D687","v":"TIPO DE PERSONA JCA -sociedad, asociación, mutual, etc-:"},{"$f":"+'I M P R I M I R'!E687","v":"<<<<>>>>NO COMPLETADO"},"2016-03-16",0,"465/16"]
[null,null,{"$f":"+'I M P R I M I R'!A688","v":"VII.B"},{"$f":"+'I M P R I M I R'!D$3","v":0},null,{"$f":"+'I M P R I M I R'!B688","v":0},{"$f":"+'I M P R I M I R'!C688","v":0},{"$f":"+'I M P R I M I R'!D688","v":"ORGANISMO /s DONDE SE INSCRIBIÓ CONSTITUCIÓN:"},{"$f":"+'I M P R I M I R'!E688","v":"<<<<>>>>NO COMPLETADO"},"2016-03-16",0,"465/16"]
[null,null,{"$f":"+'I M P R I M I R'!A689","v":"VII.B"},{"$f":"+'I M P R I M I R'!D$3","v":0},null,{"$f":"+'I M P R I M I R'!B689","v":0},{"$f":"+'I M P R I M I R'!C689","v":0},{"$f":"+'I M P R I M I R'!D689","v":"DATOS DE RESOLUCIÓN/OTROS INSCRIPCIÓN:"},{"$f":"+'I M P R I M I R'!E689","v":"<<<<>>>>NO COMPLETADO"},"2016-03-16",0,"465/16"]
[null,null,{"$f":"+'I M P R I M I R'!A690","v":"VII.B"},{"$f":"+'I M P R I M I R'!D$3","v":0},null,{"$f":"+'I M P R I M I R'!B690","v":0},{"$f":"+'I M P R I M I R'!C690","v":0},{"$f":"+'I M P R I M I R'!D690","v":"FECHA DE INSCRIPCIÓN:"},{"$f":"+'I M P R I M I R'!E690","v":"<<<<>>>>NO COMPLETADO"},"2016-03-16",0,"465/16"]
[null,null,{"$f":"+'I M P R I M I R'!A691","v":"VII.B"},{"$f":"+'I M P R I M I R'!D$3","v":0},null,{"$f":"+'I M P R I M I R'!B691","v":0},{"$f":"+'I M P R I M I R'!C691","v":0},{"$f":"+'I M P R I M I R'!D691","v":"LUGAR DE INSCRIPCIÓN:"},{"$f":"+'I M P R I M I R'!E691","v":"<<<<>>>>NO COMPLETADO"},"2016-03-16",0,"465/16"]
[null,null,{"$f":"+'I M P R I M I R'!A692","v":"VII.B"},{"$f":"+'I M P R I M I R'!D$3","v":0},null,{"$f":"+'I M P R I M I R'!B692","v":0},{"$f":"+'I M P R I M I R'!C692","v":0},{"$f":"+'I M P R I M I R'!D692","v":"DOMICILIOS SOCIAL:"},{"$f":"+'I M P R I M I R'!E692","v":"<<<<>>>>NO COMPLETADO"},"2016-03-16",0,"465/16"]
[null,null,{"$f":"+'I M P R I M I R'!A693","v":"VII.B"},{"$f":"+'I M P R I M I R'!D$3","v":0},null,{"$f":"+'I M P R I M I R'!B693","v":0},{"$f":"+'I M P R I M I R'!C693","v":0},{"$f":"+'I M P R I M I R'!D693","v":"SEDE SOCIAL:"},{"$f":"+'I M P R I M I R'!E693","v":"<<<<>>>>NO COMPLETADO"},"2016-03-16",0,"465/16"]
[null,null,{"$f":"+'I M P R I M I R'!A694","v":"VII.B"},{"$f":"+'I M P R I M I R'!D$3","v":0},null,{"$f":"+'I M P R I M I R'!B694","v":0},{"$f":"+'I M P R I M I R'!C694","v":0},{"$f":"+'I M P R I M I R'!D694","v":"TEL/CEL –sin puntos ni barras-:"},{"$f":"+'I M P R I M I R'!E694","v":"<<<<>>>>NO COMPLETADO"},"2016-03-16",0,"465/16"]
[null,null,{"$f":"+'I M P R I M I R'!A695","v":"VII.B"},{"$f":"+'I M P R I M I R'!D$3","v":0},null,{"$f":"+'I M P R I M I R'!B695","v":0},{"$f":"+'I M P R I M I R'!C695","v":0},{"$f":"+'I M P R I M I R'!D695","v":"EMAIL:"},{"$f":"+'I M P R I M I R'!E695","v":"<<<<>>>>NO COMPLETADO"},"2016-03-16",0,"465/16"]
[null,null,{"$f":"+'I M P R I M I R'!A696","v":"III.Q"},{"$f":"+'I M P R I M I R'!D$3","v":0},null,{"$f":"+'I M P R I M I R'!B696","v":0},{"$f":"+'I M P R I M I R'!C696","v":0},{"$f":"+'I M P R I M I R'!D696","v":"NROS DE ACCIONES/CUOTAS TITULAR:"},{"$f":"+'I M P R I M I R'!E696","v":"<<<<>>>>NO COMPLETADO"},"2016-03-16",0,"465/16"]
[null,null,{"$f":"+'I M P R I M I R'!A697","v":"III.%"},{"$f":"+'I M P R I M I R'!D$3","v":0},null,{"$f":"+'I M P R I M I R'!B697","v":0},{"$f":"+'I M P R I M I R'!C697","v":0},{"$f":"+'I M P R I M I R'!D697","v":"PARTICIPACIÓN S/CAPITAL (%):"},{"$f":"+'I M P R I M I R'!E697","v":"<<<<>>>>NO COMPLETADO"},"2016-03-16",0,"465/16"]
[null,null,{"$f":"+'I M P R I M I R'!A698","v":"III.CS"},{"$f":"+'I M P R I M I R'!D$3","v":0},null,{"$f":"+'I M P R I M I R'!B698","v":0},{"$f":"+'I M P R I M I R'!C698","v":0},{"$f":"+'I M P R I M I R'!D698","v":"CAPITAL SUSCRIPTO:"},{"$f":"+'I M P R I M I R'!E698","v":"<<<<>>>>NO COMPLETADO"},"2016-03-16",0,"465/16"]
[null,null,{"$f":"+'I M P R I M I R'!A699","v":"III.CI"},{"$f":"+'I M P R I M I R'!D$3","v":0},null,{"$f":"+'I M P R I M I R'!B699","v":0},{"$f":"+'I M P R I M I R'!C699","v":0},{"$f":"+'I M P R I M I R'!D699","v":"CAPITAL INTEGRADO:"},{"$f":"+'I M P R I M I R'!E699","v":"<<<<>>>>NO COMPLETADO"},"2016-03-16",0,"465/16"]
[null,null,{"$f":"+'I M P R I M I R'!A700","v":"III"},{"$f":"+'I M P R I M I R'!D$3","v":0},null,{"$f":"+'I M P R I M I R'!B700","v":0},{"$f":"+'I M P R I M I R'!C700","v":0},{"$f":"+'I M P R I M I R'!D700","v":"¿SOCIO/ACC. FUNDADOR? -SI/NO-:"},{"$f":"+'I M P R I M I R'!E700","v":"<<<<>>>>NO COMPLETADO"},"2016-03-16",0,"465/16"]
[null,null,{"$f":"+'I M P R I M I R'!A701","v":"III"},{"$f":"+'I M P R I M I R'!D$3","v":0},null,{"$f":"+'I M P R I M I R'!B701","v":0},{"$f":"+'I M P R I M I R'!C701","v":0},{"$f":"+'I M P R I M I R'!D701","v":"NOMBRE/S Y APLELLIDO/S DE QUIEN/ES ES CESIONARIO:"},{"$f":"+'I M P R I M I R'!E701","v":"<<<<>>>>NO COMPLETADO"},"2016-03-16",0,"465/16"]
[null,null,{"$f":"+'I M P R I M I R'!A702","v":"VII.B"},{"$f":"+'I M P R I M I R'!D$3","v":0},null,{"$f":"+'I M P R I M I R'!B702","v":0},{"$f":"+'I M P R I M I R'!C702","v":0},{"$f":"+'I M P R I M I R'!D702","v":"NOTA/OBSERVACIÓN."},{"$f":"+'I M P R I M I R'!E702","v":"<<<<>>>>NO COMPLETADO"},"2016-03-16",0,"465/16"]
[null,null,{"$f":"+'I M P R I M I R'!A703","v":"VII.B"},{"$f":"+'I M P R I M I R'!D$3","v":0},null,{"$f":"+'I M P R I M I R'!B703","v":0},{"$f":"+'I M P R I M I R'!C703","v":0},{"$f":"+'I M P R I M I R'!D703","v":"CUIT –sin puntos ni barras-:"},{"$f":"+'I M P R I M I R'!E703","v":"<<<<>>>>NO COMPLETADO"},"2016-03-16",0,"465/16"]
[null,null,{"$f":"+'I M P R I M I R'!A704","v":"VII.B"},{"$f":"+'I M P R I M I R'!D$3","v":0},null,{"$f":"+'I M P R I M I R'!B704","v":0},{"$f":"+'I M P R I M I R'!C704","v":0},{"$f":"+'I M P R I M I R'!D704","v":"TIPO DE PERSONA JCA -sociedad, asociación, mutual, etc-:"},{"$f":"+'I M P R I M I R'!E704","v":"<<<<>>>>NO COMPLETADO"},"2016-03-16",0,"465/16"]
[null,null,{"$f":"+'I M P R I M I R'!A705","v":"VII.B"},{"$f":"+'I M P R I M I R'!D$3","v":0},null,{"$f":"+'I M P R I M I R'!B705","v":0},{"$f":"+'I M P R I M I R'!C705","v":0},{"$f":"+'I M P R I M I R'!D705","v":"ORGANISMO /s DONDE SE INSCRIBIÓ CONSTITUCIÓN:"},{"$f":"+'I M P R I M I R'!E705","v":"<<<<>>>>NO COMPLETADO"},"2016-03-16",0,"465/16"]
[null,null,{"$f":"+'I M P R I M I R'!A706","v":"VII.B"},{"$f":"+'I M P R I M I R'!D$3","v":0},null,{"$f":"+'I M P R I M I R'!B706","v":0},{"$f":"+'I M P R I M I R'!C706","v":0},{"$f":"+'I M P R I M I R'!D706","v":"DATOS DE RESOLUCIÓN/OTROS INSCRIPCIÓN:"},{"$f":"+'I M P R I M I R'!E706","v":"<<<<>>>>NO COMPLETADO"},"2016-03-16",0,"465/16"]
[null,null,{"$f":"+'I M P R I M I R'!A707","v":"VII.B"},{"$f":"+'I M P R I M I R'!D$3","v":0},null,{"$f":"+'I M P R I M I R'!B707","v":0},{"$f":"+'I M P R I M I R'!C707","v":0},{"$f":"+'I M P R I M I R'!D707","v":"FECHA DE INSCRIPCIÓN:"},{"$f":"+'I M P R I M I R'!E707","v":"<<<<>>>>NO COMPLETADO"},"2016-03-16",0,"465/16"]
[null,null,{"$f":"+'I M P R I M I R'!A708","v":"VII.B"},{"$f":"+'I M P R I M I R'!D$3","v":0},null,{"$f":"+'I M P R I M I R'!B708","v":0},{"$f":"+'I M P R I M I R'!C708","v":0},{"$f":"+'I M P R I M I R'!D708","v":"LUGAR DE INSCRIPCIÓN:"},{"$f":"+'I M P R I M I R'!E708","v":"<<<<>>>>NO COMPLETADO"},"2016-03-16",0,"465/16"]
[null,null,{"$f":"+'I M P R I M I R'!A709","v":"VII.B"},{"$f":"+'I M P R I M I R'!D$3","v":0},null,{"$f":"+'I M P R I M I R'!B709","v":0},{"$f":"+'I M P R I M I R'!C709","v":0},{"$f":"+'I M P R I M I R'!D709","v":"DOMICILIOS SOCIAL:"},{"$f":"+'I M P R I M I R'!E709","v":"<<<<>>>>NO COMPLETADO"},"2016-03-16",0,"465/16"]
[null,null,{"$f":"+'I M P R I M I R'!A710","v":"VII.B"},{"$f":"+'I M P R I M I R'!D$3","v":0},null,{"$f":"+'I M P R I M I R'!B710","v":0},{"$f":"+'I M P R I M I R'!C710","v":0},{"$f":"+'I M P R I M I R'!D710","v":"SEDE SOCIAL:"},{"$f":"+'I M P R I M I R'!E710","v":"<<<<>>>>NO COMPLETADO"},"2016-03-16",0,"465/16"]
[null,null,{"$f":"+'I M P R I M I R'!A711","v":"VII.B"},{"$f":"+'I M P R I M I R'!D$3","v":0},null,{"$f":"+'I M P R I M I R'!B711","v":0},{"$f":"+'I M P R I M I R'!C711","v":0},{"$f":"+'I M P R I M I R'!D711","v":"TEL/CEL –sin puntos ni barras-:"},{"$f":"+'I M P R I M I R'!E711","v":"<<<<>>>>NO COMPLETADO"},"2016-03-16",0,"465/16"]
[null,null,{"$f":"+'I M P R I M I R'!A712","v":"VII.B"},{"$f":"+'I M P R I M I R'!D$3","v":0},null,{"$f":"+'I M P R I M I R'!B712","v":0},{"$f":"+'I M P R I M I R'!C712","v":0},{"$f":"+'I M P R I M I R'!D712","v":"EMAIL:"},{"$f":"+'I M P R I M I R'!E712","v":"<<<<>>>>NO COMPLETADO"},{"$f":"+H$2","v":"2016-03-16"},{"$f":"H$4","v":0},{"$f":"+H$3","v":"465/16"}]
[null,null,{"$f":"+'I M P R I M I R'!A713","v":"III.Q"},{"$f":"+'I M P R I M I R'!D$3","v":0},null,{"$f":"+'I M P R I M I R'!B713","v":0},{"$f":"+'I M P R I M I R'!C713","v":0},{"$f":"+'I M P R I M I R'!D713","v":"NROS DE ACCIONES/CUOTAS TITULAR:"},{"$f":"+'I M P R I M I R'!E713","v":"<<<<>>>>NO COMPLETADO"},"2016-03-16",0,"465/16"]
[null,null,{"$f":"+'I M P R I M I R'!A714","v":"III.%"},{"$f":"+'I M P R I M I R'!D$3","v":0},null,{"$f":"+'I M P R I M I R'!B714","v":0},{"$f":"+'I M P R I M I R'!C714","v":0},{"$f":"+'I M P R I M I R'!D714","v":"PARTICIPACIÓN S/CAPITAL (%):"},{"$f":"+'I M P R I M I R'!E714","v":"<<<<>>>>NO COMPLETADO"},"2016-03-16",0,"465/16"]
[null,null,{"$f":"+'I M P R I M I R'!A715","v":"III.CS"},{"$f":"+'I M P R I M I R'!D$3","v":0},null,{"$f":"+'I M P R I M I R'!B715","v":0},{"$f":"+'I M P R I M I R'!C715","v":0},{"$f":"+'I M P R I M I R'!D715","v":"CAPITAL SUSCRIPTO:"},{"$f":"+'I M P R I M I R'!E715","v":"<<<<>>>>NO COMPLETADO"},"2016-03-16",0,"465/16"]
[null,null,{"$f":"+'I M P R I M I R'!A716","v":"III.CI"},{"$f":"+'I M P R I M I R'!D$3","v":0},null,{"$f":"+'I M P R I M I R'!B716","v":0},{"$f":"+'I M P R I M I R'!C716","v":0},{"$f":"+'I M P R I M I R'!D716","v":"CAPITAL INTEGRADO:"},{"$f":"+'I M P R I M I R'!E716","v":"<<<<>>>>NO COMPLETADO"},"2016-03-16",0,"465/16"]
[null,null,{"$f":"+'I M P R I M I R'!A717","v":"III"},{"$f":"+'I M P R I M I R'!D$3","v":0},null,{"$f":"+'I M P R I M I R'!B717","v":0},{"$f":"+'I M P R I M I R'!C717","v":0},{"$f":"+'I M P R I M I R'!D717","v":"¿SOCIO/ACC. FUNDADOR? -SI/NO-:"},{"$f":"+'I M P R I M I R'!E717","v":"<<<<>>>>NO COMPLETADO"},"2016-03-16",0,"465/16"]
[null,null,{"$f":"+'I M P R I M I R'!A718","v":"III"},{"$f":"+'I M P R I M I R'!D$3","v":0},null,{"$f":"+'I M P R I M I R'!B718","v":0},{"$f":"+'I M P R I M I R'!C718","v":0},{"$f":"+'I M P R I M I R'!D718","v":"NOMBRE/S Y APLELLIDO/S DE QUIEN/ES ES CESIONARIO:"},{"$f":"+'I M P R I M I R'!E718","v":"<<<<>>>>NO COMPLETADO"},"2016-03-16",0,"465/16"]
[null,null,{"$f":"+'I M P R I M I R'!A719","v":"VII.B"},{"$f":"+'I M P R I M I R'!D$3","v":0},null,{"$f":"+'I M P R I M I R'!B719","v":0},{"$f":"+'I M P R I M I R'!C719","v":0},{"$f":"+'I M P R I M I R'!D719","v":"NOTA/OBSERVACIÓN."},{"$f":"+'I M P R I M I R'!E719","v":"<<<<>>>>NO COMPLETADO"},"2016-03-16",0,"465/16"]
[null,null,{"$f":"+'I M P R I M I R'!A720","v":"VII.B"},{"$f":"+'I M P R I M I R'!D$3","v":0},null,{"$f":"+'I M P R I M I R'!B720","v":0},{"$f":"+'I M P R I M I R'!C720","v":0},{"$f":"+'I M P R I M I R'!D720","v":"CUIT –sin puntos ni barras-:"},{"$f":"+'I M P R I M I R'!E720","v":"<<<<>>>>NO COMPLETADO"},"2016-03-16",0,"465/16"]
[null,null,{"$f":"+'I M P R I M I R'!A721","v":"VII.B"},{"$f":"+'I M P R I M I R'!D$3","v":0},null,{"$f":"+'I M P R I M I R'!B721","v":0},{"$f":"+'I M P R I M I R'!C721","v":0},{"$f":"+'I M P R I M I R'!D721","v":"TIPO DE PERSONA JCA -sociedad, asociación, mutual, etc-:"},{"$f":"+'I M P R I M I R'!E721","v":"<<<<>>>>NO COMPLETADO"},"2016-03-16",0,"465/16"]
[null,null,{"$f":"+'I M P R I M I R'!A722","v":"VII.B"},{"$f":"+'I M P R I M I R'!D$3","v":0},null,{"$f":"+'I M P R I M I R'!B722","v":0},{"$f":"+'I M P R I M I R'!C722","v":0},{"$f":"+'I M P R I M I R'!D722","v":"ORGANISMO /s DONDE SE INSCRIBIÓ CONSTITUCIÓN:"},{"$f":"+'I M P R I M I R'!E722","v":"<<<<>>>>NO COMPLETADO"},"2016-03-16",0,"465/16"]
[null,null,{"$f":"+'I M P R I M I R'!A723","v":"VII.B"},{"$f":"+'I M P R I M I R'!D$3","v":0},null,{"$f":"+'I M P R I M I R'!B723","v":0},{"$f":"+'I M P R I M I R'!C723","v":0},{"$f":"+'I M P R I M I R'!D723","v":"DATOS DE RESOLUCIÓN/OTROS INSCRIPCIÓN:"},{"$f":"+'I M P R I M I R'!E723","v":"<<<<>>>>NO COMPLETADO"},"2016-03-16",0,"465/16"]
[null,null,{"$f":"+'I M P R I M I R'!A724","v":"VII.B"},{"$f":"+'I M P R I M I R'!D$3","v":0},null,{"$f":"+'I M P R I M I R'!B724","v":0},{"$f":"+'I M P R I M I R'!C724","v":0},{"$f":"+'I M P R I M I R'!D724","v":"FECHA DE INSCRIPCIÓN:"},{"$f":"+'I M P R I M I R'!E724","v":"<<<<>>>>NO COMPLETADO"},"2016-03-16",0,"465/16"]
[null,null,{"$f":"+'I M P R I M I R'!A725","v":"VII.B"},{"$f":"+'I M P R I M I R'!D$3","v":0},null,{"$f":"+'I M P R I M I R'!B725","v":0},{"$f":"+'I M P R I M I R'!C725","v":0},{"$f":"+'I M P R I M I R'!D725","v":"LUGAR DE INSCRIPCIÓN:"},{"$f":"+'I M P R I M I R'!E725","v":"<<<<>>>>NO COMPLETADO"},"2016-03-16",0,"465/16"]
[null,null,{"$f":"+'I M P R I M I R'!A726","v":"VII.B"},{"$f":"+'I M P R I M I R'!D$3","v":0},null,{"$f":"+'I M P R I M I R'!B726","v":0},{"$f":"+'I M P R I M I R'!C726","v":0},{"$f":"+'I M P R I M I R'!D726","v":"DOMICILIOS SOCIAL:"},{"$f":"+'I M P R I M I R'!E726","v":"<<<<>>>>NO COMPLETADO"},"2016-03-16",0,"465/16"]
[null,null,{"$f":"+'I M P R I M I R'!A727","v":"VII.B"},{"$f":"+'I M P R I M I R'!D$3","v":0},null,{"$f":"+'I M P R I M I R'!B727","v":0},{"$f":"+'I M P R I M I R'!C727","v":0},{"$f":"+'I M P R I M I R'!D727","v":"SEDE SOCIAL:"},{"$f":"+'I M P R I M I R'!E727","v":"<<<<>>>>NO COMPLETADO"},"2016-03-16",0,"465/16"]
[null,null,{"$f":"+'I M P R I M I R'!A728","v":"VII.B"},{"$f":"+'I M P R I M I R'!D$3","v":0},null,{"$f":"+'I M P R I M I R'!B728","v":0},{"$f":"+'I M P R I M I R'!C728","v":0},{"$f":"+'I M P R I M I R'!D728","v":"TEL/CEL –sin puntos ni barras-:"},{"$f":"+'I M P R I M I R'!E728","v":"<<<<>>>>NO COMPLETADO"},"2016-03-16",0,"465/16"]
[null,null,{"$f":"+'I M P R I M I R'!A729","v":"VII.B"},{"$f":"+'I M P R I M I R'!D$3","v":0},null,{"$f":"+'I M P R I M I R'!B729","v":0},{"$f":"+'I M P R I M I R'!C729","v":0},{"$f":"+'I M P R I M I R'!D729","v":"EMAIL:"},{"$f":"+'I M P R I M I R'!E729","v":"<<<<>>>>NO COMPLETADO"},"2016-03-16",0,"465/16"]
[null,null,{"$f":"+'I M P R I M I R'!A730","v":"III.Q"},{"$f":"+'I M P R I M I R'!D$3","v":0},null,{"$f":"+'I M P R I M I R'!B730","v":0},{"$f":"+'I M P R I M I R'!C730","v":0},{"$f":"+'I M P R I M I R'!D730","v":"NROS DE ACCIONES/CUOTAS TITULAR:"},{"$f":"+'I M P R I M I R'!E730","v":"<<<<>>>>NO COMPLETADO"},"2016-03-16",0,"465/16"]
[null,null,{"$f":"+'I M P R I M I R'!A731","v":"III.%"},{"$f":"+'I M P R I M I R'!D$3","v":0},null,{"$f":"+'I M P R I M I R'!B731","v":0},{"$f":"+'I M P R I M I R'!C731","v":0},{"$f":"+'I M P R I M I R'!D731","v":"PARTICIPACIÓN S/CAPITAL (%):"},{"$f":"+'I M P R I M I R'!E731","v":"<<<<>>>>NO COMPLETADO"},"2016-03-16",0,"465/16"]
[null,null,{"$f":"+'I M P R I M I R'!A732","v":"III.CS"},{"$f":"+'I M P R I M I R'!D$3","v":0},null,{"$f":"+'I M P R I M I R'!B732","v":0},{"$f":"+'I M P R I M I R'!C732","v":0},{"$f":"+'I M P R I M I R'!D732","v":"CAPITAL SUSCRIPTO:"},{"$f":"+'I M P R I M I R'!E732","v":"<<<<>>>>NO COMPLETADO"},"2016-03-16",0,"465/16"]
[null,null,{"$f":"+'I M P R I M I R'!A733","v":"III.CI"},{"$f":"+'I M P R I M I R'!D$3","v":0},null,{"$f":"+'I M P R I M I R'!B733","v":0},{"$f":"+'I M P R I M I R'!C733","v":0},{"$f":"+'I M P R I M I R'!D733","v":"CAPITAL INTEGRADO:"},{"$f":"+'I M P R I M I R'!E733","v":"<<<<>>>>NO COMPLETADO"},"2016-03-16",0,"465/16"]
[null,null,{"$f":"+'I M P R I M I R'!A734","v":"III"},{"$f":"+'I M P R I M I R'!D$3","v":0},null,{"$f":"+'I M P R I M I R'!B734","v":0},{"$f":"+'I M P R I M I R'!C734","v":0},{"$f":"+'I M P R I M I R'!D734","v":"¿SOCIO/ACC. FUNDADOR? -SI/NO-:"},{"$f":"+'I M P R I M I R'!E734","v":"<<<<>>>>NO COMPLETADO"},"2016-03-16",0,"465/16"]
[null,null,{"$f":"+'I M P R I M I R'!A735","v":"III"},{"$f":"+'I M P R I M I R'!D$3","v":0},null,{"$f":"+'I M P R I M I R'!B735","v":0},{"$f":"+'I M P R I M I R'!C735","v":0},{"$f":"+'I M P R I M I R'!D735","v":"NOMBRE/S Y APLELLIDO/S DE QUIEN/ES ES CESIONARIO:"},{"$f":"+'I M P R I M I R'!E735","v":"<<<<>>>>NO COMPLETADO"},"2016-03-16",0,"465/16"]
[null,null,{"$f":"+'I M P R I M I R'!A736","v":"VII.B"},{"$f":"+'I M P R I M I R'!D$3","v":0},null,{"$f":"+'I M P R I M I R'!B736","v":0},{"$f":"+'I M P R I M I R'!C736","v":0},{"$f":"+'I M P R I M I R'!D736","v":"NOTA/OBSERVACIÓN."},{"$f":"+'I M P R I M I R'!E736","v":"<<<<>>>>NO COMPLETADO"},"2016-03-16",0,"465/16"]
[null,null,{"$f":"+'I M P R I M I R'!A737","v":"VII.B"},{"$f":"+'I M P R I M I R'!D$3","v":0},null,{"$f":"+'I M P R I M I R'!B737","v":0},{"$f":"+'I M P R I M I R'!C737","v":0},{"$f":"+'I M P R I M I R'!D737","v":"CUIT –sin puntos ni barras-:"},{"$f":"+'I M P R I M I R'!E737","v":"<<<<>>>>NO COMPLETADO"},"2016-03-16",0,"465/16"]
[null,null,{"$f":"+'I M P R I M I R'!A738","v":"VII.B"},{"$f":"+'I M P R I M I R'!D$3","v":0},null,{"$f":"+'I M P R I M I R'!B738","v":0},{"$f":"+'I M P R I M I R'!C738","v":0},{"$f":"+'I M P R I M I R'!D738","v":"TIPO DE PERSONA JCA -sociedad, asociación, mutual, etc-:"},{"$f":"+'I M P R I M I R'!E738","v":"<<<<>>>>NO COMPLETADO"},"2016-03-16",0,"465/16"]
[null,null,{"$f":"+'I M P R I M I R'!A739","v":"VII.B"},{"$f":"+'I M P R I M I R'!D$3","v":0},null,{"$f":"+'I M P R I M I R'!B739","v":0},{"$f":"+'I M P R I M I R'!C739","v":0},{"$f":"+'I M P R I M I R'!D739","v":"ORGANISMO /s DONDE SE INSCRIBIÓ CONSTITUCIÓN:"},{"$f":"+'I M P R I M I R'!E739","v":"<<<<>>>>NO COMPLETADO"},"2016-03-16",0,"465/16"]
[null,null,{"$f":"+'I M P R I M I R'!A740","v":"VII.B"},{"$f":"+'I M P R I M I R'!D$3","v":0},null,{"$f":"+'I M P R I M I R'!B740","v":0},{"$f":"+'I M P R I M I R'!C740","v":0},{"$f":"+'I M P R I M I R'!D740","v":"DATOS DE RESOLUCIÓN/OTROS INSCRIPCIÓN:"},{"$f":"+'I M P R I M I R'!E740","v":"<<<<>>>>NO COMPLETADO"},"2016-03-16",0,"465/16"]
[null,null,{"$f":"+'I M P R I M I R'!A741","v":"VII.B"},{"$f":"+'I M P R I M I R'!D$3","v":0},null,{"$f":"+'I M P R I M I R'!B741","v":0},{"$f":"+'I M P R I M I R'!C741","v":0},{"$f":"+'I M P R I M I R'!D741","v":"FECHA DE INSCRIPCIÓN:"},{"$f":"+'I M P R I M I R'!E741","v":"<<<<>>>>NO COMPLETADO"},"2016-03-16",0,"465/16"]
[null,null,{"$f":"+'I M P R I M I R'!A742","v":"VII.B"},{"$f":"+'I M P R I M I R'!D$3","v":0},null,{"$f":"+'I M P R I M I R'!B742","v":0},{"$f":"+'I M P R I M I R'!C742","v":0},{"$f":"+'I M P R I M I R'!D742","v":"LUGAR DE INSCRIPCIÓN:"},{"$f":"+'I M P R I M I R'!E742","v":"<<<<>>>>NO COMPLETADO"},"2016-03-16",0,"465/16"]
[null,null,{"$f":"+'I M P R I M I R'!A743","v":"VII.B"},{"$f":"+'I M P R I M I R'!D$3","v":0},null,{"$f":"+'I M P R I M I R'!B743","v":0},{"$f":"+'I M P R I M I R'!C743","v":0},{"$f":"+'I M P R I M I R'!D743","v":"DOMICILIOS SOCIAL:"},{"$f":"+'I M P R I M I R'!E743","v":"<<<<>>>>NO COMPLETADO"},"2016-03-16",0,"465/16"]
[null,null,{"$f":"+'I M P R I M I R'!A744","v":"VII.B"},{"$f":"+'I M P R I M I R'!D$3","v":0},null,{"$f":"+'I M P R I M I R'!B744","v":0},{"$f":"+'I M P R I M I R'!C744","v":0},{"$f":"+'I M P R I M I R'!D744","v":"SEDE SOCIAL:"},{"$f":"+'I M P R I M I R'!E744","v":"<<<<>>>>NO COMPLETADO"},"2016-03-16",0,"465/16"]
[null,null,{"$f":"+'I M P R I M I R'!A745","v":"VII.B"},{"$f":"+'I M P R I M I R'!D$3","v":0},null,{"$f":"+'I M P R I M I R'!B745","v":0},{"$f":"+'I M P R I M I R'!C745","v":0},{"$f":"+'I M P R I M I R'!D745","v":"TEL/CEL –sin puntos ni barras-:"},{"$f":"+'I M P R I M I R'!E745","v":"<<<<>>>>NO COMPLETADO"},"2016-03-16",0,"465/16"]
[null,null,{"$f":"+'I M P R I M I R'!A746","v":"VII.B"},{"$f":"+'I M P R I M I R'!D$3","v":0},null,{"$f":"+'I M P R I M I R'!B746","v":0},{"$f":"+'I M P R I M I R'!C746","v":0},{"$f":"+'I M P R I M I R'!D746","v":"EMAIL:"},{"$f":"+'I M P R I M I R'!E746","v":"<<<<>>>>NO COMPLETADO"},"2016-03-16",0,"465/16"]
[null,null,{"$f":"+'I M P R I M I R'!A747","v":"III.Q"},{"$f":"+'I M P R I M I R'!D$3","v":0},null,{"$f":"+'I M P R I M I R'!B747","v":0},{"$f":"+'I M P R I M I R'!C747","v":0},{"$f":"+'I M P R I M I R'!D747","v":"NROS DE ACCIONES/CUOTAS TITULAR:"},{"$f":"+'I M P R I M I R'!E747","v":"<<<<>>>>NO COMPLETADO"},"2016-03-16",0,"465/16"]
[null,null,{"$f":"+'I M P R I M I R'!A748","v":"III.%"},{"$f":"+'I M P R I M I R'!D$3","v":0},null,{"$f":"+'I M P R I M I R'!B748","v":0},{"$f":"+'I M P R I M I R'!C748","v":0},{"$f":"+'I M P R I M I R'!D748","v":"PARTICIPACIÓN S/CAPITAL (%):"},{"$f":"+'I M P R I M I R'!E748","v":"<<<<>>>>NO COMPLETADO"},"2016-03-16",0,"465/16"]
[null,null,{"$f":"+'I M P R I M I R'!A749","v":"III.CS"},{"$f":"+'I M P R I M I R'!D$3","v":0},null,{"$f":"+'I M P R I M I R'!B749","v":0},{"$f":"+'I M P R I M I R'!C749","v":0},{"$f":"+'I M P R I M I R'!D749","v":"CAPITAL SUSCRIPTO:"},{"$f":"+'I M P R I M I R'!E749","v":"<<<<>>>>NO COMPLETADO"},"2016-03-16",0,"465/16"]
[null,null,{"$f":"+'I M P R I M I R'!A750","v":"III.CI"},{"$f":"+'I M P R I M I R'!D$3","v":0},null,{"$f":"+'I M P R I M I R'!B750","v":0},{"$f":"+'I M P R I M I R'!C750","v":0},{"$f":"+'I M P R I M I R'!D750","v":"CAPITAL INTEGRADO:"},{"$f":"+'I M P R I M I R'!E750","v":"<<<<>>>>NO COMPLETADO"},"2016-03-16",0,"465/16"]
[null,null,{"$f":"+'I M P R I M I R'!A751","v":"III"},{"$f":"+'I M P R I M I R'!D$3","v":0},null,{"$f":"+'I M P R I M I R'!B751","v":0},{"$f":"+'I M P R I M I R'!C751","v":0},{"$f":"+'I M P R I M I R'!D751","v":"¿SOCIO/ACC. FUNDADOR? -SI/NO-:"},{"$f":"+'I M P R I M I R'!E751","v":"<<<<>>>>NO COMPLETADO"},"2016-03-16",0,"465/16"]
[null,null,{"$f":"+'I M P R I M I R'!A752","v":"III"},{"$f":"+'I M P R I M I R'!D$3","v":0},null,{"$f":"+'I M P R I M I R'!B752","v":0},{"$f":"+'I M P R I M I R'!C752","v":0},{"$f":"+'I M P R I M I R'!D752","v":"NOMBRE/S Y APLELLIDO/S DE QUIEN/ES ES CESIONARIO:"},{"$f":"+'I M P R I M I R'!E752","v":"<<<<>>>>NO COMPLETADO"},"2016-03-16",0,"465/16"]
[null,null,{"$f":"+'I M P R I M I R'!A753","v":"VII.B"},{"$f":"+'I M P R I M I R'!D$3","v":0},null,{"$f":"+'I M P R I M I R'!B753","v":0},{"$f":"+'I M P R I M I R'!C753","v":0},{"$f":"+'I M P R I M I R'!D753","v":"NOTA/OBSERVACIÓN."},{"$f":"+'I M P R I M I R'!E753","v":"<<<<>>>>NO COMPLETADO"},"2016-03-16",0,"465/16"]
[null,null,{"$f":"+'I M P R I M I R'!A754","v":"VII.B"},{"$f":"+'I M P R I M I R'!D$3","v":0},null,{"$f":"+'I M P R I M I R'!B754","v":0},{"$f":"+'I M P R I M I R'!C754","v":0},{"$f":"+'I M P R I M I R'!D754","v":"CUIT –sin puntos ni barras-:"},{"$f":"+'I M P R I M I R'!E754","v":"<<<<>>>>NO COMPLETADO"},"2016-03-16",0,"465/16"]
[null,null,{"$f":"+'I M P R I M I R'!A755","v":"VII.B"},{"$f":"+'I M P R I M I R'!D$3","v":0},null,{"$f":"+'I M P R I M I R'!B755","v":0},{"$f":"+'I M P R I M I R'!C755","v":0},{"$f":"+'I M P R I M I R'!D755","v":"TIPO DE PERSONA JCA -sociedad, asociación, mutual, etc-:"},{"$f":"+'I M P R I M I R'!E755","v":"<<<<>>>>NO COMPLETADO"},"2016-03-16",0,"465/16"]
[null,null,{"$f":"+'I M P R I M I R'!A756","v":"VII.B"},{"$f":"+'I M P R I M I R'!D$3","v":0},null,{"$f":"+'I M P R I M I R'!B756","v":0},{"$f":"+'I M P R I M I R'!C756","v":0},{"$f":"+'I M P R I M I R'!D756","v":"ORGANISMO /s DONDE SE INSCRIBIÓ CONSTITUCIÓN:"},{"$f":"+'I M P R I M I R'!E756","v":"<<<<>>>>NO COMPLETADO"},"2016-03-16",0,"465/16"]
[null,null,{"$f":"+'I M P R I M I R'!A757","v":"VII.B"},{"$f":"+'I M P R I M I R'!D$3","v":0},null,{"$f":"+'I M P R I M I R'!B757","v":0},{"$f":"+'I M P R I M I R'!C757","v":0},{"$f":"+'I M P R I M I R'!D757","v":"DATOS DE RESOLUCIÓN/OTROS INSCRIPCIÓN:"},{"$f":"+'I M P R I M I R'!E757","v":"<<<<>>>>NO COMPLETADO"},"2016-03-16",0,"465/16"]
[null,null,{"$f":"+'I M P R I M I R'!A758","v":"VII.B"},{"$f":"+'I M P R I M I R'!D$3","v":0},null,{"$f":"+'I M P R I M I R'!B758","v":0},{"$f":"+'I M P R I M I R'!C758","v":0},{"$f":"+'I M P R I M I R'!D758","v":"FECHA DE INSCRIPCIÓN:"},{"$f":"+'I M P R I M I R'!E758","v":"<<<<>>>>NO COMPLETADO"},"2016-03-16",0,"465/16"]
[null,null,{"$f":"+'I M P R I M I R'!A759","v":"VII.B"},{"$f":"+'I M P R I M I R'!D$3","v":0},null,{"$f":"+'I M P R I M I R'!B759","v":0},{"$f":"+'I M P R I M I R'!C759","v":0},{"$f":"+'I M P R I M I R'!D759","v":"LUGAR DE INSCRIPCIÓN:"},{"$f":"+'I M P R I M I R'!E759","v":"<<<<>>>>NO COMPLETADO"},"2016-03-16",0,"465/16"]
[null,null,{"$f":"+'I M P R I M I R'!A760","v":"VII.B"},{"$f":"+'I M P R I M I R'!D$3","v":0},null,{"$f":"+'I M P R I M I R'!B760","v":0},{"$f":"+'I M P R I M I R'!C760","v":0},{"$f":"+'I M P R I M I R'!D760","v":"DOMICILIOS SOCIAL:"},{"$f":"+'I M P R I M I R'!E760","v":"<<<<>>>>NO COMPLETADO"},"2016-03-16",0,"465/16"]
[null,null,{"$f":"+'I M P R I M I R'!A761","v":"VII.B"},{"$f":"+'I M P R I M I R'!D$3","v":0},null,{"$f":"+'I M P R I M I R'!B761","v":0},{"$f":"+'I M P R I M I R'!C761","v":0},{"$f":"+'I M P R I M I R'!D761","v":"SEDE SOCIAL:"},{"$f":"+'I M P R I M I R'!E761","v":"<<<<>>>>NO COMPLETADO"},"2016-03-16",0,"465/16"]
[null,null,{"$f":"+'I M P R I M I R'!A762","v":"VII.B"},{"$f":"+'I M P R I M I R'!D$3","v":0},null,{"$f":"+'I M P R I M I R'!B762","v":0},{"$f":"+'I M P R I M I R'!C762","v":0},{"$f":"+'I M P R I M I R'!D762","v":"TEL/CEL –sin puntos ni barras-:"},{"$f":"+'I M P R I M I R'!E762","v":"<<<<>>>>NO COMPLETADO"},"2016-03-16",0,"465/16"]
[null,null,{"$f":"+'I M P R I M I R'!A763","v":"VII.B"},{"$f":"+'I M P R I M I R'!D$3","v":0},null,{"$f":"+'I M P R I M I R'!B763","v":0},{"$f":"+'I M P R I M I R'!C763","v":0},{"$f":"+'I M P R I M I R'!D763","v":"EMAIL:"},{"$f":"+'I M P R I M I R'!E763","v":"<<<<>>>>NO COMPLETADO"},"2016-03-16",0,"465/16"]
[null,null,{"$f":"+'I M P R I M I R'!A764","v":"III.Q"},{"$f":"+'I M P R I M I R'!D$3","v":0},null,{"$f":"+'I M P R I M I R'!B764","v":0},{"$f":"+'I M P R I M I R'!C764","v":0},{"$f":"+'I M P R I M I R'!D764","v":"NROS DE ACCIONES/CUOTAS TITULAR:"},{"$f":"+'I M P R I M I R'!E764","v":"<<<<>>>>NO COMPLETADO"},"2016-03-16",0,"465/16"]
[null,null,{"$f":"+'I M P R I M I R'!A765","v":"III.%"},{"$f":"+'I M P R I M I R'!D$3","v":0},null,{"$f":"+'I M P R I M I R'!B765","v":0},{"$f":"+'I M P R I M I R'!C765","v":0},{"$f":"+'I M P R I M I R'!D765","v":"PARTICIPACIÓN S/CAPITAL (%):"},{"$f":"+'I M P R I M I R'!E765","v":"<<<<>>>>NO COMPLETADO"},"2016-03-16",0,"465/16"]
[null,null,{"$f":"+'I M P R I M I R'!A766","v":"III.CS"},{"$f":"+'I M P R I M I R'!D$3","v":0},null,{"$f":"+'I M P R I M I R'!B766","v":0},{"$f":"+'I M P R I M I R'!C766","v":0},{"$f":"+'I M P R I M I R'!D766","v":"CAPITAL SUSCRIPTO:"},{"$f":"+'I M P R I M I R'!E766","v":"<<<<>>>>NO COMPLETADO"},"2016-03-16",0,"465/16"]
[null,null,{"$f":"+'I M P R I M I R'!A767","v":"III.CI"},{"$f":"+'I M P R I M I R'!D$3","v":0},null,{"$f":"+'I M P R I M I R'!B767","v":0},{"$f":"+'I M P R I M I R'!C767","v":0},{"$f":"+'I M P R I M I R'!D767","v":"CAPITAL INTEGRADO:"},{"$f":"+'I M P R I M I R'!E767","v":"<<<<>>>>NO COMPLETADO"},"2016-03-16",0,"465/16"]
[null,null,{"$f":"+'I M P R I M I R'!A768","v":"III"},{"$f":"+'I M P R I M I R'!D$3","v":0},null,{"$f":"+'I M P R I M I R'!B768","v":0},{"$f":"+'I M P R I M I R'!C768","v":0},{"$f":"+'I M P R I M I R'!D768","v":"¿SOCIO/ACC. FUNDADOR? -SI/NO-:"},{"$f":"+'I M P R I M I R'!E768","v":"<<<<>>>>NO COMPLETADO"},"2016-03-16",0,"465/16"]
[null,null,{"$f":"+'I M P R I M I R'!A769","v":"III"},{"$f":"+'I M P R I M I R'!D$3","v":0},null,{"$f":"+'I M P R I M I R'!B769","v":0},{"$f":"+'I M P R I M I R'!C769","v":0},{"$f":"+'I M P R I M I R'!D769","v":"NOMBRE/S Y APLELLIDO/S DE QUIEN/ES ES CESIONARIO:"},{"$f":"+'I M P R I M I R'!E769","v":"<<<<>>>>NO COMPLETADO"},"2016-03-16",0,"465/16"]
[null,null,{"$f":"+'I M P R I M I R'!A770","v":"VII.B"},{"$f":"+'I M P R I M I R'!D$3","v":0},null,{"$f":"+'I M P R I M I R'!B770","v":0},{"$f":"+'I M P R I M I R'!C770","v":0},{"$f":"+'I M P R I M I R'!D770","v":"NOTA/OBSERVACIÓN."},{"$f":"+'I M P R I M I R'!E770","v":"<<<<>>>>NO COMPLETADO"},"2016-03-16",0,"465/16"]